BEGIN:VCALENDAR
VERSION:2.0
PRODID:https://www.kufer.de/kuferweb / DE
METHOD:PUBLISH
CALSCALE:GREGORIAN
X-WR-TIMEZONE:Europe/Berlin
BEGIN:VTIMEZONE
TZID:Europe/Berlin
X-LIC-LOCATION:Europe/Berlin
BEGIN:DAYLIGHT
TZOFFSETFROM:+0100
TZOFFSETTO:+0200
TZNAME:CEST
DTSTART:19700329T020000
RRULE:FREQ=YEARLY;INTERVAL=1;BYDAY=-1SU;BYMONTH=3
END:DAYLIGHT
BEGIN:STANDARD
TZOFFSETFROM:+0200
TZOFFSETTO:+0100
TZNAME:CET
DTSTART:19701025T030000
RRULE:FREQ=YEARLY;INTERVAL=1;BYDAY=-1SU;BYMONTH=10
END:STANDARD
END:VTIMEZONE
BEGIN:VEVENT
DTSTAMP:20260424T212610
DTSTART;TZID=Europe/Berlin:20251105T161500
DTEND;TZID=Europe/Berlin:20251105T170000
UID:252-7MF201-20251105T161500@VHSOVERATH/RÖSRATH
SUMMARY:MF - Musikwiese Rösrath (252-7MF201) 
LOCATION:Freiherr-vom-Stein-Schulzentrum, MZR Musikschule, Freiherr-vom-Stein-Str.15, 51503 Rösrath
END:VEVENT
BEGIN:VEVENT
DTSTAMP:20260424T212610
DTSTART;TZID=Europe/Berlin:20251112T161500
DTEND;TZID=Europe/Berlin:20251112T170000
UID:252-7MF201-20251112T161500@VHSOVERATH/RÖSRATH
SUMMARY:MF - Musikwiese Rösrath (252-7MF201) 
LOCATION:Freiherr-vom-Stein-Schulzentrum, MZR Musikschule, Freiherr-vom-Stein-Str.15, 51503 Rösrath
END:VEVENT
BEGIN:VEVENT
DTSTAMP:20260424T212610
DTSTART;TZID=Europe/Berlin:20251119T161500
DTEND;TZID=Europe/Berlin:20251119T170000
UID:252-7MF201-20251119T161500@VHSOVERATH/RÖSRATH
SUMMARY:MF - Musikwiese Rösrath (252-7MF201) 
LOCATION:Freiherr-vom-Stein-Schulzentrum, MZR Musikschule, Freiherr-vom-Stein-Str.15, 51503 Rösrath
END:VEVENT
BEGIN:VEVENT
DTSTAMP:20260424T212610
DTSTART;TZID=Europe/Berlin:20251126T161500
DTEND;TZID=Europe/Berlin:20251126T170000
UID:252-7MF201-20251126T161500@VHSOVERATH/RÖSRATH
SUMMARY:MF - Musikwiese Rösrath (252-7MF201) 
LOCATION:Freiherr-vom-Stein-Schulzentrum, MZR Musikschule, Freiherr-vom-Stein-Str.15, 51503 Rösrath
END:VEVENT
BEGIN:VEVENT
DTSTAMP:20260424T212610
DTSTART;TZID=Europe/Berlin:20251203T161500
DTEND;TZID=Europe/Berlin:20251203T170000
UID:252-7MF201-20251203T161500@VHSOVERATH/RÖSRATH
SUMMARY:MF - Musikwiese Rösrath (252-7MF201) 
LOCATION:Freiherr-vom-Stein-Schulzentrum, MZR Musikschule, Freiherr-vom-Stein-Str.15, 51503 Rösrath
END:VEVENT
BEGIN:VEVENT
DTSTAMP:20260424T212610
DTSTART;TZID=Europe/Berlin:20251210T161500
DTEND;TZID=Europe/Berlin:20251210T170000
UID:252-7MF201-20251210T161500@VHSOVERATH/RÖSRATH
SUMMARY:MF - Musikwiese Rösrath (252-7MF201) 
LOCATION:Freiherr-vom-Stein-Schulzentrum, MZR Musikschule, Freiherr-vom-Stein-Str.15, 51503 Rösrath
END:VEVENT
BEGIN:VEVENT
DTSTAMP:20260424T212610
DTSTART;TZID=Europe/Berlin:20251217T161500
DTEND;TZID=Europe/Berlin:20251217T170000
UID:252-7MF201-20251217T161500@VHSOVERATH/RÖSRATH
SUMMARY:MF - Musikwiese Rösrath (252-7MF201) 
LOCATION:Freiherr-vom-Stein-Schulzentrum, MZR Musikschule, Freiherr-vom-Stein-Str.15, 51503 Rösrath
END:VEVENT
BEGIN:VEVENT
DTSTAMP:20260424T212610
DTSTART;TZID=Europe/Berlin:20260107T161500
DTEND;TZID=Europe/Berlin:20260107T170000
UID:252-7MF201-20260107T161500@VHSOVERATH/RÖSRATH
SUMMARY:MF - Musikwiese Rösrath (252-7MF201) 
LOCATION:Freiherr-vom-Stein-Schulzentrum, MZR Musikschule, Freiherr-vom-Stein-Str.15, 51503 Rösrath
END:VEVENT
BEGIN:VEVENT
DTSTAMP:20260424T212610
DTSTART;TZID=Europe/Berlin:20260114T161500
DTEND;TZID=Europe/Berlin:20260114T170000
UID:252-7MF201-20260114T161500@VHSOVERATH/RÖSRATH
SUMMARY:MF - Musikwiese Rösrath (252-7MF201) 
LOCATION:Freiherr-vom-Stein-Schulzentrum, MZR Musikschule, Freiherr-vom-Stein-Str.15, 51503 Rösrath
END:VEVENT
BEGIN:VEVENT
DTSTAMP:20260424T212610
DTSTART;TZID=Europe/Berlin:20260121T161500
DTEND;TZID=Europe/Berlin:20260121T170000
UID:252-7MF201-20260121T161500@VHSOVERATH/RÖSRATH
SUMMARY:MF - Musikwiese Rösrath (252-7MF201) 
LOCATION:Freiherr-vom-Stein-Schulzentrum, MZR Musikschule, Freiherr-vom-Stein-Str.15, 51503 Rösrath
END:VEVENT
BEGIN:VEVENT
DTSTAMP:20260424T212610
DTSTART;TZID=Europe/Berlin:20260128T161500
DTEND;TZID=Europe/Berlin:20260128T170000
UID:252-7MF201-20260128T161500@VHSOVERATH/RÖSRATH
SUMMARY:MF - Musikwiese Rösrath (252-7MF201) 
LOCATION:Freiherr-vom-Stein-Schulzentrum, MZR Musikschule, Freiherr-vom-Stein-Str.15, 51503 Rösrath
END:VEVENT
BEGIN:VEVENT
DTSTAMP:20260424T212610
DTSTART;TZID=Europe/Berlin:20260204T161500
DTEND;TZID=Europe/Berlin:20260204T170000
UID:252-7MF201-20260204T161500@VHSOVERATH/RÖSRATH
SUMMARY:MF - Musikwiese Rösrath (252-7MF201) 
LOCATION:Freiherr-vom-Stein-Schulzentrum, MZR Musikschule, Freiherr-vom-Stein-Str.15, 51503 Rösrath
END:VEVENT
BEGIN:VEVENT
DTSTAMP:20260424T212610
DTSTART;TZID=Europe/Berlin:20260211T161500
DTEND;TZID=Europe/Berlin:20260211T170000
UID:252-7MF201-20260211T161500@VHSOVERATH/RÖSRATH
SUMMARY:MF - Musikwiese Rösrath (252-7MF201) 
LOCATION:Freiherr-vom-Stein-Schulzentrum, MZR Musikschule, Freiherr-vom-Stein-Str.15, 51503 Rösrath
END:VEVENT
BEGIN:VEVENT
DTSTAMP:20260424T212610
DTSTART;TZID=Europe/Berlin:20260225T161500
DTEND;TZID=Europe/Berlin:20260225T170000
UID:252-7MF201-20260225T161500@VHSOVERATH/RÖSRATH
SUMMARY:MF - Musikwiese Rösrath (252-7MF201) 
LOCATION:Freiherr-vom-Stein-Schulzentrum, MZR Musikschule, Freiherr-vom-Stein-Str.15, 51503 Rösrath
END:VEVENT
BEGIN:VEVENT
DTSTAMP:20260424T212610
DTSTART;TZID=Europe/Berlin:20260304T161500
DTEND;TZID=Europe/Berlin:20260304T170000
UID:252-7MF201-20260304T161500@VHSOVERATH/RÖSRATH
SUMMARY:MF - Musikwiese Rösrath (252-7MF201) 
LOCATION:Freiherr-vom-Stein-Schulzentrum, MZR Musikschule, Freiherr-vom-Stein-Str.15, 51503 Rösrath
END:VEVENT
BEGIN:VEVENT
DTSTAMP:20260424T212610
DTSTART;TZID=Europe/Berlin:20260311T161500
DTEND;TZID=Europe/Berlin:20260311T170000
UID:252-7MF201-20260311T161500@VHSOVERATH/RÖSRATH
SUMMARY:MF - Musikwiese Rösrath (252-7MF201) 
LOCATION:Freiherr-vom-Stein-Schulzentrum, MZR Musikschule, Freiherr-vom-Stein-Str.15, 51503 Rösrath
END:VEVENT
BEGIN:VEVENT
DTSTAMP:20260424T212610
DTSTART;TZID=Europe/Berlin:20260318T161500
DTEND;TZID=Europe/Berlin:20260318T170000
UID:252-7MF201-20260318T161500@VHSOVERATH/RÖSRATH
SUMMARY:MF - Musikwiese Rösrath (252-7MF201) 
LOCATION:Freiherr-vom-Stein-Schulzentrum, MZR Musikschule, Freiherr-vom-Stein-Str.15, 51503 Rösrath
END:VEVENT
BEGIN:VEVENT
DTSTAMP:20260424T212610
DTSTART;TZID=Europe/Berlin:20260325T161500
DTEND;TZID=Europe/Berlin:20260325T170000
UID:252-7MF201-20260325T161500@VHSOVERATH/RÖSRATH
SUMMARY:MF - Musikwiese Rösrath (252-7MF201) 
LOCATION:Freiherr-vom-Stein-Schulzentrum, MZR Musikschule, Freiherr-vom-Stein-Str.15, 51503 Rösrath
END:VEVENT
BEGIN:VEVENT
DTSTAMP:20260424T212610
DTSTART;TZID=Europe/Berlin:20260415T161500
DTEND;TZID=Europe/Berlin:20260415T170000
UID:252-7MF201-20260415T161500@VHSOVERATH/RÖSRATH
SUMMARY:MF - Musikwiese Rösrath (252-7MF201) 
LOCATION:Freiherr-vom-Stein-Schulzentrum, MZR Musikschule, Freiherr-vom-Stein-Str.15, 51503 Rösrath
END:VEVENT
BEGIN:VEVENT
DTSTAMP:20260424T212610
DTSTART;TZID=Europe/Berlin:20260422T161500
DTEND;TZID=Europe/Berlin:20260422T170000
UID:252-7MF201-20260422T161500@VHSOVERATH/RÖSRATH
SUMMARY:MF - Musikwiese Rösrath (252-7MF201) 
LOCATION:Freiherr-vom-Stein-Schulzentrum, MZR Musikschule, Freiherr-vom-Stein-Str.15, 51503 Rösrath
END:VEVENT
BEGIN:VEVENT
DTSTAMP:20260424T212610
DTSTART;TZID=Europe/Berlin:20260430T164000
DTEND;TZID=Europe/Berlin:20260430T172500
UID:252-7MF201-20260430T164000@VHSOVERATH/RÖSRATH
SUMMARY:MF - Musikwiese Rösrath (252-7MF201) 
LOCATION:Freiherr-vom-Stein-Schulzentrum, MZR Musikschule, Freiherr-vom-Stein-Str.15, 51503 Rösrath
END:VEVENT
BEGIN:VEVENT
DTSTAMP:20260424T212610
DTSTART;TZID=Europe/Berlin:20260507T164000
DTEND;TZID=Europe/Berlin:20260507T172500
UID:252-7MF201-20260507T164000@VHSOVERATH/RÖSRATH
SUMMARY:MF - Musikwiese Rösrath (252-7MF201) 
LOCATION:Freiherr-vom-Stein-Schulzentrum, MZR Musikschule, Freiherr-vom-Stein-Str.15, 51503 Rösrath
END:VEVENT
BEGIN:VEVENT
DTSTAMP:20260424T212610
DTSTART;TZID=Europe/Berlin:20260521T164000
DTEND;TZID=Europe/Berlin:20260521T172500
UID:252-7MF201-20260521T164000@VHSOVERATH/RÖSRATH
SUMMARY:MF - Musikwiese Rösrath (252-7MF201) 
LOCATION:Freiherr-vom-Stein-Schulzentrum, MZR Musikschule, Freiherr-vom-Stein-Str.15, 51503 Rösrath
END:VEVENT
BEGIN:VEVENT
DTSTAMP:20260424T212610
DTSTART;TZID=Europe/Berlin:20260528T164000
DTEND;TZID=Europe/Berlin:20260528T172500
UID:252-7MF201-20260528T164000@VHSOVERATH/RÖSRATH
SUMMARY:MF - Musikwiese Rösrath (252-7MF201) 
LOCATION:Freiherr-vom-Stein-Schulzentrum, MZR Musikschule, Freiherr-vom-Stein-Str.15, 51503 Rösrath
END:VEVENT
BEGIN:VEVENT
DTSTAMP:20260424T212610
DTSTART;TZID=Europe/Berlin:20260611T164000
DTEND;TZID=Europe/Berlin:20260611T172500
UID:252-7MF201-20260611T164000@VHSOVERATH/RÖSRATH
SUMMARY:MF - Musikwiese Rösrath (252-7MF201) 
LOCATION:Freiherr-vom-Stein-Schulzentrum, MZR Musikschule, Freiherr-vom-Stein-Str.15, 51503 Rösrath
END:VEVENT
BEGIN:VEVENT
DTSTAMP:20260424T212610
DTSTART;TZID=Europe/Berlin:20260618T164000
DTEND;TZID=Europe/Berlin:20260618T172500
UID:252-7MF201-20260618T164000@VHSOVERATH/RÖSRATH
SUMMARY:MF - Musikwiese Rösrath (252-7MF201) 
LOCATION:Freiherr-vom-Stein-Schulzentrum, MZR Musikschule, Freiherr-vom-Stein-Str.15, 51503 Rösrath
END:VEVENT
BEGIN:VEVENT
DTSTAMP:20260424T212610
DTSTART;TZID=Europe/Berlin:20260625T164000
DTEND;TZID=Europe/Berlin:20260625T172500
UID:252-7MF201-20260625T164000@VHSOVERATH/RÖSRATH
SUMMARY:MF - Musikwiese Rösrath (252-7MF201) 
LOCATION:Freiherr-vom-Stein-Schulzentrum, MZR Musikschule, Freiherr-vom-Stein-Str.15, 51503 Rösrath
END:VEVENT
BEGIN:VEVENT
DTSTAMP:20260424T212610
DTSTART;TZID=Europe/Berlin:20260702T164000
DTEND;TZID=Europe/Berlin:20260702T172500
UID:252-7MF201-20260702T164000@VHSOVERATH/RÖSRATH
SUMMARY:MF - Musikwiese Rösrath (252-7MF201) 
LOCATION:Freiherr-vom-Stein-Schulzentrum, MZR Musikschule, Freiherr-vom-Stein-Str.15, 51503 Rösrath
END:VEVENT
BEGIN:VEVENT
DTSTAMP:20260424T212610
DTSTART;TZID=Europe/Berlin:20260709T164000
DTEND;TZID=Europe/Berlin:20260709T172500
UID:252-7MF201-20260709T164000@VHSOVERATH/RÖSRATH
SUMMARY:MF - Musikwiese Rösrath (252-7MF201) 
LOCATION:Freiherr-vom-Stein-Schulzentrum, MZR Musikschule, Freiherr-vom-Stein-Str.15, 51503 Rösrath
END:VEVENT
BEGIN:VEVENT
DTSTAMP:20260424T212610
DTSTART;TZID=Europe/Berlin:20260716T164000
DTEND;TZID=Europe/Berlin:20260716T172500
UID:252-7MF201-20260716T164000@VHSOVERATH/RÖSRATH
SUMMARY:MF - Musikwiese Rösrath (252-7MF201) 
LOCATION:Freiherr-vom-Stein-Schulzentrum, MZR Musikschule, Freiherr-vom-Stein-Str.15, 51503 Rösrath
END:VEVENT
BEGIN:VEVENT
DTSTAMP:20260424T212610
DTSTART;TZID=Europe/Berlin:20260903T164000
DTEND;TZID=Europe/Berlin:20260903T172500
UID:252-7MF201-20260903T164000@VHSOVERATH/RÖSRATH
SUMMARY:MF - Musikwiese Rösrath (252-7MF201) 
LOCATION:Freiherr-vom-Stein-Schulzentrum, MZR Musikschule, Freiherr-vom-Stein-Str.15, 51503 Rösrath
END:VEVENT
BEGIN:VEVENT
DTSTAMP:20260424T212610
DTSTART;TZID=Europe/Berlin:20260910T164000
DTEND;TZID=Europe/Berlin:20260910T172500
UID:252-7MF201-20260910T164000@VHSOVERATH/RÖSRATH
SUMMARY:MF - Musikwiese Rösrath (252-7MF201) 
LOCATION:Freiherr-vom-Stein-Schulzentrum, MZR Musikschule, Freiherr-vom-Stein-Str.15, 51503 Rösrath
END:VEVENT
BEGIN:VEVENT
DTSTAMP:20260424T212610
DTSTART;TZID=Europe/Berlin:20260917T164000
DTEND;TZID=Europe/Berlin:20260917T172500
UID:252-7MF201-20260917T164000@VHSOVERATH/RÖSRATH
SUMMARY:MF - Musikwiese Rösrath (252-7MF201) 
LOCATION:Freiherr-vom-Stein-Schulzentrum, MZR Musikschule, Freiherr-vom-Stein-Str.15, 51503 Rösrath
END:VEVENT
BEGIN:VEVENT
DTSTAMP:20260424T212610
DTSTART;TZID=Europe/Berlin:20260924T164000
DTEND;TZID=Europe/Berlin:20260924T172500
UID:252-7MF201-20260924T164000@VHSOVERATH/RÖSRATH
SUMMARY:MF - Musikwiese Rösrath (252-7MF201) 
LOCATION:Freiherr-vom-Stein-Schulzentrum, MZR Musikschule, Freiherr-vom-Stein-Str.15, 51503 Rösrath
END:VEVENT
BEGIN:VEVENT
DTSTAMP:20260424T212610
DTSTART;TZID=Europe/Berlin:20261001T164000
DTEND;TZID=Europe/Berlin:20261001T172500
UID:252-7MF201-20261001T164000@VHSOVERATH/RÖSRATH
SUMMARY:MF - Musikwiese Rösrath (252-7MF201) 
LOCATION:Freiherr-vom-Stein-Schulzentrum, MZR Musikschule, Freiherr-vom-Stein-Str.15, 51503 Rösrath
END:VEVENT
BEGIN:VEVENT
DTSTAMP:20260424T212610
DTSTART;TZID=Europe/Berlin:20261008T164000
DTEND;TZID=Europe/Berlin:20261008T172500
UID:252-7MF201-20261008T164000@VHSOVERATH/RÖSRATH
SUMMARY:MF - Musikwiese Rösrath (252-7MF201) 
LOCATION:Freiherr-vom-Stein-Schulzentrum, MZR Musikschule, Freiherr-vom-Stein-Str.15, 51503 Rösrath
END:VEVENT
BEGIN:VEVENT
DTSTAMP:20260424T212610
DTSTART;TZID=Europe/Berlin:20261015T164000
DTEND;TZID=Europe/Berlin:20261015T172500
UID:252-7MF201-20261015T164000@VHSOVERATH/RÖSRATH
SUMMARY:MF - Musikwiese Rösrath (252-7MF201) 
LOCATION:Freiherr-vom-Stein-Schulzentrum, MZR Musikschule, Freiherr-vom-Stein-Str.15, 51503 Rösrath
END:VEVENT
END:VCALENDAR