BEGIN:VCALENDAR
VERSION:2.0
PRODID:https://www.kufer.de/kuferweb / DE
METHOD:PUBLISH
CALSCALE:GREGORIAN
X-WR-TIMEZONE:Europe/Berlin
BEGIN:VTIMEZONE
TZID:Europe/Berlin
X-LIC-LOCATION:Europe/Berlin
BEGIN:DAYLIGHT
TZOFFSETFROM:+0100
TZOFFSETTO:+0200
TZNAME:CEST
DTSTART:19700329T020000
RRULE:FREQ=YEARLY;INTERVAL=1;BYDAY=-1SU;BYMONTH=3
END:DAYLIGHT
BEGIN:STANDARD
TZOFFSETFROM:+0200
TZOFFSETTO:+0100
TZNAME:CET
DTSTART:19701025T030000
RRULE:FREQ=YEARLY;INTERVAL=1;BYDAY=-1SU;BYMONTH=10
END:STANDARD
END:VTIMEZONE
BEGIN:VEVENT
DTSTAMP:20260424T212610
DTSTART;TZID=Europe/Berlin:20251105T170000
DTEND;TZID=Europe/Berlin:20251105T174500
UID:252-7MF301-20251105T170000@VHSOVERATH/RÖSRATH
SUMMARY:MF - Musikwald Rösrath (252-7MF301) 
LOCATION:Freiherr-vom-Stein-Schulzentrum, MZR Musikschule, Freiherr-vom-Stein-Str.15, 51503 Rösrath
END:VEVENT
BEGIN:VEVENT
DTSTAMP:20260424T212610
DTSTART;TZID=Europe/Berlin:20251112T170000
DTEND;TZID=Europe/Berlin:20251112T174500
UID:252-7MF301-20251112T170000@VHSOVERATH/RÖSRATH
SUMMARY:MF - Musikwald Rösrath (252-7MF301) 
LOCATION:Freiherr-vom-Stein-Schulzentrum, MZR Musikschule, Freiherr-vom-Stein-Str.15, 51503 Rösrath
END:VEVENT
BEGIN:VEVENT
DTSTAMP:20260424T212610
DTSTART;TZID=Europe/Berlin:20251119T170000
DTEND;TZID=Europe/Berlin:20251119T174500
UID:252-7MF301-20251119T170000@VHSOVERATH/RÖSRATH
SUMMARY:MF - Musikwald Rösrath (252-7MF301) 
LOCATION:Freiherr-vom-Stein-Schulzentrum, MZR Musikschule, Freiherr-vom-Stein-Str.15, 51503 Rösrath
END:VEVENT
BEGIN:VEVENT
DTSTAMP:20260424T212610
DTSTART;TZID=Europe/Berlin:20251126T170000
DTEND;TZID=Europe/Berlin:20251126T174500
UID:252-7MF301-20251126T170000@VHSOVERATH/RÖSRATH
SUMMARY:MF - Musikwald Rösrath (252-7MF301) 
LOCATION:Freiherr-vom-Stein-Schulzentrum, MZR Musikschule, Freiherr-vom-Stein-Str.15, 51503 Rösrath
END:VEVENT
BEGIN:VEVENT
DTSTAMP:20260424T212610
DTSTART;TZID=Europe/Berlin:20251203T170000
DTEND;TZID=Europe/Berlin:20251203T174500
UID:252-7MF301-20251203T170000@VHSOVERATH/RÖSRATH
SUMMARY:MF - Musikwald Rösrath (252-7MF301) 
LOCATION:Freiherr-vom-Stein-Schulzentrum, MZR Musikschule, Freiherr-vom-Stein-Str.15, 51503 Rösrath
END:VEVENT
BEGIN:VEVENT
DTSTAMP:20260424T212610
DTSTART;TZID=Europe/Berlin:20251210T170000
DTEND;TZID=Europe/Berlin:20251210T174500
UID:252-7MF301-20251210T170000@VHSOVERATH/RÖSRATH
SUMMARY:MF - Musikwald Rösrath (252-7MF301) 
LOCATION:Freiherr-vom-Stein-Schulzentrum, MZR Musikschule, Freiherr-vom-Stein-Str.15, 51503 Rösrath
END:VEVENT
BEGIN:VEVENT
DTSTAMP:20260424T212610
DTSTART;TZID=Europe/Berlin:20251217T170000
DTEND;TZID=Europe/Berlin:20251217T174500
UID:252-7MF301-20251217T170000@VHSOVERATH/RÖSRATH
SUMMARY:MF - Musikwald Rösrath (252-7MF301) 
LOCATION:Freiherr-vom-Stein-Schulzentrum, MZR Musikschule, Freiherr-vom-Stein-Str.15, 51503 Rösrath
END:VEVENT
BEGIN:VEVENT
DTSTAMP:20260424T212610
DTSTART;TZID=Europe/Berlin:20260107T170000
DTEND;TZID=Europe/Berlin:20260107T174500
UID:252-7MF301-20260107T170000@VHSOVERATH/RÖSRATH
SUMMARY:MF - Musikwald Rösrath (252-7MF301) 
LOCATION:Freiherr-vom-Stein-Schulzentrum, MZR Musikschule, Freiherr-vom-Stein-Str.15, 51503 Rösrath
END:VEVENT
BEGIN:VEVENT
DTSTAMP:20260424T212610
DTSTART;TZID=Europe/Berlin:20260114T170000
DTEND;TZID=Europe/Berlin:20260114T174500
UID:252-7MF301-20260114T170000@VHSOVERATH/RÖSRATH
SUMMARY:MF - Musikwald Rösrath (252-7MF301) 
LOCATION:Freiherr-vom-Stein-Schulzentrum, MZR Musikschule, Freiherr-vom-Stein-Str.15, 51503 Rösrath
END:VEVENT
BEGIN:VEVENT
DTSTAMP:20260424T212610
DTSTART;TZID=Europe/Berlin:20260121T170000
DTEND;TZID=Europe/Berlin:20260121T174500
UID:252-7MF301-20260121T170000@VHSOVERATH/RÖSRATH
SUMMARY:MF - Musikwald Rösrath (252-7MF301) 
LOCATION:Freiherr-vom-Stein-Schulzentrum, MZR Musikschule, Freiherr-vom-Stein-Str.15, 51503 Rösrath
END:VEVENT
BEGIN:VEVENT
DTSTAMP:20260424T212610
DTSTART;TZID=Europe/Berlin:20260128T170000
DTEND;TZID=Europe/Berlin:20260128T174500
UID:252-7MF301-20260128T170000@VHSOVERATH/RÖSRATH
SUMMARY:MF - Musikwald Rösrath (252-7MF301) 
LOCATION:Freiherr-vom-Stein-Schulzentrum, MZR Musikschule, Freiherr-vom-Stein-Str.15, 51503 Rösrath
END:VEVENT
BEGIN:VEVENT
DTSTAMP:20260424T212610
DTSTART;TZID=Europe/Berlin:20260204T170000
DTEND;TZID=Europe/Berlin:20260204T174500
UID:252-7MF301-20260204T170000@VHSOVERATH/RÖSRATH
SUMMARY:MF - Musikwald Rösrath (252-7MF301) 
LOCATION:Freiherr-vom-Stein-Schulzentrum, MZR Musikschule, Freiherr-vom-Stein-Str.15, 51503 Rösrath
END:VEVENT
BEGIN:VEVENT
DTSTAMP:20260424T212610
DTSTART;TZID=Europe/Berlin:20260211T170000
DTEND;TZID=Europe/Berlin:20260211T174500
UID:252-7MF301-20260211T170000@VHSOVERATH/RÖSRATH
SUMMARY:MF - Musikwald Rösrath (252-7MF301) 
LOCATION:Freiherr-vom-Stein-Schulzentrum, MZR Musikschule, Freiherr-vom-Stein-Str.15, 51503 Rösrath
END:VEVENT
BEGIN:VEVENT
DTSTAMP:20260424T212610
DTSTART;TZID=Europe/Berlin:20260225T170000
DTEND;TZID=Europe/Berlin:20260225T174500
UID:252-7MF301-20260225T170000@VHSOVERATH/RÖSRATH
SUMMARY:MF - Musikwald Rösrath (252-7MF301) 
LOCATION:Freiherr-vom-Stein-Schulzentrum, MZR Musikschule, Freiherr-vom-Stein-Str.15, 51503 Rösrath
END:VEVENT
BEGIN:VEVENT
DTSTAMP:20260424T212610
DTSTART;TZID=Europe/Berlin:20260304T170000
DTEND;TZID=Europe/Berlin:20260304T174500
UID:252-7MF301-20260304T170000@VHSOVERATH/RÖSRATH
SUMMARY:MF - Musikwald Rösrath (252-7MF301) 
LOCATION:Freiherr-vom-Stein-Schulzentrum, MZR Musikschule, Freiherr-vom-Stein-Str.15, 51503 Rösrath
END:VEVENT
BEGIN:VEVENT
DTSTAMP:20260424T212610
DTSTART;TZID=Europe/Berlin:20260311T170000
DTEND;TZID=Europe/Berlin:20260311T174500
UID:252-7MF301-20260311T170000@VHSOVERATH/RÖSRATH
SUMMARY:MF - Musikwald Rösrath (252-7MF301) 
LOCATION:Freiherr-vom-Stein-Schulzentrum, MZR Musikschule, Freiherr-vom-Stein-Str.15, 51503 Rösrath
END:VEVENT
BEGIN:VEVENT
DTSTAMP:20260424T212610
DTSTART;TZID=Europe/Berlin:20260318T170000
DTEND;TZID=Europe/Berlin:20260318T174500
UID:252-7MF301-20260318T170000@VHSOVERATH/RÖSRATH
SUMMARY:MF - Musikwald Rösrath (252-7MF301) 
LOCATION:Freiherr-vom-Stein-Schulzentrum, MZR Musikschule, Freiherr-vom-Stein-Str.15, 51503 Rösrath
END:VEVENT
BEGIN:VEVENT
DTSTAMP:20260424T212610
DTSTART;TZID=Europe/Berlin:20260325T170000
DTEND;TZID=Europe/Berlin:20260325T174500
UID:252-7MF301-20260325T170000@VHSOVERATH/RÖSRATH
SUMMARY:MF - Musikwald Rösrath (252-7MF301) 
LOCATION:Freiherr-vom-Stein-Schulzentrum, MZR Musikschule, Freiherr-vom-Stein-Str.15, 51503 Rösrath
END:VEVENT
BEGIN:VEVENT
DTSTAMP:20260424T212610
DTSTART;TZID=Europe/Berlin:20260415T170000
DTEND;TZID=Europe/Berlin:20260415T174500
UID:252-7MF301-20260415T170000@VHSOVERATH/RÖSRATH
SUMMARY:MF - Musikwald Rösrath (252-7MF301) 
LOCATION:Freiherr-vom-Stein-Schulzentrum, MZR Musikschule, Freiherr-vom-Stein-Str.15, 51503 Rösrath
END:VEVENT
BEGIN:VEVENT
DTSTAMP:20260424T212610
DTSTART;TZID=Europe/Berlin:20260422T170000
DTEND;TZID=Europe/Berlin:20260422T174500
UID:252-7MF301-20260422T170000@VHSOVERATH/RÖSRATH
SUMMARY:MF - Musikwald Rösrath (252-7MF301) 
LOCATION:Freiherr-vom-Stein-Schulzentrum, MZR Musikschule, Freiherr-vom-Stein-Str.15, 51503 Rösrath
END:VEVENT
BEGIN:VEVENT
DTSTAMP:20260424T212610
DTSTART;TZID=Europe/Berlin:20260429T170000
DTEND;TZID=Europe/Berlin:20260429T174500
UID:252-7MF301-20260429T170000@VHSOVERATH/RÖSRATH
SUMMARY:MF - Musikwald Rösrath (252-7MF301) 
LOCATION:Freiherr-vom-Stein-Schulzentrum, MZR Musikschule, Freiherr-vom-Stein-Str.15, 51503 Rösrath
END:VEVENT
BEGIN:VEVENT
DTSTAMP:20260424T212610
DTSTART;TZID=Europe/Berlin:20260507T173000
DTEND;TZID=Europe/Berlin:20260507T181500
UID:252-7MF301-20260507T173000@VHSOVERATH/RÖSRATH
SUMMARY:MF - Musikwald Rösrath (252-7MF301) 
LOCATION:Freiherr-vom-Stein-Schulzentrum, MZR Musikschule, Freiherr-vom-Stein-Str.15, 51503 Rösrath
END:VEVENT
BEGIN:VEVENT
DTSTAMP:20260424T212610
DTSTART;TZID=Europe/Berlin:20260521T173000
DTEND;TZID=Europe/Berlin:20260521T181500
UID:252-7MF301-20260521T173000@VHSOVERATH/RÖSRATH
SUMMARY:MF - Musikwald Rösrath (252-7MF301) 
LOCATION:Freiherr-vom-Stein-Schulzentrum, MZR Musikschule, Freiherr-vom-Stein-Str.15, 51503 Rösrath
END:VEVENT
BEGIN:VEVENT
DTSTAMP:20260424T212610
DTSTART;TZID=Europe/Berlin:20260528T173000
DTEND;TZID=Europe/Berlin:20260528T181500
UID:252-7MF301-20260528T173000@VHSOVERATH/RÖSRATH
SUMMARY:MF - Musikwald Rösrath (252-7MF301) 
LOCATION:Freiherr-vom-Stein-Schulzentrum, MZR Musikschule, Freiherr-vom-Stein-Str.15, 51503 Rösrath
END:VEVENT
BEGIN:VEVENT
DTSTAMP:20260424T212610
DTSTART;TZID=Europe/Berlin:20260611T173000
DTEND;TZID=Europe/Berlin:20260611T181500
UID:252-7MF301-20260611T173000@VHSOVERATH/RÖSRATH
SUMMARY:MF - Musikwald Rösrath (252-7MF301) 
LOCATION:Freiherr-vom-Stein-Schulzentrum, MZR Musikschule, Freiherr-vom-Stein-Str.15, 51503 Rösrath
END:VEVENT
BEGIN:VEVENT
DTSTAMP:20260424T212610
DTSTART;TZID=Europe/Berlin:20260618T173000
DTEND;TZID=Europe/Berlin:20260618T181500
UID:252-7MF301-20260618T173000@VHSOVERATH/RÖSRATH
SUMMARY:MF - Musikwald Rösrath (252-7MF301) 
LOCATION:Freiherr-vom-Stein-Schulzentrum, MZR Musikschule, Freiherr-vom-Stein-Str.15, 51503 Rösrath
END:VEVENT
BEGIN:VEVENT
DTSTAMP:20260424T212610
DTSTART;TZID=Europe/Berlin:20260625T173000
DTEND;TZID=Europe/Berlin:20260625T181500
UID:252-7MF301-20260625T173000@VHSOVERATH/RÖSRATH
SUMMARY:MF - Musikwald Rösrath (252-7MF301) 
LOCATION:Freiherr-vom-Stein-Schulzentrum, MZR Musikschule, Freiherr-vom-Stein-Str.15, 51503 Rösrath
END:VEVENT
BEGIN:VEVENT
DTSTAMP:20260424T212610
DTSTART;TZID=Europe/Berlin:20260702T173000
DTEND;TZID=Europe/Berlin:20260702T181500
UID:252-7MF301-20260702T173000@VHSOVERATH/RÖSRATH
SUMMARY:MF - Musikwald Rösrath (252-7MF301) 
LOCATION:Freiherr-vom-Stein-Schulzentrum, MZR Musikschule, Freiherr-vom-Stein-Str.15, 51503 Rösrath
END:VEVENT
BEGIN:VEVENT
DTSTAMP:20260424T212610
DTSTART;TZID=Europe/Berlin:20260709T173000
DTEND;TZID=Europe/Berlin:20260709T181500
UID:252-7MF301-20260709T173000@VHSOVERATH/RÖSRATH
SUMMARY:MF - Musikwald Rösrath (252-7MF301) 
LOCATION:Freiherr-vom-Stein-Schulzentrum, MZR Musikschule, Freiherr-vom-Stein-Str.15, 51503 Rösrath
END:VEVENT
BEGIN:VEVENT
DTSTAMP:20260424T212610
DTSTART;TZID=Europe/Berlin:20260716T173000
DTEND;TZID=Europe/Berlin:20260716T181500
UID:252-7MF301-20260716T173000@VHSOVERATH/RÖSRATH
SUMMARY:MF - Musikwald Rösrath (252-7MF301) 
LOCATION:Freiherr-vom-Stein-Schulzentrum, MZR Musikschule, Freiherr-vom-Stein-Str.15, 51503 Rösrath
END:VEVENT
BEGIN:VEVENT
DTSTAMP:20260424T212610
DTSTART;TZID=Europe/Berlin:20260903T173000
DTEND;TZID=Europe/Berlin:20260903T181500
UID:252-7MF301-20260903T173000@VHSOVERATH/RÖSRATH
SUMMARY:MF - Musikwald Rösrath (252-7MF301) 
LOCATION:Freiherr-vom-Stein-Schulzentrum, MZR Musikschule, Freiherr-vom-Stein-Str.15, 51503 Rösrath
END:VEVENT
BEGIN:VEVENT
DTSTAMP:20260424T212610
DTSTART;TZID=Europe/Berlin:20260910T173000
DTEND;TZID=Europe/Berlin:20260910T181500
UID:252-7MF301-20260910T173000@VHSOVERATH/RÖSRATH
SUMMARY:MF - Musikwald Rösrath (252-7MF301) 
LOCATION:Freiherr-vom-Stein-Schulzentrum, MZR Musikschule, Freiherr-vom-Stein-Str.15, 51503 Rösrath
END:VEVENT
BEGIN:VEVENT
DTSTAMP:20260424T212610
DTSTART;TZID=Europe/Berlin:20260917T173000
DTEND;TZID=Europe/Berlin:20260917T181500
UID:252-7MF301-20260917T173000@VHSOVERATH/RÖSRATH
SUMMARY:MF - Musikwald Rösrath (252-7MF301) 
LOCATION:Freiherr-vom-Stein-Schulzentrum, MZR Musikschule, Freiherr-vom-Stein-Str.15, 51503 Rösrath
END:VEVENT
BEGIN:VEVENT
DTSTAMP:20260424T212610
DTSTART;TZID=Europe/Berlin:20260924T173000
DTEND;TZID=Europe/Berlin:20260924T181500
UID:252-7MF301-20260924T173000@VHSOVERATH/RÖSRATH
SUMMARY:MF - Musikwald Rösrath (252-7MF301) 
LOCATION:Freiherr-vom-Stein-Schulzentrum, MZR Musikschule, Freiherr-vom-Stein-Str.15, 51503 Rösrath
END:VEVENT
BEGIN:VEVENT
DTSTAMP:20260424T212610
DTSTART;TZID=Europe/Berlin:20261001T173000
DTEND;TZID=Europe/Berlin:20261001T181500
UID:252-7MF301-20261001T173000@VHSOVERATH/RÖSRATH
SUMMARY:MF - Musikwald Rösrath (252-7MF301) 
LOCATION:Freiherr-vom-Stein-Schulzentrum, MZR Musikschule, Freiherr-vom-Stein-Str.15, 51503 Rösrath
END:VEVENT
BEGIN:VEVENT
DTSTAMP:20260424T212610
DTSTART;TZID=Europe/Berlin:20261008T173000
DTEND;TZID=Europe/Berlin:20261008T181500
UID:252-7MF301-20261008T173000@VHSOVERATH/RÖSRATH
SUMMARY:MF - Musikwald Rösrath (252-7MF301) 
LOCATION:Freiherr-vom-Stein-Schulzentrum, MZR Musikschule, Freiherr-vom-Stein-Str.15, 51503 Rösrath
END:VEVENT
BEGIN:VEVENT
DTSTAMP:20260424T212610
DTSTART;TZID=Europe/Berlin:20261015T173000
DTEND;TZID=Europe/Berlin:20261015T181500
UID:252-7MF301-20261015T173000@VHSOVERATH/RÖSRATH
SUMMARY:MF - Musikwald Rösrath (252-7MF301) 
LOCATION:Freiherr-vom-Stein-Schulzentrum, MZR Musikschule, Freiherr-vom-Stein-Str.15, 51503 Rösrath
END:VEVENT
END:VCALENDAR