BEGIN:VCALENDAR
VERSION:2.0
PRODID:https://www.kufer.de/kuferweb / DE
METHOD:PUBLISH
CALSCALE:GREGORIAN
X-WR-TIMEZONE:Europe/Berlin
BEGIN:VTIMEZONE
TZID:Europe/Berlin
X-LIC-LOCATION:Europe/Berlin
BEGIN:DAYLIGHT
TZOFFSETFROM:+0100
TZOFFSETTO:+0200
TZNAME:CEST
DTSTART:19700329T020000
RRULE:FREQ=YEARLY;INTERVAL=1;BYDAY=-1SU;BYMONTH=3
END:DAYLIGHT
BEGIN:STANDARD
TZOFFSETFROM:+0200
TZOFFSETTO:+0100
TZNAME:CET
DTSTART:19701025T030000
RRULE:FREQ=YEARLY;INTERVAL=1;BYDAY=-1SU;BYMONTH=10
END:STANDARD
END:VTIMEZONE
BEGIN:VEVENT
DTSTAMP:20260425T011534
DTSTART;TZID=Europe/Berlin:20251104T164500
DTEND;TZID=Europe/Berlin:20251104T173000
UID:252-7MF302-20251104T164500@VHSOVERATH/RÖSRATH
SUMMARY:MF - Musikwald Overath (252-7MF302) 
LOCATION:VHS-Studienhaus, Raum 7, Schulstraße 15, 51491 Overath
END:VEVENT
BEGIN:VEVENT
DTSTAMP:20260425T011534
DTSTART;TZID=Europe/Berlin:20251111T164500
DTEND;TZID=Europe/Berlin:20251111T173000
UID:252-7MF302-20251111T164500@VHSOVERATH/RÖSRATH
SUMMARY:MF - Musikwald Overath (252-7MF302) 
LOCATION:VHS-Studienhaus, Raum 7, Schulstraße 15, 51491 Overath
END:VEVENT
BEGIN:VEVENT
DTSTAMP:20260425T011534
DTSTART;TZID=Europe/Berlin:20251118T164500
DTEND;TZID=Europe/Berlin:20251118T173000
UID:252-7MF302-20251118T164500@VHSOVERATH/RÖSRATH
SUMMARY:MF - Musikwald Overath (252-7MF302) 
LOCATION:VHS-Studienhaus, Raum 7, Schulstraße 15, 51491 Overath
END:VEVENT
BEGIN:VEVENT
DTSTAMP:20260425T011534
DTSTART;TZID=Europe/Berlin:20251125T164500
DTEND;TZID=Europe/Berlin:20251125T173000
UID:252-7MF302-20251125T164500@VHSOVERATH/RÖSRATH
SUMMARY:MF - Musikwald Overath (252-7MF302) 
LOCATION:VHS-Studienhaus, Raum 7, Schulstraße 15, 51491 Overath
END:VEVENT
BEGIN:VEVENT
DTSTAMP:20260425T011534
DTSTART;TZID=Europe/Berlin:20251202T164500
DTEND;TZID=Europe/Berlin:20251202T173000
UID:252-7MF302-20251202T164500@VHSOVERATH/RÖSRATH
SUMMARY:MF - Musikwald Overath (252-7MF302) 
LOCATION:VHS-Studienhaus, Raum 7, Schulstraße 15, 51491 Overath
END:VEVENT
BEGIN:VEVENT
DTSTAMP:20260425T011534
DTSTART;TZID=Europe/Berlin:20251209T164500
DTEND;TZID=Europe/Berlin:20251209T173000
UID:252-7MF302-20251209T164500@VHSOVERATH/RÖSRATH
SUMMARY:MF - Musikwald Overath (252-7MF302) 
LOCATION:VHS-Studienhaus, Raum 7, Schulstraße 15, 51491 Overath
END:VEVENT
BEGIN:VEVENT
DTSTAMP:20260425T011534
DTSTART;TZID=Europe/Berlin:20251216T164500
DTEND;TZID=Europe/Berlin:20251216T173000
UID:252-7MF302-20251216T164500@VHSOVERATH/RÖSRATH
SUMMARY:MF - Musikwald Overath (252-7MF302) 
LOCATION:VHS-Studienhaus, Raum 7, Schulstraße 15, 51491 Overath
END:VEVENT
BEGIN:VEVENT
DTSTAMP:20260425T011534
DTSTART;TZID=Europe/Berlin:20260113T164500
DTEND;TZID=Europe/Berlin:20260113T173000
UID:252-7MF302-20260113T164500@VHSOVERATH/RÖSRATH
SUMMARY:MF - Musikwald Overath (252-7MF302) 
LOCATION:VHS-Studienhaus, Raum 7, Schulstraße 15, 51491 Overath
END:VEVENT
BEGIN:VEVENT
DTSTAMP:20260425T011534
DTSTART;TZID=Europe/Berlin:20260120T164500
DTEND;TZID=Europe/Berlin:20260120T173000
UID:252-7MF302-20260120T164500@VHSOVERATH/RÖSRATH
SUMMARY:MF - Musikwald Overath (252-7MF302) 
LOCATION:VHS-Studienhaus, Raum 7, Schulstraße 15, 51491 Overath
END:VEVENT
BEGIN:VEVENT
DTSTAMP:20260425T011534
DTSTART;TZID=Europe/Berlin:20260127T164500
DTEND;TZID=Europe/Berlin:20260127T173000
UID:252-7MF302-20260127T164500@VHSOVERATH/RÖSRATH
SUMMARY:MF - Musikwald Overath (252-7MF302) 
LOCATION:VHS-Studienhaus, Raum 7, Schulstraße 15, 51491 Overath
END:VEVENT
BEGIN:VEVENT
DTSTAMP:20260425T011534
DTSTART;TZID=Europe/Berlin:20260203T164500
DTEND;TZID=Europe/Berlin:20260203T173000
UID:252-7MF302-20260203T164500@VHSOVERATH/RÖSRATH
SUMMARY:MF - Musikwald Overath (252-7MF302) 
LOCATION:VHS-Studienhaus, Raum 7, Schulstraße 15, 51491 Overath
END:VEVENT
BEGIN:VEVENT
DTSTAMP:20260425T011534
DTSTART;TZID=Europe/Berlin:20260210T164500
DTEND;TZID=Europe/Berlin:20260210T173000
UID:252-7MF302-20260210T164500@VHSOVERATH/RÖSRATH
SUMMARY:MF - Musikwald Overath (252-7MF302) 
LOCATION:VHS-Studienhaus, Raum 7, Schulstraße 15, 51491 Overath
END:VEVENT
BEGIN:VEVENT
DTSTAMP:20260425T011534
DTSTART;TZID=Europe/Berlin:20260217T164500
DTEND;TZID=Europe/Berlin:20260217T173000
UID:252-7MF302-20260217T164500@VHSOVERATH/RÖSRATH
SUMMARY:MF - Musikwald Overath (252-7MF302) 
LOCATION:VHS-Studienhaus, Raum 7, Schulstraße 15, 51491 Overath
END:VEVENT
BEGIN:VEVENT
DTSTAMP:20260425T011534
DTSTART;TZID=Europe/Berlin:20260224T164500
DTEND;TZID=Europe/Berlin:20260224T173000
UID:252-7MF302-20260224T164500@VHSOVERATH/RÖSRATH
SUMMARY:MF - Musikwald Overath (252-7MF302) 
LOCATION:VHS-Studienhaus, Raum 7, Schulstraße 15, 51491 Overath
END:VEVENT
BEGIN:VEVENT
DTSTAMP:20260425T011534
DTSTART;TZID=Europe/Berlin:20260303T164500
DTEND;TZID=Europe/Berlin:20260303T173000
UID:252-7MF302-20260303T164500@VHSOVERATH/RÖSRATH
SUMMARY:MF - Musikwald Overath (252-7MF302) 
LOCATION:VHS-Studienhaus, Raum 7, Schulstraße 15, 51491 Overath
END:VEVENT
BEGIN:VEVENT
DTSTAMP:20260425T011534
DTSTART;TZID=Europe/Berlin:20260310T164500
DTEND;TZID=Europe/Berlin:20260310T173000
UID:252-7MF302-20260310T164500@VHSOVERATH/RÖSRATH
SUMMARY:MF - Musikwald Overath (252-7MF302) 
LOCATION:VHS-Studienhaus, Raum 7, Schulstraße 15, 51491 Overath
END:VEVENT
BEGIN:VEVENT
DTSTAMP:20260425T011534
DTSTART;TZID=Europe/Berlin:20260317T164500
DTEND;TZID=Europe/Berlin:20260317T173000
UID:252-7MF302-20260317T164500@VHSOVERATH/RÖSRATH
SUMMARY:MF - Musikwald Overath (252-7MF302) 
LOCATION:VHS-Studienhaus, Raum 7, Schulstraße 15, 51491 Overath
END:VEVENT
BEGIN:VEVENT
DTSTAMP:20260425T011534
DTSTART;TZID=Europe/Berlin:20260324T164500
DTEND;TZID=Europe/Berlin:20260324T173000
UID:252-7MF302-20260324T164500@VHSOVERATH/RÖSRATH
SUMMARY:MF - Musikwald Overath (252-7MF302) 
LOCATION:VHS-Studienhaus, Raum 7, Schulstraße 15, 51491 Overath
END:VEVENT
BEGIN:VEVENT
DTSTAMP:20260425T011534
DTSTART;TZID=Europe/Berlin:20260414T164500
DTEND;TZID=Europe/Berlin:20260414T173000
UID:252-7MF302-20260414T164500@VHSOVERATH/RÖSRATH
SUMMARY:MF - Musikwald Overath (252-7MF302) 
LOCATION:VHS-Studienhaus, Raum 7, Schulstraße 15, 51491 Overath
END:VEVENT
BEGIN:VEVENT
DTSTAMP:20260425T011534
DTSTART;TZID=Europe/Berlin:20260421T164500
DTEND;TZID=Europe/Berlin:20260421T173000
UID:252-7MF302-20260421T164500@VHSOVERATH/RÖSRATH
SUMMARY:MF - Musikwald Overath (252-7MF302) 
LOCATION:VHS-Studienhaus, Raum 7, Schulstraße 15, 51491 Overath
END:VEVENT
BEGIN:VEVENT
DTSTAMP:20260425T011534
DTSTART;TZID=Europe/Berlin:20260428T164500
DTEND;TZID=Europe/Berlin:20260428T173000
UID:252-7MF302-20260428T164500@VHSOVERATH/RÖSRATH
SUMMARY:MF - Musikwald Overath (252-7MF302) 
LOCATION:VHS-Studienhaus, Raum 7, Schulstraße 15, 51491 Overath
END:VEVENT
BEGIN:VEVENT
DTSTAMP:20260425T011534
DTSTART;TZID=Europe/Berlin:20260505T164500
DTEND;TZID=Europe/Berlin:20260505T173000
UID:252-7MF302-20260505T164500@VHSOVERATH/RÖSRATH
SUMMARY:MF - Musikwald Overath (252-7MF302) 
LOCATION:VHS-Studienhaus, Raum 7, Schulstraße 15, 51491 Overath
END:VEVENT
BEGIN:VEVENT
DTSTAMP:20260425T011534
DTSTART;TZID=Europe/Berlin:20260512T164500
DTEND;TZID=Europe/Berlin:20260512T173000
UID:252-7MF302-20260512T164500@VHSOVERATH/RÖSRATH
SUMMARY:MF - Musikwald Overath (252-7MF302) 
LOCATION:VHS-Studienhaus, Raum 7, Schulstraße 15, 51491 Overath
END:VEVENT
BEGIN:VEVENT
DTSTAMP:20260425T011534
DTSTART;TZID=Europe/Berlin:20260519T164500
DTEND;TZID=Europe/Berlin:20260519T173000
UID:252-7MF302-20260519T164500@VHSOVERATH/RÖSRATH
SUMMARY:MF - Musikwald Overath (252-7MF302) 
LOCATION:VHS-Studienhaus, Raum 7, Schulstraße 15, 51491 Overath
END:VEVENT
BEGIN:VEVENT
DTSTAMP:20260425T011534
DTSTART;TZID=Europe/Berlin:20260602T164500
DTEND;TZID=Europe/Berlin:20260602T173000
UID:252-7MF302-20260602T164500@VHSOVERATH/RÖSRATH
SUMMARY:MF - Musikwald Overath (252-7MF302) 
LOCATION:VHS-Studienhaus, Raum 7, Schulstraße 15, 51491 Overath
END:VEVENT
BEGIN:VEVENT
DTSTAMP:20260425T011534
DTSTART;TZID=Europe/Berlin:20260609T164500
DTEND;TZID=Europe/Berlin:20260609T173000
UID:252-7MF302-20260609T164500@VHSOVERATH/RÖSRATH
SUMMARY:MF - Musikwald Overath (252-7MF302) 
LOCATION:VHS-Studienhaus, Raum 7, Schulstraße 15, 51491 Overath
END:VEVENT
BEGIN:VEVENT
DTSTAMP:20260425T011534
DTSTART;TZID=Europe/Berlin:20260616T164500
DTEND;TZID=Europe/Berlin:20260616T173000
UID:252-7MF302-20260616T164500@VHSOVERATH/RÖSRATH
SUMMARY:MF - Musikwald Overath (252-7MF302) 
LOCATION:VHS-Studienhaus, Raum 7, Schulstraße 15, 51491 Overath
END:VEVENT
BEGIN:VEVENT
DTSTAMP:20260425T011534
DTSTART;TZID=Europe/Berlin:20260623T164500
DTEND;TZID=Europe/Berlin:20260623T173000
UID:252-7MF302-20260623T164500@VHSOVERATH/RÖSRATH
SUMMARY:MF - Musikwald Overath (252-7MF302) 
LOCATION:VHS-Studienhaus, Raum 7, Schulstraße 15, 51491 Overath
END:VEVENT
BEGIN:VEVENT
DTSTAMP:20260425T011534
DTSTART;TZID=Europe/Berlin:20260630T164500
DTEND;TZID=Europe/Berlin:20260630T173000
UID:252-7MF302-20260630T164500@VHSOVERATH/RÖSRATH
SUMMARY:MF - Musikwald Overath (252-7MF302) 
LOCATION:VHS-Studienhaus, Raum 7, Schulstraße 15, 51491 Overath
END:VEVENT
BEGIN:VEVENT
DTSTAMP:20260425T011534
DTSTART;TZID=Europe/Berlin:20260707T164500
DTEND;TZID=Europe/Berlin:20260707T173000
UID:252-7MF302-20260707T164500@VHSOVERATH/RÖSRATH
SUMMARY:MF - Musikwald Overath (252-7MF302) 
LOCATION:VHS-Studienhaus, Raum 7, Schulstraße 15, 51491 Overath
END:VEVENT
BEGIN:VEVENT
DTSTAMP:20260425T011534
DTSTART;TZID=Europe/Berlin:20260714T164500
DTEND;TZID=Europe/Berlin:20260714T173000
UID:252-7MF302-20260714T164500@VHSOVERATH/RÖSRATH
SUMMARY:MF - Musikwald Overath (252-7MF302) 
LOCATION:VHS-Studienhaus, Raum 7, Schulstraße 15, 51491 Overath
END:VEVENT
BEGIN:VEVENT
DTSTAMP:20260425T011534
DTSTART;TZID=Europe/Berlin:20260908T164500
DTEND;TZID=Europe/Berlin:20260908T173000
UID:252-7MF302-20260908T164500@VHSOVERATH/RÖSRATH
SUMMARY:MF - Musikwald Overath (252-7MF302) 
LOCATION:VHS-Studienhaus, Raum 7, Schulstraße 15, 51491 Overath
END:VEVENT
BEGIN:VEVENT
DTSTAMP:20260425T011534
DTSTART;TZID=Europe/Berlin:20260915T164500
DTEND;TZID=Europe/Berlin:20260915T173000
UID:252-7MF302-20260915T164500@VHSOVERATH/RÖSRATH
SUMMARY:MF - Musikwald Overath (252-7MF302) 
LOCATION:VHS-Studienhaus, Raum 7, Schulstraße 15, 51491 Overath
END:VEVENT
BEGIN:VEVENT
DTSTAMP:20260425T011534
DTSTART;TZID=Europe/Berlin:20260922T164500
DTEND;TZID=Europe/Berlin:20260922T173000
UID:252-7MF302-20260922T164500@VHSOVERATH/RÖSRATH
SUMMARY:MF - Musikwald Overath (252-7MF302) 
LOCATION:VHS-Studienhaus, Raum 7, Schulstraße 15, 51491 Overath
END:VEVENT
BEGIN:VEVENT
DTSTAMP:20260425T011534
DTSTART;TZID=Europe/Berlin:20260929T164500
DTEND;TZID=Europe/Berlin:20260929T173000
UID:252-7MF302-20260929T164500@VHSOVERATH/RÖSRATH
SUMMARY:MF - Musikwald Overath (252-7MF302) 
LOCATION:VHS-Studienhaus, Raum 7, Schulstraße 15, 51491 Overath
END:VEVENT
BEGIN:VEVENT
DTSTAMP:20260425T011534
DTSTART;TZID=Europe/Berlin:20261006T164500
DTEND;TZID=Europe/Berlin:20261006T173000
UID:252-7MF302-20261006T164500@VHSOVERATH/RÖSRATH
SUMMARY:MF - Musikwald Overath (252-7MF302) 
LOCATION:VHS-Studienhaus, Raum 7, Schulstraße 15, 51491 Overath
END:VEVENT
BEGIN:VEVENT
DTSTAMP:20260425T011534
DTSTART;TZID=Europe/Berlin:20261013T164500
DTEND;TZID=Europe/Berlin:20261013T173000
UID:252-7MF302-20261013T164500@VHSOVERATH/RÖSRATH
SUMMARY:MF - Musikwald Overath (252-7MF302) 
LOCATION:VHS-Studienhaus, Raum 7, Schulstraße 15, 51491 Overath
END:VEVENT
END:VCALENDAR