BEGIN:VCALENDAR
VERSION:2.0
PRODID:https://www.kufer.de/kuferweb / DE
METHOD:PUBLISH
CALSCALE:GREGORIAN
X-WR-TIMEZONE:Europe/Berlin
BEGIN:VTIMEZONE
TZID:Europe/Berlin
X-LIC-LOCATION:Europe/Berlin
BEGIN:DAYLIGHT
TZOFFSETFROM:+0100
TZOFFSETTO:+0200
TZNAME:CEST
DTSTART:19700329T020000
RRULE:FREQ=YEARLY;INTERVAL=1;BYDAY=-1SU;BYMONTH=3
END:DAYLIGHT
BEGIN:STANDARD
TZOFFSETFROM:+0200
TZOFFSETTO:+0100
TZNAME:CET
DTSTART:19701025T030000
RRULE:FREQ=YEARLY;INTERVAL=1;BYDAY=-1SU;BYMONTH=10
END:STANDARD
END:VTIMEZONE
BEGIN:VEVENT
DTSTAMP:20260424T183043
DTSTART;TZID=Europe/Berlin:20260425T101500
DTEND;TZID=Europe/Berlin:20260425T140000
UID:261-208004-20260425T101500@VHSOVERATH/RÖSRATH
SUMMARY:Handaufbau - Töpferkurs für Jedermann ab 12 Jahre (261-208004) 
LOCATION:VHS-Studienhaus, Raum 3, Schulstraße 15, 51491 Overath
END:VEVENT
BEGIN:VEVENT
DTSTAMP:20260424T183043
DTSTART;TZID=Europe/Berlin:20260509T101500
DTEND;TZID=Europe/Berlin:20260509T140000
UID:261-208004-20260509T101500@VHSOVERATH/RÖSRATH
SUMMARY:Handaufbau - Töpferkurs für Jedermann ab 12 Jahre (261-208004) 
LOCATION:VHS-Studienhaus, Raum 3, Schulstraße 15, 51491 Overath
END:VEVENT
BEGIN:VEVENT
DTSTAMP:20260424T183043
DTSTART;TZID=Europe/Berlin:20260530T101500
DTEND;TZID=Europe/Berlin:20260530T140000
UID:261-208004-20260530T101500@VHSOVERATH/RÖSRATH
DESCRIPTION:Ersatz für Ausfall am 23.05.2026
SUMMARY:Handaufbau - Töpferkurs für Jedermann ab 12 Jahre (261-208004) 
LOCATION:VHS-Studienhaus, Raum 3, Schulstraße 15, 51491 Overath
END:VEVENT
END:VCALENDAR