BEGIN:VCALENDAR
VERSION:2.0
PRODID:https://www.kufer.de/kuferweb / DE
METHOD:PUBLISH
CALSCALE:GREGORIAN
X-WR-TIMEZONE:Europe/Berlin
BEGIN:VTIMEZONE
TZID:Europe/Berlin
X-LIC-LOCATION:Europe/Berlin
BEGIN:DAYLIGHT
TZOFFSETFROM:+0100
TZOFFSETTO:+0200
TZNAME:CEST
DTSTART:19700329T020000
RRULE:FREQ=YEARLY;INTERVAL=1;BYDAY=-1SU;BYMONTH=3
END:DAYLIGHT
BEGIN:STANDARD
TZOFFSETFROM:+0200
TZOFFSETTO:+0100
TZNAME:CET
DTSTART:19701025T030000
RRULE:FREQ=YEARLY;INTERVAL=1;BYDAY=-1SU;BYMONTH=10
END:STANDARD
END:VTIMEZONE
BEGIN:VEVENT
DTSTAMP:20260424T232448
DTSTART;TZID=Europe/Berlin:20260421T090000
DTEND;TZID=Europe/Berlin:20260421T120000
UID:261-209006-20260421T090000@VHSOVERATH/RÖSRATH
SUMMARY:Zuschneiden und Nähen  vormittags für Anfänger und Fortgeschrittene (261-209006) 
LOCATION:VHS-Studienhaus, Raum 8, Schulstraße 15, 51491 Overath
END:VEVENT
BEGIN:VEVENT
DTSTAMP:20260424T232448
DTSTART;TZID=Europe/Berlin:20260505T090000
DTEND;TZID=Europe/Berlin:20260505T120000
UID:261-209006-20260505T090000@VHSOVERATH/RÖSRATH
SUMMARY:Zuschneiden und Nähen  vormittags für Anfänger und Fortgeschrittene (261-209006) 
LOCATION:VHS-Studienhaus, Raum 8, Schulstraße 15, 51491 Overath
END:VEVENT
BEGIN:VEVENT
DTSTAMP:20260424T232448
DTSTART;TZID=Europe/Berlin:20260519T090000
DTEND;TZID=Europe/Berlin:20260519T120000
UID:261-209006-20260519T090000@VHSOVERATH/RÖSRATH
SUMMARY:Zuschneiden und Nähen  vormittags für Anfänger und Fortgeschrittene (261-209006) 
LOCATION:VHS-Studienhaus, Raum 8, Schulstraße 15, 51491 Overath
END:VEVENT
BEGIN:VEVENT
DTSTAMP:20260424T232448
DTSTART;TZID=Europe/Berlin:20260609T090000
DTEND;TZID=Europe/Berlin:20260609T120000
UID:261-209006-20260609T090000@VHSOVERATH/RÖSRATH
DESCRIPTION:Ersatz für Ausfall am 02.06.2026
SUMMARY:Zuschneiden und Nähen  vormittags für Anfänger und Fortgeschrittene (261-209006) 
LOCATION:VHS-Studienhaus, Raum 8, Schulstraße 15, 51491 Overath
END:VEVENT
BEGIN:VEVENT
DTSTAMP:20260424T232448
DTSTART;TZID=Europe/Berlin:20260623T090000
DTEND;TZID=Europe/Berlin:20260623T120000
UID:261-209006-20260623T090000@VHSOVERATH/RÖSRATH
DESCRIPTION:Ersatz für Ausfall am 16.06.2026
SUMMARY:Zuschneiden und Nähen  vormittags für Anfänger und Fortgeschrittene (261-209006) 
LOCATION:VHS-Studienhaus, Raum 8, Schulstraße 15, 51491 Overath
END:VEVENT
END:VCALENDAR