BEGIN:VCALENDAR
VERSION:2.0
PRODID:https://www.kufer.de/kuferweb / DE
METHOD:PUBLISH
CALSCALE:GREGORIAN
X-WR-TIMEZONE:Europe/Berlin
BEGIN:VTIMEZONE
TZID:Europe/Berlin
X-LIC-LOCATION:Europe/Berlin
BEGIN:DAYLIGHT
TZOFFSETFROM:+0100
TZOFFSETTO:+0200
TZNAME:CEST
DTSTART:19700329T020000
RRULE:FREQ=YEARLY;INTERVAL=1;BYDAY=-1SU;BYMONTH=3
END:DAYLIGHT
BEGIN:STANDARD
TZOFFSETFROM:+0200
TZOFFSETTO:+0100
TZNAME:CET
DTSTART:19701025T030000
RRULE:FREQ=YEARLY;INTERVAL=1;BYDAY=-1SU;BYMONTH=10
END:STANDARD
END:VTIMEZONE
BEGIN:VEVENT
DTSTAMP:20260424T232449
DTSTART;TZID=Europe/Berlin:20260424T093000
DTEND;TZID=Europe/Berlin:20260424T114500
UID:261-209007-20260424T093000@VHSOVERATH/RÖSRATH
SUMMARY:Zuschneiden und Nähen  vormittags für Anfänger und Fortgeschrittene (261-209007) 
LOCATION:Augustinushaus Rösrath (rechter Raum), Hauptstraße 70, 51503 Rösrath
END:VEVENT
BEGIN:VEVENT
DTSTAMP:20260424T232449
DTSTART;TZID=Europe/Berlin:20260508T093000
DTEND;TZID=Europe/Berlin:20260508T114500
UID:261-209007-20260508T093000@VHSOVERATH/RÖSRATH
SUMMARY:Zuschneiden und Nähen  vormittags für Anfänger und Fortgeschrittene (261-209007) 
LOCATION:Augustinushaus Rösrath (rechter Raum), Hauptstraße 70, 51503 Rösrath
END:VEVENT
BEGIN:VEVENT
DTSTAMP:20260424T232449
DTSTART;TZID=Europe/Berlin:20260522T093000
DTEND;TZID=Europe/Berlin:20260522T114500
UID:261-209007-20260522T093000@VHSOVERATH/RÖSRATH
SUMMARY:Zuschneiden und Nähen  vormittags für Anfänger und Fortgeschrittene (261-209007) 
LOCATION:Augustinushaus Rösrath (rechter Raum), Hauptstraße 70, 51503 Rösrath
END:VEVENT
BEGIN:VEVENT
DTSTAMP:20260424T232449
DTSTART;TZID=Europe/Berlin:20260612T093000
DTEND;TZID=Europe/Berlin:20260612T114500
UID:261-209007-20260612T093000@VHSOVERATH/RÖSRATH
DESCRIPTION:Ersatz für Ausfall am 05.06.2026
SUMMARY:Zuschneiden und Nähen  vormittags für Anfänger und Fortgeschrittene (261-209007) 
LOCATION:Augustinushaus Rösrath (rechter Raum), Hauptstraße 70, 51503 Rösrath
END:VEVENT
BEGIN:VEVENT
DTSTAMP:20260424T232449
DTSTART;TZID=Europe/Berlin:20260626T093000
DTEND;TZID=Europe/Berlin:20260626T114500
UID:261-209007-20260626T093000@VHSOVERATH/RÖSRATH
DESCRIPTION:Ersatz für Ausfall am 19.06.2026
SUMMARY:Zuschneiden und Nähen  vormittags für Anfänger und Fortgeschrittene (261-209007) 
LOCATION:Augustinushaus Rösrath (rechter Raum), Hauptstraße 70, 51503 Rösrath
END:VEVENT
END:VCALENDAR