BEGIN:VCALENDAR
VERSION:2.0
PRODID:https://www.kufer.de/kuferweb / DE
METHOD:PUBLISH
CALSCALE:GREGORIAN
X-WR-TIMEZONE:Europe/Berlin
BEGIN:VTIMEZONE
TZID:Europe/Berlin
X-LIC-LOCATION:Europe/Berlin
BEGIN:DAYLIGHT
TZOFFSETFROM:+0100
TZOFFSETTO:+0200
TZNAME:CEST
DTSTART:19700329T020000
RRULE:FREQ=YEARLY;INTERVAL=1;BYDAY=-1SU;BYMONTH=3
END:DAYLIGHT
BEGIN:STANDARD
TZOFFSETFROM:+0200
TZOFFSETTO:+0100
TZNAME:CET
DTSTART:19701025T030000
RRULE:FREQ=YEARLY;INTERVAL=1;BYDAY=-1SU;BYMONTH=10
END:STANDARD
END:VTIMEZONE
BEGIN:VEVENT
DTSTAMP:20260425T010049
DTSTART;TZID=Europe/Berlin:20260205T100000
DTEND;TZID=Europe/Berlin:20260205T113000
UID:261-300003-20260205T100000@VHSOVERATH/RÖSRATH
SUMMARY:Geistig fit? - Mach mit! Ganzheitliches Gedächtnistraining (261-300003) 
LOCATION:VHS-Studienhaus, Raum 11, Schulstraße 15, 51491 Overath
END:VEVENT
BEGIN:VEVENT
DTSTAMP:20260425T010049
DTSTART;TZID=Europe/Berlin:20260219T100000
DTEND;TZID=Europe/Berlin:20260219T113000
UID:261-300003-20260219T100000@VHSOVERATH/RÖSRATH
SUMMARY:Geistig fit? - Mach mit! Ganzheitliches Gedächtnistraining (261-300003) 
LOCATION:VHS-Studienhaus, Raum 11, Schulstraße 15, 51491 Overath
END:VEVENT
BEGIN:VEVENT
DTSTAMP:20260425T010049
DTSTART;TZID=Europe/Berlin:20260226T100000
DTEND;TZID=Europe/Berlin:20260226T113000
UID:261-300003-20260226T100000@VHSOVERATH/RÖSRATH
SUMMARY:Geistig fit? - Mach mit! Ganzheitliches Gedächtnistraining (261-300003) 
LOCATION:VHS-Studienhaus, Raum 11, Schulstraße 15, 51491 Overath
END:VEVENT
BEGIN:VEVENT
DTSTAMP:20260425T010049
DTSTART;TZID=Europe/Berlin:20260305T100000
DTEND;TZID=Europe/Berlin:20260305T113000
UID:261-300003-20260305T100000@VHSOVERATH/RÖSRATH
SUMMARY:Geistig fit? - Mach mit! Ganzheitliches Gedächtnistraining (261-300003) 
LOCATION:VHS-Studienhaus, Raum 11, Schulstraße 15, 51491 Overath
END:VEVENT
BEGIN:VEVENT
DTSTAMP:20260425T010049
DTSTART;TZID=Europe/Berlin:20260312T100000
DTEND;TZID=Europe/Berlin:20260312T113000
UID:261-300003-20260312T100000@VHSOVERATH/RÖSRATH
SUMMARY:Geistig fit? - Mach mit! Ganzheitliches Gedächtnistraining (261-300003) 
LOCATION:VHS-Studienhaus, Raum 11, Schulstraße 15, 51491 Overath
END:VEVENT
BEGIN:VEVENT
DTSTAMP:20260425T010049
DTSTART;TZID=Europe/Berlin:20260319T100000
DTEND;TZID=Europe/Berlin:20260319T113000
UID:261-300003-20260319T100000@VHSOVERATH/RÖSRATH
SUMMARY:Geistig fit? - Mach mit! Ganzheitliches Gedächtnistraining (261-300003) 
LOCATION:VHS-Studienhaus, Raum 11, Schulstraße 15, 51491 Overath
END:VEVENT
BEGIN:VEVENT
DTSTAMP:20260425T010049
DTSTART;TZID=Europe/Berlin:20260326T100000
DTEND;TZID=Europe/Berlin:20260326T113000
UID:261-300003-20260326T100000@VHSOVERATH/RÖSRATH
SUMMARY:Geistig fit? - Mach mit! Ganzheitliches Gedächtnistraining (261-300003) 
LOCATION:VHS-Studienhaus, Raum 11, Schulstraße 15, 51491 Overath
END:VEVENT
BEGIN:VEVENT
DTSTAMP:20260425T010049
DTSTART;TZID=Europe/Berlin:20260416T100000
DTEND;TZID=Europe/Berlin:20260416T113000
UID:261-300003-20260416T100000@VHSOVERATH/RÖSRATH
SUMMARY:Geistig fit? - Mach mit! Ganzheitliches Gedächtnistraining (261-300003) 
LOCATION:VHS-Studienhaus, Raum 11, Schulstraße 15, 51491 Overath
END:VEVENT
BEGIN:VEVENT
DTSTAMP:20260425T010049
DTSTART;TZID=Europe/Berlin:20260423T100000
DTEND;TZID=Europe/Berlin:20260423T113000
UID:261-300003-20260423T100000@VHSOVERATH/RÖSRATH
SUMMARY:Geistig fit? - Mach mit! Ganzheitliches Gedächtnistraining (261-300003) 
LOCATION:VHS-Studienhaus, Raum 11, Schulstraße 15, 51491 Overath
END:VEVENT
BEGIN:VEVENT
DTSTAMP:20260425T010049
DTSTART;TZID=Europe/Berlin:20260430T100000
DTEND;TZID=Europe/Berlin:20260430T113000
UID:261-300003-20260430T100000@VHSOVERATH/RÖSRATH
SUMMARY:Geistig fit? - Mach mit! Ganzheitliches Gedächtnistraining (261-300003) 
LOCATION:VHS-Studienhaus, Raum 11, Schulstraße 15, 51491 Overath
END:VEVENT
BEGIN:VEVENT
DTSTAMP:20260425T010049
DTSTART;TZID=Europe/Berlin:20260507T100000
DTEND;TZID=Europe/Berlin:20260507T113000
UID:261-300003-20260507T100000@VHSOVERATH/RÖSRATH
SUMMARY:Geistig fit? - Mach mit! Ganzheitliches Gedächtnistraining (261-300003) 
LOCATION:VHS-Studienhaus, Raum 11, Schulstraße 15, 51491 Overath
END:VEVENT
END:VCALENDAR