BEGIN:VCALENDAR
VERSION:2.0
PRODID:https://www.kufer.de/kuferweb / DE
METHOD:PUBLISH
CALSCALE:GREGORIAN
X-WR-TIMEZONE:Europe/Berlin
BEGIN:VTIMEZONE
TZID:Europe/Berlin
X-LIC-LOCATION:Europe/Berlin
BEGIN:DAYLIGHT
TZOFFSETFROM:+0100
TZOFFSETTO:+0200
TZNAME:CEST
DTSTART:19700329T020000
RRULE:FREQ=YEARLY;INTERVAL=1;BYDAY=-1SU;BYMONTH=3
END:DAYLIGHT
BEGIN:STANDARD
TZOFFSETFROM:+0200
TZOFFSETTO:+0100
TZNAME:CET
DTSTART:19701025T030000
RRULE:FREQ=YEARLY;INTERVAL=1;BYDAY=-1SU;BYMONTH=10
END:STANDARD
END:VTIMEZONE
BEGIN:VEVENT
DTSTAMP:20260424T232351
DTSTART;TZID=Europe/Berlin:20260209T160000
DTEND;TZID=Europe/Berlin:20260209T173000
UID:261-300005-20260209T160000@VHSOVERATH/RÖSRATH
SUMMARY:Der bewegte Kopf - 60 Plus (261-300005) 
LOCATION:VHS-Studienhaus, Raum 7, Schulstraße 15, 51491 Overath
END:VEVENT
BEGIN:VEVENT
DTSTAMP:20260424T232351
DTSTART;TZID=Europe/Berlin:20260223T160000
DTEND;TZID=Europe/Berlin:20260223T173000
UID:261-300005-20260223T160000@VHSOVERATH/RÖSRATH
SUMMARY:Der bewegte Kopf - 60 Plus (261-300005) 
LOCATION:VHS-Studienhaus, Raum 9, Schulstraße 15, 51491 Overath
END:VEVENT
BEGIN:VEVENT
DTSTAMP:20260424T232351
DTSTART;TZID=Europe/Berlin:20260302T160000
DTEND;TZID=Europe/Berlin:20260302T173000
UID:261-300005-20260302T160000@VHSOVERATH/RÖSRATH
SUMMARY:Der bewegte Kopf - 60 Plus (261-300005) 
LOCATION:VHS-Studienhaus, Raum 9, Schulstraße 15, 51491 Overath
END:VEVENT
BEGIN:VEVENT
DTSTAMP:20260424T232351
DTSTART;TZID=Europe/Berlin:20260309T160000
DTEND;TZID=Europe/Berlin:20260309T173000
UID:261-300005-20260309T160000@VHSOVERATH/RÖSRATH
SUMMARY:Der bewegte Kopf - 60 Plus (261-300005) 
LOCATION:VHS-Studienhaus, Raum 9, Schulstraße 15, 51491 Overath
END:VEVENT
BEGIN:VEVENT
DTSTAMP:20260424T232351
DTSTART;TZID=Europe/Berlin:20260316T160000
DTEND;TZID=Europe/Berlin:20260316T173000
UID:261-300005-20260316T160000@VHSOVERATH/RÖSRATH
SUMMARY:Der bewegte Kopf - 60 Plus (261-300005) 
LOCATION:VHS-Studienhaus, Raum 9, Schulstraße 15, 51491 Overath
END:VEVENT
BEGIN:VEVENT
DTSTAMP:20260424T232351
DTSTART;TZID=Europe/Berlin:20260323T160000
DTEND;TZID=Europe/Berlin:20260323T173000
UID:261-300005-20260323T160000@VHSOVERATH/RÖSRATH
SUMMARY:Der bewegte Kopf - 60 Plus (261-300005) 
LOCATION:VHS-Studienhaus, Raum 9, Schulstraße 15, 51491 Overath
END:VEVENT
BEGIN:VEVENT
DTSTAMP:20260424T232351
DTSTART;TZID=Europe/Berlin:20260330T160000
DTEND;TZID=Europe/Berlin:20260330T173000
UID:261-300005-20260330T160000@VHSOVERATH/RÖSRATH
DESCRIPTION:Ersatz für Ausfall am 04.05.2026
SUMMARY:Der bewegte Kopf - 60 Plus (261-300005) 
LOCATION:VHS-Studienhaus, Raum 9, Schulstraße 15, 51491 Overath
END:VEVENT
BEGIN:VEVENT
DTSTAMP:20260424T232351
DTSTART;TZID=Europe/Berlin:20260413T160000
DTEND;TZID=Europe/Berlin:20260413T173000
UID:261-300005-20260413T160000@VHSOVERATH/RÖSRATH
SUMMARY:Der bewegte Kopf - 60 Plus (261-300005) 
LOCATION:VHS-Studienhaus, Raum 9, Schulstraße 15, 51491 Overath
END:VEVENT
BEGIN:VEVENT
DTSTAMP:20260424T232351
DTSTART;TZID=Europe/Berlin:20260427T160000
DTEND;TZID=Europe/Berlin:20260427T173000
UID:261-300005-20260427T160000@VHSOVERATH/RÖSRATH
SUMMARY:Der bewegte Kopf - 60 Plus (261-300005) 
LOCATION:VHS-Studienhaus, Raum 7, Schulstraße 15, 51491 Overath
END:VEVENT
BEGIN:VEVENT
DTSTAMP:20260424T232351
DTSTART;TZID=Europe/Berlin:20260504T160000
DTEND;TZID=Europe/Berlin:20260504T173000
UID:261-300005-20260504T160000@VHSOVERATH/RÖSRATH
DESCRIPTION:Ersatz für Ausfall am 20.04.2026
SUMMARY:Der bewegte Kopf - 60 Plus (261-300005) 
LOCATION:VHS-Studienhaus, Raum 7, Schulstraße 15, 51491 Overath
END:VEVENT
END:VCALENDAR