BEGIN:VCALENDAR
VERSION:2.0
PRODID:https://www.kufer.de/kuferweb / DE
METHOD:PUBLISH
CALSCALE:GREGORIAN
X-WR-TIMEZONE:Europe/Berlin
BEGIN:VTIMEZONE
TZID:Europe/Berlin
X-LIC-LOCATION:Europe/Berlin
BEGIN:DAYLIGHT
TZOFFSETFROM:+0100
TZOFFSETTO:+0200
TZNAME:CEST
DTSTART:19700329T020000
RRULE:FREQ=YEARLY;INTERVAL=1;BYDAY=-1SU;BYMONTH=3
END:DAYLIGHT
BEGIN:STANDARD
TZOFFSETFROM:+0200
TZOFFSETTO:+0100
TZNAME:CET
DTSTART:19701025T030000
RRULE:FREQ=YEARLY;INTERVAL=1;BYDAY=-1SU;BYMONTH=10
END:STANDARD
END:VTIMEZONE
BEGIN:VEVENT
DTSTAMP:20260424T183103
DTSTART;TZID=Europe/Berlin:20260408T150000
DTEND;TZID=Europe/Berlin:20260408T171500
UID:261-304003-20260408T150000@VHSOVERATH/RÖSRATH
DESCRIPTION:Ersatz für Ausfall am 15.04.2026
SUMMARY:Schach für Hobbyspieler - Ein spielerisches Fitnesstraining für Gehirn und Konzentration Kleingruppe (261-304003) 
LOCATION:Augustinushaus Rösrath (rechter Raum), Hauptstraße 70, 51503 Rösrath
END:VEVENT
BEGIN:VEVENT
DTSTAMP:20260424T183103
DTSTART;TZID=Europe/Berlin:20260422T150000
DTEND;TZID=Europe/Berlin:20260422T171500
UID:261-304003-20260422T150000@VHSOVERATH/RÖSRATH
SUMMARY:Schach für Hobbyspieler - Ein spielerisches Fitnesstraining für Gehirn und Konzentration Kleingruppe (261-304003) 
LOCATION:Augustinushaus Rösrath (rechter Raum), Hauptstraße 70, 51503 Rösrath
END:VEVENT
BEGIN:VEVENT
DTSTAMP:20260424T183103
DTSTART;TZID=Europe/Berlin:20260506T150000
DTEND;TZID=Europe/Berlin:20260506T171500
UID:261-304003-20260506T150000@VHSOVERATH/RÖSRATH
SUMMARY:Schach für Hobbyspieler - Ein spielerisches Fitnesstraining für Gehirn und Konzentration Kleingruppe (261-304003) 
LOCATION:Augustinushaus Rösrath (rechter Raum), Hauptstraße 70, 51503 Rösrath
END:VEVENT
BEGIN:VEVENT
DTSTAMP:20260424T183103
DTSTART;TZID=Europe/Berlin:20260513T150000
DTEND;TZID=Europe/Berlin:20260513T171500
UID:261-304003-20260513T150000@VHSOVERATH/RÖSRATH
SUMMARY:Schach für Hobbyspieler - Ein spielerisches Fitnesstraining für Gehirn und Konzentration Kleingruppe (261-304003) 
LOCATION:Augustinushaus Rösrath (rechter Raum), Hauptstraße 70, 51503 Rösrath
END:VEVENT
BEGIN:VEVENT
DTSTAMP:20260424T183103
DTSTART;TZID=Europe/Berlin:20260520T150000
DTEND;TZID=Europe/Berlin:20260520T171500
UID:261-304003-20260520T150000@VHSOVERATH/RÖSRATH
DESCRIPTION:Ersatz für Ausfall am 29.04.2026
SUMMARY:Schach für Hobbyspieler - Ein spielerisches Fitnesstraining für Gehirn und Konzentration Kleingruppe (261-304003) 
LOCATION:Augustinushaus Rösrath (rechter Raum), Hauptstraße 70, 51503 Rösrath
END:VEVENT
END:VCALENDAR