BEGIN:VCALENDAR
VERSION:2.0
PRODID:https://www.kufer.de/kuferweb / DE
METHOD:PUBLISH
CALSCALE:GREGORIAN
X-WR-TIMEZONE:Europe/Berlin
BEGIN:VTIMEZONE
TZID:Europe/Berlin
X-LIC-LOCATION:Europe/Berlin
BEGIN:DAYLIGHT
TZOFFSETFROM:+0100
TZOFFSETTO:+0200
TZNAME:CEST
DTSTART:19700329T020000
RRULE:FREQ=YEARLY;INTERVAL=1;BYDAY=-1SU;BYMONTH=3
END:DAYLIGHT
BEGIN:STANDARD
TZOFFSETFROM:+0200
TZOFFSETTO:+0100
TZNAME:CET
DTSTART:19701025T030000
RRULE:FREQ=YEARLY;INTERVAL=1;BYDAY=-1SU;BYMONTH=10
END:STANDARD
END:VTIMEZONE
BEGIN:VEVENT
DTSTAMP:20260424T195352
DTSTART;TZID=Europe/Berlin:20260413T083000
DTEND;TZID=Europe/Berlin:20260413T100000
UID:261-312003-20260413T083000@VHSOVERATH/RÖSRATH
SUMMARY:Feldenkrais - Bewusstheit durch Bewegung (261-312003) 
LOCATION:Kulturbahnhof, Raum 3, Bahnhofplatz 5, 51491 Overath
END:VEVENT
BEGIN:VEVENT
DTSTAMP:20260424T195352
DTSTART;TZID=Europe/Berlin:20260420T083000
DTEND;TZID=Europe/Berlin:20260420T100000
UID:261-312003-20260420T083000@VHSOVERATH/RÖSRATH
SUMMARY:Feldenkrais - Bewusstheit durch Bewegung (261-312003) 
LOCATION:Kulturbahnhof, Raum 3, Bahnhofplatz 5, 51491 Overath
END:VEVENT
BEGIN:VEVENT
DTSTAMP:20260424T195352
DTSTART;TZID=Europe/Berlin:20260427T083000
DTEND;TZID=Europe/Berlin:20260427T100000
UID:261-312003-20260427T083000@VHSOVERATH/RÖSRATH
SUMMARY:Feldenkrais - Bewusstheit durch Bewegung (261-312003) 
LOCATION:Kulturbahnhof, Raum 3, Bahnhofplatz 5, 51491 Overath
END:VEVENT
BEGIN:VEVENT
DTSTAMP:20260424T195352
DTSTART;TZID=Europe/Berlin:20260504T083000
DTEND;TZID=Europe/Berlin:20260504T100000
UID:261-312003-20260504T083000@VHSOVERATH/RÖSRATH
SUMMARY:Feldenkrais - Bewusstheit durch Bewegung (261-312003) 
LOCATION:Kulturbahnhof, Raum 3, Bahnhofplatz 5, 51491 Overath
END:VEVENT
BEGIN:VEVENT
DTSTAMP:20260424T195352
DTSTART;TZID=Europe/Berlin:20260511T083000
DTEND;TZID=Europe/Berlin:20260511T100000
UID:261-312003-20260511T083000@VHSOVERATH/RÖSRATH
SUMMARY:Feldenkrais - Bewusstheit durch Bewegung (261-312003) 
LOCATION:Kulturbahnhof, Raum 3, Bahnhofplatz 5, 51491 Overath
END:VEVENT
BEGIN:VEVENT
DTSTAMP:20260424T195352
DTSTART;TZID=Europe/Berlin:20260518T083000
DTEND;TZID=Europe/Berlin:20260518T100000
UID:261-312003-20260518T083000@VHSOVERATH/RÖSRATH
SUMMARY:Feldenkrais - Bewusstheit durch Bewegung (261-312003) 
LOCATION:Kulturbahnhof, Raum 3, Bahnhofplatz 5, 51491 Overath
END:VEVENT
BEGIN:VEVENT
DTSTAMP:20260424T195352
DTSTART;TZID=Europe/Berlin:20260601T083000
DTEND;TZID=Europe/Berlin:20260601T100000
UID:261-312003-20260601T083000@VHSOVERATH/RÖSRATH
SUMMARY:Feldenkrais - Bewusstheit durch Bewegung (261-312003) 
LOCATION:Kulturbahnhof, Raum 3, Bahnhofplatz 5, 51491 Overath
END:VEVENT
BEGIN:VEVENT
DTSTAMP:20260424T195352
DTSTART;TZID=Europe/Berlin:20260608T083000
DTEND;TZID=Europe/Berlin:20260608T100000
UID:261-312003-20260608T083000@VHSOVERATH/RÖSRATH
SUMMARY:Feldenkrais - Bewusstheit durch Bewegung (261-312003) 
LOCATION:Kulturbahnhof, Raum 3, Bahnhofplatz 5, 51491 Overath
END:VEVENT
END:VCALENDAR