BEGIN:VCALENDAR
VERSION:2.0
PRODID:https://www.kufer.de/kuferweb / DE
METHOD:PUBLISH
CALSCALE:GREGORIAN
X-WR-TIMEZONE:Europe/Berlin
BEGIN:VTIMEZONE
TZID:Europe/Berlin
X-LIC-LOCATION:Europe/Berlin
BEGIN:DAYLIGHT
TZOFFSETFROM:+0100
TZOFFSETTO:+0200
TZNAME:CEST
DTSTART:19700329T020000
RRULE:FREQ=YEARLY;INTERVAL=1;BYDAY=-1SU;BYMONTH=3
END:DAYLIGHT
BEGIN:STANDARD
TZOFFSETFROM:+0200
TZOFFSETTO:+0100
TZNAME:CET
DTSTART:19701025T030000
RRULE:FREQ=YEARLY;INTERVAL=1;BYDAY=-1SU;BYMONTH=10
END:STANDARD
END:VTIMEZONE
BEGIN:VEVENT
DTSTAMP:20260424T182241
DTSTART;TZID=Europe/Berlin:20260417T091500
DTEND;TZID=Europe/Berlin:20260417T104500
UID:261-318011-20260417T091500@VHSOVERATH/RÖSRATH
SUMMARY:Hatha Yoga (261-318011) 
LOCATION:VHS-Studienhaus, Raum 7, Schulstraße 15, 51491 Overath
END:VEVENT
BEGIN:VEVENT
DTSTAMP:20260424T182241
DTSTART;TZID=Europe/Berlin:20260424T091500
DTEND;TZID=Europe/Berlin:20260424T104500
UID:261-318011-20260424T091500@VHSOVERATH/RÖSRATH
SUMMARY:Hatha Yoga (261-318011) 
LOCATION:VHS-Studienhaus, Raum 7, Schulstraße 15, 51491 Overath
END:VEVENT
BEGIN:VEVENT
DTSTAMP:20260424T182241
DTSTART;TZID=Europe/Berlin:20260508T091500
DTEND;TZID=Europe/Berlin:20260508T104500
UID:261-318011-20260508T091500@VHSOVERATH/RÖSRATH
SUMMARY:Hatha Yoga (261-318011) 
LOCATION:VHS-Studienhaus, Raum 7, Schulstraße 15, 51491 Overath
END:VEVENT
BEGIN:VEVENT
DTSTAMP:20260424T182241
DTSTART;TZID=Europe/Berlin:20260515T091500
DTEND;TZID=Europe/Berlin:20260515T104500
UID:261-318011-20260515T091500@VHSOVERATH/RÖSRATH
SUMMARY:Hatha Yoga (261-318011) 
LOCATION:VHS-Studienhaus, Raum 7, Schulstraße 15, 51491 Overath
END:VEVENT
BEGIN:VEVENT
DTSTAMP:20260424T182241
DTSTART;TZID=Europe/Berlin:20260522T091500
DTEND;TZID=Europe/Berlin:20260522T104500
UID:261-318011-20260522T091500@VHSOVERATH/RÖSRATH
SUMMARY:Hatha Yoga (261-318011) 
LOCATION:VHS-Studienhaus, Raum 7, Schulstraße 15, 51491 Overath
END:VEVENT
BEGIN:VEVENT
DTSTAMP:20260424T182241
DTSTART;TZID=Europe/Berlin:20260529T091500
DTEND;TZID=Europe/Berlin:20260529T104500
UID:261-318011-20260529T091500@VHSOVERATH/RÖSRATH
SUMMARY:Hatha Yoga (261-318011) 
LOCATION:VHS-Studienhaus, Raum 7, Schulstraße 15, 51491 Overath
END:VEVENT
BEGIN:VEVENT
DTSTAMP:20260424T182241
DTSTART;TZID=Europe/Berlin:20260605T091500
DTEND;TZID=Europe/Berlin:20260605T104500
UID:261-318011-20260605T091500@VHSOVERATH/RÖSRATH
SUMMARY:Hatha Yoga (261-318011) 
LOCATION:VHS-Studienhaus, Raum 7, Schulstraße 15, 51491 Overath
END:VEVENT
BEGIN:VEVENT
DTSTAMP:20260424T182241
DTSTART;TZID=Europe/Berlin:20260612T091500
DTEND;TZID=Europe/Berlin:20260612T104500
UID:261-318011-20260612T091500@VHSOVERATH/RÖSRATH
SUMMARY:Hatha Yoga (261-318011) 
LOCATION:VHS-Studienhaus, Raum 7, Schulstraße 15, 51491 Overath
END:VEVENT
BEGIN:VEVENT
DTSTAMP:20260424T182241
DTSTART;TZID=Europe/Berlin:20260619T091500
DTEND;TZID=Europe/Berlin:20260619T104500
UID:261-318011-20260619T091500@VHSOVERATH/RÖSRATH
SUMMARY:Hatha Yoga (261-318011) 
LOCATION:VHS-Studienhaus, Raum 7, Schulstraße 15, 51491 Overath
END:VEVENT
BEGIN:VEVENT
DTSTAMP:20260424T182241
DTSTART;TZID=Europe/Berlin:20260626T091500
DTEND;TZID=Europe/Berlin:20260626T104500
UID:261-318011-20260626T091500@VHSOVERATH/RÖSRATH
SUMMARY:Hatha Yoga (261-318011) 
LOCATION:VHS-Studienhaus, Raum 7, Schulstraße 15, 51491 Overath
END:VEVENT
END:VCALENDAR