BEGIN:VCALENDAR
VERSION:2.0
PRODID:https://www.kufer.de/kuferweb / DE
METHOD:PUBLISH
CALSCALE:GREGORIAN
X-WR-TIMEZONE:Europe/Berlin
BEGIN:VTIMEZONE
TZID:Europe/Berlin
X-LIC-LOCATION:Europe/Berlin
BEGIN:DAYLIGHT
TZOFFSETFROM:+0100
TZOFFSETTO:+0200
TZNAME:CEST
DTSTART:19700329T020000
RRULE:FREQ=YEARLY;INTERVAL=1;BYDAY=-1SU;BYMONTH=3
END:DAYLIGHT
BEGIN:STANDARD
TZOFFSETFROM:+0200
TZOFFSETTO:+0100
TZNAME:CET
DTSTART:19701025T030000
RRULE:FREQ=YEARLY;INTERVAL=1;BYDAY=-1SU;BYMONTH=10
END:STANDARD
END:VTIMEZONE
BEGIN:VEVENT
DTSTAMP:20260424T201814
DTSTART;TZID=Europe/Berlin:20260422T181500
DTEND;TZID=Europe/Berlin:20260422T194500
UID:261-318012-20260422T181500@VHSOVERATH/RÖSRATH
SUMMARY:Hatha Yoga (261-318012) 
LOCATION:Kulturbahnhof, Raum 3, Bahnhofplatz 5, 51491 Overath
END:VEVENT
BEGIN:VEVENT
DTSTAMP:20260424T201814
DTSTART;TZID=Europe/Berlin:20260429T181500
DTEND;TZID=Europe/Berlin:20260429T194500
UID:261-318012-20260429T181500@VHSOVERATH/RÖSRATH
SUMMARY:Hatha Yoga (261-318012) 
LOCATION:Kulturbahnhof, Raum 3, Bahnhofplatz 5, 51491 Overath
END:VEVENT
BEGIN:VEVENT
DTSTAMP:20260424T201814
DTSTART;TZID=Europe/Berlin:20260506T181500
DTEND;TZID=Europe/Berlin:20260506T194500
UID:261-318012-20260506T181500@VHSOVERATH/RÖSRATH
SUMMARY:Hatha Yoga (261-318012) 
LOCATION:Kulturbahnhof, Raum 3, Bahnhofplatz 5, 51491 Overath
END:VEVENT
BEGIN:VEVENT
DTSTAMP:20260424T201814
DTSTART;TZID=Europe/Berlin:20260513T181500
DTEND;TZID=Europe/Berlin:20260513T194500
UID:261-318012-20260513T181500@VHSOVERATH/RÖSRATH
SUMMARY:Hatha Yoga (261-318012) 
LOCATION:Kulturbahnhof, Raum 3, Bahnhofplatz 5, 51491 Overath
END:VEVENT
BEGIN:VEVENT
DTSTAMP:20260424T201814
DTSTART;TZID=Europe/Berlin:20260520T181500
DTEND;TZID=Europe/Berlin:20260520T194500
UID:261-318012-20260520T181500@VHSOVERATH/RÖSRATH
SUMMARY:Hatha Yoga (261-318012) 
LOCATION:Kulturbahnhof, Raum 3, Bahnhofplatz 5, 51491 Overath
END:VEVENT
BEGIN:VEVENT
DTSTAMP:20260424T201814
DTSTART;TZID=Europe/Berlin:20260527T181500
DTEND;TZID=Europe/Berlin:20260527T194500
UID:261-318012-20260527T181500@VHSOVERATH/RÖSRATH
SUMMARY:Hatha Yoga (261-318012) 
LOCATION:Kulturbahnhof, Raum 3, Bahnhofplatz 5, 51491 Overath
END:VEVENT
BEGIN:VEVENT
DTSTAMP:20260424T201814
DTSTART;TZID=Europe/Berlin:20260603T181500
DTEND;TZID=Europe/Berlin:20260603T194500
UID:261-318012-20260603T181500@VHSOVERATH/RÖSRATH
SUMMARY:Hatha Yoga (261-318012) 
LOCATION:Kulturbahnhof, Raum 3, Bahnhofplatz 5, 51491 Overath
END:VEVENT
BEGIN:VEVENT
DTSTAMP:20260424T201814
DTSTART;TZID=Europe/Berlin:20260610T181500
DTEND;TZID=Europe/Berlin:20260610T194500
UID:261-318012-20260610T181500@VHSOVERATH/RÖSRATH
SUMMARY:Hatha Yoga (261-318012) 
LOCATION:Kulturbahnhof, Raum 3, Bahnhofplatz 5, 51491 Overath
END:VEVENT
BEGIN:VEVENT
DTSTAMP:20260424T201814
DTSTART;TZID=Europe/Berlin:20260617T181500
DTEND;TZID=Europe/Berlin:20260617T194500
UID:261-318012-20260617T181500@VHSOVERATH/RÖSRATH
SUMMARY:Hatha Yoga (261-318012) 
LOCATION:Kulturbahnhof, Raum 3, Bahnhofplatz 5, 51491 Overath
END:VEVENT
BEGIN:VEVENT
DTSTAMP:20260424T201814
DTSTART;TZID=Europe/Berlin:20260624T181500
DTEND;TZID=Europe/Berlin:20260624T194500
UID:261-318012-20260624T181500@VHSOVERATH/RÖSRATH
SUMMARY:Hatha Yoga (261-318012) 
LOCATION:Kulturbahnhof, Raum 3, Bahnhofplatz 5, 51491 Overath
END:VEVENT
BEGIN:VEVENT
DTSTAMP:20260424T201814
DTSTART;TZID=Europe/Berlin:20260701T181500
DTEND;TZID=Europe/Berlin:20260701T194500
UID:261-318012-20260701T181500@VHSOVERATH/RÖSRATH
DESCRIPTION:Ersatz für Ausfall am 15.04.2026
SUMMARY:Hatha Yoga (261-318012) 
LOCATION:Kulturbahnhof, Raum 3, Bahnhofplatz 5, 51491 Overath
END:VEVENT
END:VCALENDAR