BEGIN:VCALENDAR
VERSION:2.0
PRODID:https://www.kufer.de/kuferweb / DE
METHOD:PUBLISH
CALSCALE:GREGORIAN
X-WR-TIMEZONE:Europe/Berlin
BEGIN:VTIMEZONE
TZID:Europe/Berlin
X-LIC-LOCATION:Europe/Berlin
BEGIN:DAYLIGHT
TZOFFSETFROM:+0100
TZOFFSETTO:+0200
TZNAME:CEST
DTSTART:19700329T020000
RRULE:FREQ=YEARLY;INTERVAL=1;BYDAY=-1SU;BYMONTH=3
END:DAYLIGHT
BEGIN:STANDARD
TZOFFSETFROM:+0200
TZOFFSETTO:+0100
TZNAME:CET
DTSTART:19701025T030000
RRULE:FREQ=YEARLY;INTERVAL=1;BYDAY=-1SU;BYMONTH=10
END:STANDARD
END:VTIMEZONE
BEGIN:VEVENT
DTSTAMP:20260424T195714
DTSTART;TZID=Europe/Berlin:20260504T072000
DTEND;TZID=Europe/Berlin:20260504T073500
UID:261-321002-20260504T072000@VHSOVERATH/RÖSRATH
SUMMARY:@Bauch Challenge in 30 Tagen (261-321002) 
LOCATION:Online-Kurs, Schulstraße 15, 51491 Overath
END:VEVENT
BEGIN:VEVENT
DTSTAMP:20260424T195714
DTSTART;TZID=Europe/Berlin:20260505T072000
DTEND;TZID=Europe/Berlin:20260505T073500
UID:261-321002-20260505T072000@VHSOVERATH/RÖSRATH
SUMMARY:@Bauch Challenge in 30 Tagen (261-321002) 
LOCATION:Online-Kurs, Schulstraße 15, 51491 Overath
END:VEVENT
BEGIN:VEVENT
DTSTAMP:20260424T195714
DTSTART;TZID=Europe/Berlin:20260506T072000
DTEND;TZID=Europe/Berlin:20260506T073500
UID:261-321002-20260506T072000@VHSOVERATH/RÖSRATH
SUMMARY:@Bauch Challenge in 30 Tagen (261-321002) 
LOCATION:Online-Kurs, Schulstraße 15, 51491 Overath
END:VEVENT
BEGIN:VEVENT
DTSTAMP:20260424T195714
DTSTART;TZID=Europe/Berlin:20260507T072000
DTEND;TZID=Europe/Berlin:20260507T073500
UID:261-321002-20260507T072000@VHSOVERATH/RÖSRATH
SUMMARY:@Bauch Challenge in 30 Tagen (261-321002) 
LOCATION:Online-Kurs, Schulstraße 15, 51491 Overath
END:VEVENT
BEGIN:VEVENT
DTSTAMP:20260424T195714
DTSTART;TZID=Europe/Berlin:20260508T072000
DTEND;TZID=Europe/Berlin:20260508T073500
UID:261-321002-20260508T072000@VHSOVERATH/RÖSRATH
SUMMARY:@Bauch Challenge in 30 Tagen (261-321002) 
LOCATION:Online-Kurs, Schulstraße 15, 51491 Overath
END:VEVENT
BEGIN:VEVENT
DTSTAMP:20260424T195714
DTSTART;TZID=Europe/Berlin:20260511T072000
DTEND;TZID=Europe/Berlin:20260511T073500
UID:261-321002-20260511T072000@VHSOVERATH/RÖSRATH
SUMMARY:@Bauch Challenge in 30 Tagen (261-321002) 
LOCATION:Online-Kurs, Schulstraße 15, 51491 Overath
END:VEVENT
BEGIN:VEVENT
DTSTAMP:20260424T195714
DTSTART;TZID=Europe/Berlin:20260512T072000
DTEND;TZID=Europe/Berlin:20260512T073500
UID:261-321002-20260512T072000@VHSOVERATH/RÖSRATH
SUMMARY:@Bauch Challenge in 30 Tagen (261-321002) 
LOCATION:Online-Kurs, Schulstraße 15, 51491 Overath
END:VEVENT
BEGIN:VEVENT
DTSTAMP:20260424T195714
DTSTART;TZID=Europe/Berlin:20260513T072000
DTEND;TZID=Europe/Berlin:20260513T073500
UID:261-321002-20260513T072000@VHSOVERATH/RÖSRATH
SUMMARY:@Bauch Challenge in 30 Tagen (261-321002) 
LOCATION:Online-Kurs, Schulstraße 15, 51491 Overath
END:VEVENT
BEGIN:VEVENT
DTSTAMP:20260424T195714
DTSTART;TZID=Europe/Berlin:20260514T072000
DTEND;TZID=Europe/Berlin:20260514T073500
UID:261-321002-20260514T072000@VHSOVERATH/RÖSRATH
SUMMARY:@Bauch Challenge in 30 Tagen (261-321002) 
LOCATION:Online-Kurs, Schulstraße 15, 51491 Overath
END:VEVENT
BEGIN:VEVENT
DTSTAMP:20260424T195714
DTSTART;TZID=Europe/Berlin:20260515T072000
DTEND;TZID=Europe/Berlin:20260515T073500
UID:261-321002-20260515T072000@VHSOVERATH/RÖSRATH
SUMMARY:@Bauch Challenge in 30 Tagen (261-321002) 
LOCATION:Online-Kurs, Schulstraße 15, 51491 Overath
END:VEVENT
BEGIN:VEVENT
DTSTAMP:20260424T195714
DTSTART;TZID=Europe/Berlin:20260518T072000
DTEND;TZID=Europe/Berlin:20260518T073500
UID:261-321002-20260518T072000@VHSOVERATH/RÖSRATH
SUMMARY:@Bauch Challenge in 30 Tagen (261-321002) 
LOCATION:Online-Kurs, Schulstraße 15, 51491 Overath
END:VEVENT
BEGIN:VEVENT
DTSTAMP:20260424T195714
DTSTART;TZID=Europe/Berlin:20260519T072000
DTEND;TZID=Europe/Berlin:20260519T073500
UID:261-321002-20260519T072000@VHSOVERATH/RÖSRATH
SUMMARY:@Bauch Challenge in 30 Tagen (261-321002) 
LOCATION:Online-Kurs, Schulstraße 15, 51491 Overath
END:VEVENT
BEGIN:VEVENT
DTSTAMP:20260424T195714
DTSTART;TZID=Europe/Berlin:20260520T072000
DTEND;TZID=Europe/Berlin:20260520T073500
UID:261-321002-20260520T072000@VHSOVERATH/RÖSRATH
SUMMARY:@Bauch Challenge in 30 Tagen (261-321002) 
LOCATION:Online-Kurs, Schulstraße 15, 51491 Overath
END:VEVENT
BEGIN:VEVENT
DTSTAMP:20260424T195714
DTSTART;TZID=Europe/Berlin:20260521T072000
DTEND;TZID=Europe/Berlin:20260521T073500
UID:261-321002-20260521T072000@VHSOVERATH/RÖSRATH
SUMMARY:@Bauch Challenge in 30 Tagen (261-321002) 
LOCATION:Online-Kurs, Schulstraße 15, 51491 Overath
END:VEVENT
BEGIN:VEVENT
DTSTAMP:20260424T195714
DTSTART;TZID=Europe/Berlin:20260522T072000
DTEND;TZID=Europe/Berlin:20260522T073500
UID:261-321002-20260522T072000@VHSOVERATH/RÖSRATH
SUMMARY:@Bauch Challenge in 30 Tagen (261-321002) 
LOCATION:Online-Kurs, Schulstraße 15, 51491 Overath
END:VEVENT
BEGIN:VEVENT
DTSTAMP:20260424T195714
DTSTART;TZID=Europe/Berlin:20260525T072000
DTEND;TZID=Europe/Berlin:20260525T073500
UID:261-321002-20260525T072000@VHSOVERATH/RÖSRATH
SUMMARY:@Bauch Challenge in 30 Tagen (261-321002) 
LOCATION:Online-Kurs, Schulstraße 15, 51491 Overath
END:VEVENT
BEGIN:VEVENT
DTSTAMP:20260424T195714
DTSTART;TZID=Europe/Berlin:20260526T072000
DTEND;TZID=Europe/Berlin:20260526T073500
UID:261-321002-20260526T072000@VHSOVERATH/RÖSRATH
SUMMARY:@Bauch Challenge in 30 Tagen (261-321002) 
LOCATION:Online-Kurs, Schulstraße 15, 51491 Overath
END:VEVENT
BEGIN:VEVENT
DTSTAMP:20260424T195714
DTSTART;TZID=Europe/Berlin:20260527T072000
DTEND;TZID=Europe/Berlin:20260527T073500
UID:261-321002-20260527T072000@VHSOVERATH/RÖSRATH
SUMMARY:@Bauch Challenge in 30 Tagen (261-321002) 
LOCATION:Online-Kurs, Schulstraße 15, 51491 Overath
END:VEVENT
BEGIN:VEVENT
DTSTAMP:20260424T195714
DTSTART;TZID=Europe/Berlin:20260528T072000
DTEND;TZID=Europe/Berlin:20260528T073500
UID:261-321002-20260528T072000@VHSOVERATH/RÖSRATH
SUMMARY:@Bauch Challenge in 30 Tagen (261-321002) 
LOCATION:Online-Kurs, Schulstraße 15, 51491 Overath
END:VEVENT
BEGIN:VEVENT
DTSTAMP:20260424T195714
DTSTART;TZID=Europe/Berlin:20260529T072000
DTEND;TZID=Europe/Berlin:20260529T073500
UID:261-321002-20260529T072000@VHSOVERATH/RÖSRATH
SUMMARY:@Bauch Challenge in 30 Tagen (261-321002) 
LOCATION:Online-Kurs, Schulstraße 15, 51491 Overath
END:VEVENT
BEGIN:VEVENT
DTSTAMP:20260424T195714
DTSTART;TZID=Europe/Berlin:20260601T072000
DTEND;TZID=Europe/Berlin:20260601T073500
UID:261-321002-20260601T072000@VHSOVERATH/RÖSRATH
SUMMARY:@Bauch Challenge in 30 Tagen (261-321002) 
LOCATION:Online-Kurs, Schulstraße 15, 51491 Overath
END:VEVENT
END:VCALENDAR