BEGIN:VCALENDAR
VERSION:2.0
PRODID:https://www.kufer.de/kuferweb / DE
METHOD:PUBLISH
CALSCALE:GREGORIAN
X-WR-TIMEZONE:Europe/Berlin
BEGIN:VTIMEZONE
TZID:Europe/Berlin
X-LIC-LOCATION:Europe/Berlin
BEGIN:DAYLIGHT
TZOFFSETFROM:+0100
TZOFFSETTO:+0200
TZNAME:CEST
DTSTART:19700329T020000
RRULE:FREQ=YEARLY;INTERVAL=1;BYDAY=-1SU;BYMONTH=3
END:DAYLIGHT
BEGIN:STANDARD
TZOFFSETFROM:+0200
TZOFFSETTO:+0100
TZNAME:CET
DTSTART:19701025T030000
RRULE:FREQ=YEARLY;INTERVAL=1;BYDAY=-1SU;BYMONTH=10
END:STANDARD
END:VTIMEZONE
BEGIN:VEVENT
DTSTAMP:20260424T195714
DTSTART;TZID=Europe/Berlin:20260501T080000
DTEND;TZID=Europe/Berlin:20260501T082000
UID:261-321009-20260501T080000@VHSOVERATH/RÖSRATH
SUMMARY:@Morgenfit - bewegt in den Tag starten (261-321009) 
LOCATION:Online-Kurs, Schulstraße 15, 51491 Overath
END:VEVENT
BEGIN:VEVENT
DTSTAMP:20260424T195714
DTSTART;TZID=Europe/Berlin:20260503T080000
DTEND;TZID=Europe/Berlin:20260503T082000
UID:261-321009-20260503T080000@VHSOVERATH/RÖSRATH
SUMMARY:@Morgenfit - bewegt in den Tag starten (261-321009) 
LOCATION:Online-Kurs, Schulstraße 15, 51491 Overath
END:VEVENT
BEGIN:VEVENT
DTSTAMP:20260424T195714
DTSTART;TZID=Europe/Berlin:20260504T080000
DTEND;TZID=Europe/Berlin:20260504T082000
UID:261-321009-20260504T080000@VHSOVERATH/RÖSRATH
SUMMARY:@Morgenfit - bewegt in den Tag starten (261-321009) 
LOCATION:Online-Kurs, Schulstraße 15, 51491 Overath
END:VEVENT
BEGIN:VEVENT
DTSTAMP:20260424T195714
DTSTART;TZID=Europe/Berlin:20260506T080000
DTEND;TZID=Europe/Berlin:20260506T082000
UID:261-321009-20260506T080000@VHSOVERATH/RÖSRATH
SUMMARY:@Morgenfit - bewegt in den Tag starten (261-321009) 
LOCATION:Online-Kurs, Schulstraße 15, 51491 Overath
END:VEVENT
BEGIN:VEVENT
DTSTAMP:20260424T195714
DTSTART;TZID=Europe/Berlin:20260508T080000
DTEND;TZID=Europe/Berlin:20260508T082000
UID:261-321009-20260508T080000@VHSOVERATH/RÖSRATH
SUMMARY:@Morgenfit - bewegt in den Tag starten (261-321009) 
LOCATION:Online-Kurs, Schulstraße 15, 51491 Overath
END:VEVENT
BEGIN:VEVENT
DTSTAMP:20260424T195714
DTSTART;TZID=Europe/Berlin:20260510T080000
DTEND;TZID=Europe/Berlin:20260510T082000
UID:261-321009-20260510T080000@VHSOVERATH/RÖSRATH
SUMMARY:@Morgenfit - bewegt in den Tag starten (261-321009) 
LOCATION:Online-Kurs, Schulstraße 15, 51491 Overath
END:VEVENT
BEGIN:VEVENT
DTSTAMP:20260424T195714
DTSTART;TZID=Europe/Berlin:20260511T080000
DTEND;TZID=Europe/Berlin:20260511T082000
UID:261-321009-20260511T080000@VHSOVERATH/RÖSRATH
SUMMARY:@Morgenfit - bewegt in den Tag starten (261-321009) 
LOCATION:Online-Kurs, Schulstraße 15, 51491 Overath
END:VEVENT
BEGIN:VEVENT
DTSTAMP:20260424T195714
DTSTART;TZID=Europe/Berlin:20260513T080000
DTEND;TZID=Europe/Berlin:20260513T082000
UID:261-321009-20260513T080000@VHSOVERATH/RÖSRATH
SUMMARY:@Morgenfit - bewegt in den Tag starten (261-321009) 
LOCATION:Online-Kurs, Schulstraße 15, 51491 Overath
END:VEVENT
BEGIN:VEVENT
DTSTAMP:20260424T195714
DTSTART;TZID=Europe/Berlin:20260515T080000
DTEND;TZID=Europe/Berlin:20260515T082000
UID:261-321009-20260515T080000@VHSOVERATH/RÖSRATH
SUMMARY:@Morgenfit - bewegt in den Tag starten (261-321009) 
LOCATION:Online-Kurs, Schulstraße 15, 51491 Overath
END:VEVENT
BEGIN:VEVENT
DTSTAMP:20260424T195714
DTSTART;TZID=Europe/Berlin:20260517T080000
DTEND;TZID=Europe/Berlin:20260517T082000
UID:261-321009-20260517T080000@VHSOVERATH/RÖSRATH
SUMMARY:@Morgenfit - bewegt in den Tag starten (261-321009) 
LOCATION:Online-Kurs, Schulstraße 15, 51491 Overath
END:VEVENT
BEGIN:VEVENT
DTSTAMP:20260424T195714
DTSTART;TZID=Europe/Berlin:20260518T080000
DTEND;TZID=Europe/Berlin:20260518T082000
UID:261-321009-20260518T080000@VHSOVERATH/RÖSRATH
SUMMARY:@Morgenfit - bewegt in den Tag starten (261-321009) 
LOCATION:Online-Kurs, Schulstraße 15, 51491 Overath
END:VEVENT
BEGIN:VEVENT
DTSTAMP:20260424T195714
DTSTART;TZID=Europe/Berlin:20260520T080000
DTEND;TZID=Europe/Berlin:20260520T082000
UID:261-321009-20260520T080000@VHSOVERATH/RÖSRATH
SUMMARY:@Morgenfit - bewegt in den Tag starten (261-321009) 
LOCATION:Online-Kurs, Schulstraße 15, 51491 Overath
END:VEVENT
BEGIN:VEVENT
DTSTAMP:20260424T195714
DTSTART;TZID=Europe/Berlin:20260522T080000
DTEND;TZID=Europe/Berlin:20260522T082000
UID:261-321009-20260522T080000@VHSOVERATH/RÖSRATH
SUMMARY:@Morgenfit - bewegt in den Tag starten (261-321009) 
LOCATION:Online-Kurs, Schulstraße 15, 51491 Overath
END:VEVENT
BEGIN:VEVENT
DTSTAMP:20260424T195714
DTSTART;TZID=Europe/Berlin:20260524T080000
DTEND;TZID=Europe/Berlin:20260524T082000
UID:261-321009-20260524T080000@VHSOVERATH/RÖSRATH
SUMMARY:@Morgenfit - bewegt in den Tag starten (261-321009) 
LOCATION:Online-Kurs, Schulstraße 15, 51491 Overath
END:VEVENT
BEGIN:VEVENT
DTSTAMP:20260424T195714
DTSTART;TZID=Europe/Berlin:20260525T080000
DTEND;TZID=Europe/Berlin:20260525T082000
UID:261-321009-20260525T080000@VHSOVERATH/RÖSRATH
SUMMARY:@Morgenfit - bewegt in den Tag starten (261-321009) 
LOCATION:Online-Kurs, Schulstraße 15, 51491 Overath
END:VEVENT
BEGIN:VEVENT
DTSTAMP:20260424T195714
DTSTART;TZID=Europe/Berlin:20260527T080000
DTEND;TZID=Europe/Berlin:20260527T082000
UID:261-321009-20260527T080000@VHSOVERATH/RÖSRATH
SUMMARY:@Morgenfit - bewegt in den Tag starten (261-321009) 
LOCATION:Online-Kurs, Schulstraße 15, 51491 Overath
END:VEVENT
BEGIN:VEVENT
DTSTAMP:20260424T195714
DTSTART;TZID=Europe/Berlin:20260529T080000
DTEND;TZID=Europe/Berlin:20260529T082000
UID:261-321009-20260529T080000@VHSOVERATH/RÖSRATH
SUMMARY:@Morgenfit - bewegt in den Tag starten (261-321009) 
LOCATION:Online-Kurs, Schulstraße 15, 51491 Overath
END:VEVENT
BEGIN:VEVENT
DTSTAMP:20260424T195714
DTSTART;TZID=Europe/Berlin:20260531T080000
DTEND;TZID=Europe/Berlin:20260531T082000
UID:261-321009-20260531T080000@VHSOVERATH/RÖSRATH
SUMMARY:@Morgenfit - bewegt in den Tag starten (261-321009) 
LOCATION:Online-Kurs, Schulstraße 15, 51491 Overath
END:VEVENT
END:VCALENDAR