BEGIN:VCALENDAR
VERSION:2.0
PRODID:https://www.kufer.de/kuferweb / DE
METHOD:PUBLISH
CALSCALE:GREGORIAN
X-WR-TIMEZONE:Europe/Berlin
BEGIN:VTIMEZONE
TZID:Europe/Berlin
X-LIC-LOCATION:Europe/Berlin
BEGIN:DAYLIGHT
TZOFFSETFROM:+0100
TZOFFSETTO:+0200
TZNAME:CEST
DTSTART:19700329T020000
RRULE:FREQ=YEARLY;INTERVAL=1;BYDAY=-1SU;BYMONTH=3
END:DAYLIGHT
BEGIN:STANDARD
TZOFFSETFROM:+0200
TZOFFSETTO:+0100
TZNAME:CET
DTSTART:19701025T030000
RRULE:FREQ=YEARLY;INTERVAL=1;BYDAY=-1SU;BYMONTH=10
END:STANDARD
END:VTIMEZONE
BEGIN:VEVENT
DTSTAMP:20260424T232351
DTSTART;TZID=Europe/Berlin:20260415T110000
DTEND;TZID=Europe/Berlin:20260415T114500
UID:261-326016-20260415T110000@VHSOVERATH/RÖSRATH
SUMMARY:Wassergymnastik (261-326016) 
LOCATION:Hallenbad Overath Badino, Propsteistraße 25, 51491 Overath
END:VEVENT
BEGIN:VEVENT
DTSTAMP:20260424T232351
DTSTART;TZID=Europe/Berlin:20260422T110000
DTEND;TZID=Europe/Berlin:20260422T114500
UID:261-326016-20260422T110000@VHSOVERATH/RÖSRATH
SUMMARY:Wassergymnastik (261-326016) 
LOCATION:Hallenbad Overath Badino, Propsteistraße 25, 51491 Overath
END:VEVENT
BEGIN:VEVENT
DTSTAMP:20260424T232351
DTSTART;TZID=Europe/Berlin:20260429T110000
DTEND;TZID=Europe/Berlin:20260429T114500
UID:261-326016-20260429T110000@VHSOVERATH/RÖSRATH
SUMMARY:Wassergymnastik (261-326016) 
LOCATION:Hallenbad Overath Badino, Propsteistraße 25, 51491 Overath
END:VEVENT
BEGIN:VEVENT
DTSTAMP:20260424T232351
DTSTART;TZID=Europe/Berlin:20260513T110000
DTEND;TZID=Europe/Berlin:20260513T114500
UID:261-326016-20260513T110000@VHSOVERATH/RÖSRATH
SUMMARY:Wassergymnastik (261-326016) 
LOCATION:Hallenbad Overath Badino, Propsteistraße 25, 51491 Overath
END:VEVENT
BEGIN:VEVENT
DTSTAMP:20260424T232351
DTSTART;TZID=Europe/Berlin:20260520T110000
DTEND;TZID=Europe/Berlin:20260520T114500
UID:261-326016-20260520T110000@VHSOVERATH/RÖSRATH
SUMMARY:Wassergymnastik (261-326016) 
LOCATION:Hallenbad Overath Badino, Propsteistraße 25, 51491 Overath
END:VEVENT
BEGIN:VEVENT
DTSTAMP:20260424T232351
DTSTART;TZID=Europe/Berlin:20260527T110000
DTEND;TZID=Europe/Berlin:20260527T114500
UID:261-326016-20260527T110000@VHSOVERATH/RÖSRATH
SUMMARY:Wassergymnastik (261-326016) 
LOCATION:Hallenbad Overath Badino, Propsteistraße 25, 51491 Overath
END:VEVENT
BEGIN:VEVENT
DTSTAMP:20260424T232351
DTSTART;TZID=Europe/Berlin:20260617T110000
DTEND;TZID=Europe/Berlin:20260617T114500
UID:261-326016-20260617T110000@VHSOVERATH/RÖSRATH
DESCRIPTION:Ersatz für Ausfall am 06.05.2026
SUMMARY:Wassergymnastik (261-326016) 
LOCATION:Hallenbad Overath Badino, Propsteistraße 25, 51491 Overath
END:VEVENT
BEGIN:VEVENT
DTSTAMP:20260424T232351
DTSTART;TZID=Europe/Berlin:20260624T110000
DTEND;TZID=Europe/Berlin:20260624T114500
UID:261-326016-20260624T110000@VHSOVERATH/RÖSRATH
DESCRIPTION:Ersatz für Ausfall am 03.06.2026
SUMMARY:Wassergymnastik (261-326016) 
LOCATION:Hallenbad Overath Badino, Propsteistraße 25, 51491 Overath
END:VEVENT
BEGIN:VEVENT
DTSTAMP:20260424T232351
DTSTART;TZID=Europe/Berlin:20260701T110000
DTEND;TZID=Europe/Berlin:20260701T114500
UID:261-326016-20260701T110000@VHSOVERATH/RÖSRATH
DESCRIPTION:Ersatz für Ausfall am 10.06.2026
SUMMARY:Wassergymnastik (261-326016) 
LOCATION:Hallenbad Overath Badino, Propsteistraße 25, 51491 Overath
END:VEVENT
END:VCALENDAR