BEGIN:VCALENDAR
VERSION:2.0
PRODID:https://www.kufer.de/kuferweb / DE
METHOD:PUBLISH
CALSCALE:GREGORIAN
X-WR-TIMEZONE:Europe/Berlin
BEGIN:VTIMEZONE
TZID:Europe/Berlin
X-LIC-LOCATION:Europe/Berlin
BEGIN:DAYLIGHT
TZOFFSETFROM:+0100
TZOFFSETTO:+0200
TZNAME:CEST
DTSTART:19700329T020000
RRULE:FREQ=YEARLY;INTERVAL=1;BYDAY=-1SU;BYMONTH=3
END:DAYLIGHT
BEGIN:STANDARD
TZOFFSETFROM:+0200
TZOFFSETTO:+0100
TZNAME:CET
DTSTART:19701025T030000
RRULE:FREQ=YEARLY;INTERVAL=1;BYDAY=-1SU;BYMONTH=10
END:STANDARD
END:VTIMEZONE
BEGIN:VEVENT
DTSTAMP:20260425T011534
DTSTART;TZID=Europe/Berlin:20260430T083000
DTEND;TZID=Europe/Berlin:20260430T093000
UID:261-336014-20260430T083000@VHSOVERATH/RÖSRATH
SUMMARY:Rückenfit am Vormittag (261-336014) 
LOCATION:Turnhalle Untereschbach, Am Lüderich 2, 51491 Overath
END:VEVENT
BEGIN:VEVENT
DTSTAMP:20260425T011534
DTSTART;TZID=Europe/Berlin:20260507T083000
DTEND;TZID=Europe/Berlin:20260507T093000
UID:261-336014-20260507T083000@VHSOVERATH/RÖSRATH
SUMMARY:Rückenfit am Vormittag (261-336014) 
LOCATION:Turnhalle Untereschbach, Am Lüderich 2, 51491 Overath
END:VEVENT
BEGIN:VEVENT
DTSTAMP:20260425T011534
DTSTART;TZID=Europe/Berlin:20260521T083000
DTEND;TZID=Europe/Berlin:20260521T093000
UID:261-336014-20260521T083000@VHSOVERATH/RÖSRATH
SUMMARY:Rückenfit am Vormittag (261-336014) 
LOCATION:Turnhalle Untereschbach, Am Lüderich 2, 51491 Overath
END:VEVENT
BEGIN:VEVENT
DTSTAMP:20260425T011534
DTSTART;TZID=Europe/Berlin:20260528T083000
DTEND;TZID=Europe/Berlin:20260528T093000
UID:261-336014-20260528T083000@VHSOVERATH/RÖSRATH
SUMMARY:Rückenfit am Vormittag (261-336014) 
LOCATION:Turnhalle Untereschbach, Am Lüderich 2, 51491 Overath
END:VEVENT
BEGIN:VEVENT
DTSTAMP:20260425T011534
DTSTART;TZID=Europe/Berlin:20260611T083000
DTEND;TZID=Europe/Berlin:20260611T093000
UID:261-336014-20260611T083000@VHSOVERATH/RÖSRATH
SUMMARY:Rückenfit am Vormittag (261-336014) 
LOCATION:Turnhalle Untereschbach, Am Lüderich 2, 51491 Overath
END:VEVENT
BEGIN:VEVENT
DTSTAMP:20260425T011534
DTSTART;TZID=Europe/Berlin:20260618T083000
DTEND;TZID=Europe/Berlin:20260618T093000
UID:261-336014-20260618T083000@VHSOVERATH/RÖSRATH
SUMMARY:Rückenfit am Vormittag (261-336014) 
LOCATION:Turnhalle Untereschbach, Am Lüderich 2, 51491 Overath
END:VEVENT
BEGIN:VEVENT
DTSTAMP:20260425T011534
DTSTART;TZID=Europe/Berlin:20260625T083000
DTEND;TZID=Europe/Berlin:20260625T093000
UID:261-336014-20260625T083000@VHSOVERATH/RÖSRATH
SUMMARY:Rückenfit am Vormittag (261-336014) 
LOCATION:Turnhalle Untereschbach, Am Lüderich 2, 51491 Overath
END:VEVENT
BEGIN:VEVENT
DTSTAMP:20260425T011534
DTSTART;TZID=Europe/Berlin:20260702T083000
DTEND;TZID=Europe/Berlin:20260702T093000
UID:261-336014-20260702T083000@VHSOVERATH/RÖSRATH
SUMMARY:Rückenfit am Vormittag (261-336014) 
LOCATION:Turnhalle Untereschbach, Am Lüderich 2, 51491 Overath
END:VEVENT
END:VCALENDAR