BEGIN:VCALENDAR
VERSION:2.0
PRODID:https://www.kufer.de/kuferweb / DE
METHOD:PUBLISH
CALSCALE:GREGORIAN
X-WR-TIMEZONE:Europe/Berlin
BEGIN:VTIMEZONE
TZID:Europe/Berlin
X-LIC-LOCATION:Europe/Berlin
BEGIN:DAYLIGHT
TZOFFSETFROM:+0100
TZOFFSETTO:+0200
TZNAME:CEST
DTSTART:19700329T020000
RRULE:FREQ=YEARLY;INTERVAL=1;BYDAY=-1SU;BYMONTH=3
END:DAYLIGHT
BEGIN:STANDARD
TZOFFSETFROM:+0200
TZOFFSETTO:+0100
TZNAME:CET
DTSTART:19701025T030000
RRULE:FREQ=YEARLY;INTERVAL=1;BYDAY=-1SU;BYMONTH=10
END:STANDARD
END:VTIMEZONE
BEGIN:VEVENT
DTSTAMP:20260424T232352
DTSTART;TZID=Europe/Berlin:20260430T093500
DTEND;TZID=Europe/Berlin:20260430T103500
UID:261-336017-20260430T093500@VHSOVERATH/RÖSRATH
SUMMARY:Rückentraining - sanft und effektiv (261-336017) 
LOCATION:Turnhalle Untereschbach, Am Lüderich 2, 51491 Overath
END:VEVENT
BEGIN:VEVENT
DTSTAMP:20260424T232352
DTSTART;TZID=Europe/Berlin:20260507T093500
DTEND;TZID=Europe/Berlin:20260507T103500
UID:261-336017-20260507T093500@VHSOVERATH/RÖSRATH
SUMMARY:Rückentraining - sanft und effektiv (261-336017) 
LOCATION:Turnhalle Untereschbach, Am Lüderich 2, 51491 Overath
END:VEVENT
BEGIN:VEVENT
DTSTAMP:20260424T232352
DTSTART;TZID=Europe/Berlin:20260521T093500
DTEND;TZID=Europe/Berlin:20260521T103500
UID:261-336017-20260521T093500@VHSOVERATH/RÖSRATH
SUMMARY:Rückentraining - sanft und effektiv (261-336017) 
LOCATION:Turnhalle Untereschbach, Am Lüderich 2, 51491 Overath
END:VEVENT
BEGIN:VEVENT
DTSTAMP:20260424T232352
DTSTART;TZID=Europe/Berlin:20260528T093500
DTEND;TZID=Europe/Berlin:20260528T103500
UID:261-336017-20260528T093500@VHSOVERATH/RÖSRATH
SUMMARY:Rückentraining - sanft und effektiv (261-336017) 
LOCATION:Turnhalle Untereschbach, Am Lüderich 2, 51491 Overath
END:VEVENT
BEGIN:VEVENT
DTSTAMP:20260424T232352
DTSTART;TZID=Europe/Berlin:20260611T093500
DTEND;TZID=Europe/Berlin:20260611T103500
UID:261-336017-20260611T093500@VHSOVERATH/RÖSRATH
SUMMARY:Rückentraining - sanft und effektiv (261-336017) 
LOCATION:Turnhalle Untereschbach, Am Lüderich 2, 51491 Overath
END:VEVENT
BEGIN:VEVENT
DTSTAMP:20260424T232352
DTSTART;TZID=Europe/Berlin:20260618T093500
DTEND;TZID=Europe/Berlin:20260618T103500
UID:261-336017-20260618T093500@VHSOVERATH/RÖSRATH
SUMMARY:Rückentraining - sanft und effektiv (261-336017) 
LOCATION:Turnhalle Untereschbach, Am Lüderich 2, 51491 Overath
END:VEVENT
BEGIN:VEVENT
DTSTAMP:20260424T232352
DTSTART;TZID=Europe/Berlin:20260625T093500
DTEND;TZID=Europe/Berlin:20260625T103500
UID:261-336017-20260625T093500@VHSOVERATH/RÖSRATH
SUMMARY:Rückentraining - sanft und effektiv (261-336017) 
LOCATION:Turnhalle Untereschbach, Am Lüderich 2, 51491 Overath
END:VEVENT
BEGIN:VEVENT
DTSTAMP:20260424T232352
DTSTART;TZID=Europe/Berlin:20260702T093500
DTEND;TZID=Europe/Berlin:20260702T103500
UID:261-336017-20260702T093500@VHSOVERATH/RÖSRATH
SUMMARY:Rückentraining - sanft und effektiv (261-336017) 
LOCATION:Turnhalle Untereschbach, Am Lüderich 2, 51491 Overath
END:VEVENT
END:VCALENDAR