BEGIN:VCALENDAR
VERSION:2.0
PRODID:https://www.kufer.de/kuferweb / DE
METHOD:PUBLISH
CALSCALE:GREGORIAN
X-WR-TIMEZONE:Europe/Berlin
BEGIN:VTIMEZONE
TZID:Europe/Berlin
X-LIC-LOCATION:Europe/Berlin
BEGIN:DAYLIGHT
TZOFFSETFROM:+0100
TZOFFSETTO:+0200
TZNAME:CEST
DTSTART:19700329T020000
RRULE:FREQ=YEARLY;INTERVAL=1;BYDAY=-1SU;BYMONTH=3
END:DAYLIGHT
BEGIN:STANDARD
TZOFFSETFROM:+0200
TZOFFSETTO:+0100
TZNAME:CET
DTSTART:19701025T030000
RRULE:FREQ=YEARLY;INTERVAL=1;BYDAY=-1SU;BYMONTH=10
END:STANDARD
END:VTIMEZONE
BEGIN:VEVENT
DTSTAMP:20260424T201744
DTSTART;TZID=Europe/Berlin:20260422T111500
DTEND;TZID=Europe/Berlin:20260422T124500
UID:261-40622V-20260422T111500@VHSOVERATH/RÖSRATH
SUMMARY:Englisch A2 / Kurs 2 (261-40622V) 
LOCATION:VHS-Studienhaus, Raum 11, Schulstraße 15, 51491 Overath
END:VEVENT
BEGIN:VEVENT
DTSTAMP:20260424T201744
DTSTART;TZID=Europe/Berlin:20260429T111500
DTEND;TZID=Europe/Berlin:20260429T124500
UID:261-40622V-20260429T111500@VHSOVERATH/RÖSRATH
SUMMARY:Englisch A2 / Kurs 2 (261-40622V) 
LOCATION:VHS-Studienhaus, Raum 11, Schulstraße 15, 51491 Overath
END:VEVENT
BEGIN:VEVENT
DTSTAMP:20260424T201744
DTSTART;TZID=Europe/Berlin:20260506T111500
DTEND;TZID=Europe/Berlin:20260506T124500
UID:261-40622V-20260506T111500@VHSOVERATH/RÖSRATH
SUMMARY:Englisch A2 / Kurs 2 (261-40622V) 
LOCATION:VHS-Studienhaus, Raum 11, Schulstraße 15, 51491 Overath
END:VEVENT
BEGIN:VEVENT
DTSTAMP:20260424T201744
DTSTART;TZID=Europe/Berlin:20260513T111500
DTEND;TZID=Europe/Berlin:20260513T124500
UID:261-40622V-20260513T111500@VHSOVERATH/RÖSRATH
SUMMARY:Englisch A2 / Kurs 2 (261-40622V) 
LOCATION:VHS-Studienhaus, Raum 11, Schulstraße 15, 51491 Overath
END:VEVENT
BEGIN:VEVENT
DTSTAMP:20260424T201744
DTSTART;TZID=Europe/Berlin:20260520T111500
DTEND;TZID=Europe/Berlin:20260520T124500
UID:261-40622V-20260520T111500@VHSOVERATH/RÖSRATH
SUMMARY:Englisch A2 / Kurs 2 (261-40622V) 
LOCATION:VHS-Studienhaus, Raum 11, Schulstraße 15, 51491 Overath
END:VEVENT
BEGIN:VEVENT
DTSTAMP:20260424T201744
DTSTART;TZID=Europe/Berlin:20260527T111500
DTEND;TZID=Europe/Berlin:20260527T124500
UID:261-40622V-20260527T111500@VHSOVERATH/RÖSRATH
SUMMARY:Englisch A2 / Kurs 2 (261-40622V) 
LOCATION:VHS-Studienhaus, Raum 11, Schulstraße 15, 51491 Overath
END:VEVENT
BEGIN:VEVENT
DTSTAMP:20260424T201744
DTSTART;TZID=Europe/Berlin:20260603T111500
DTEND;TZID=Europe/Berlin:20260603T124500
UID:261-40622V-20260603T111500@VHSOVERATH/RÖSRATH
SUMMARY:Englisch A2 / Kurs 2 (261-40622V) 
LOCATION:VHS-Studienhaus, Raum 11, Schulstraße 15, 51491 Overath
END:VEVENT
BEGIN:VEVENT
DTSTAMP:20260424T201744
DTSTART;TZID=Europe/Berlin:20260610T111500
DTEND;TZID=Europe/Berlin:20260610T124500
UID:261-40622V-20260610T111500@VHSOVERATH/RÖSRATH
SUMMARY:Englisch A2 / Kurs 2 (261-40622V) 
LOCATION:VHS-Studienhaus, Raum 11, Schulstraße 15, 51491 Overath
END:VEVENT
BEGIN:VEVENT
DTSTAMP:20260424T201744
DTSTART;TZID=Europe/Berlin:20260617T111500
DTEND;TZID=Europe/Berlin:20260617T124500
UID:261-40622V-20260617T111500@VHSOVERATH/RÖSRATH
SUMMARY:Englisch A2 / Kurs 2 (261-40622V) 
LOCATION:VHS-Studienhaus, Raum 11, Schulstraße 15, 51491 Overath
END:VEVENT
BEGIN:VEVENT
DTSTAMP:20260424T201744
DTSTART;TZID=Europe/Berlin:20260624T111500
DTEND;TZID=Europe/Berlin:20260624T124500
UID:261-40622V-20260624T111500@VHSOVERATH/RÖSRATH
SUMMARY:Englisch A2 / Kurs 2 (261-40622V) 
LOCATION:VHS-Studienhaus, Raum 11, Schulstraße 15, 51491 Overath
END:VEVENT
BEGIN:VEVENT
DTSTAMP:20260424T201744
DTSTART;TZID=Europe/Berlin:20260701T111500
DTEND;TZID=Europe/Berlin:20260701T124500
UID:261-40622V-20260701T111500@VHSOVERATH/RÖSRATH
SUMMARY:Englisch A2 / Kurs 2 (261-40622V) 
LOCATION:VHS-Studienhaus, Raum 11, Schulstraße 15, 51491 Overath
END:VEVENT
BEGIN:VEVENT
DTSTAMP:20260424T201744
DTSTART;TZID=Europe/Berlin:20260708T111500
DTEND;TZID=Europe/Berlin:20260708T124500
UID:261-40622V-20260708T111500@VHSOVERATH/RÖSRATH
SUMMARY:Englisch A2 / Kurs 2 (261-40622V) 
LOCATION:VHS-Studienhaus, Raum 11, Schulstraße 15, 51491 Overath
END:VEVENT
END:VCALENDAR