BEGIN:VCALENDAR
VERSION:2.0
PRODID:https://www.kufer.de/kuferweb / DE
METHOD:PUBLISH
CALSCALE:GREGORIAN
X-WR-TIMEZONE:Europe/Berlin
BEGIN:VTIMEZONE
TZID:Europe/Berlin
X-LIC-LOCATION:Europe/Berlin
BEGIN:DAYLIGHT
TZOFFSETFROM:+0100
TZOFFSETTO:+0200
TZNAME:CEST
DTSTART:19700329T020000
RRULE:FREQ=YEARLY;INTERVAL=1;BYDAY=-1SU;BYMONTH=3
END:DAYLIGHT
BEGIN:STANDARD
TZOFFSETFROM:+0200
TZOFFSETTO:+0100
TZNAME:CET
DTSTART:19701025T030000
RRULE:FREQ=YEARLY;INTERVAL=1;BYDAY=-1SU;BYMONTH=10
END:STANDARD
END:VTIMEZONE
BEGIN:VEVENT
DTSTAMP:20260424T212644
DTSTART;TZID=Europe/Berlin:20260421T104500
DTEND;TZID=Europe/Berlin:20260421T121500
UID:261-40636U-20260421T104500@VHSOVERATH/RÖSRATH
SUMMARY:Englisch B1 Conversation (261-40636U) 
LOCATION:VHS-Studienhaus, Raum 11, Schulstraße 15, 51491 Overath
END:VEVENT
BEGIN:VEVENT
DTSTAMP:20260424T212644
DTSTART;TZID=Europe/Berlin:20260428T104500
DTEND;TZID=Europe/Berlin:20260428T121500
UID:261-40636U-20260428T104500@VHSOVERATH/RÖSRATH
SUMMARY:Englisch B1 Conversation (261-40636U) 
LOCATION:VHS-Studienhaus, Raum 11, Schulstraße 15, 51491 Overath
END:VEVENT
BEGIN:VEVENT
DTSTAMP:20260424T212644
DTSTART;TZID=Europe/Berlin:20260505T104500
DTEND;TZID=Europe/Berlin:20260505T121500
UID:261-40636U-20260505T104500@VHSOVERATH/RÖSRATH
SUMMARY:Englisch B1 Conversation (261-40636U) 
LOCATION:VHS-Studienhaus, Raum 11, Schulstraße 15, 51491 Overath
END:VEVENT
BEGIN:VEVENT
DTSTAMP:20260424T212644
DTSTART;TZID=Europe/Berlin:20260512T104500
DTEND;TZID=Europe/Berlin:20260512T121500
UID:261-40636U-20260512T104500@VHSOVERATH/RÖSRATH
SUMMARY:Englisch B1 Conversation (261-40636U) 
LOCATION:VHS-Studienhaus, Raum 11, Schulstraße 15, 51491 Overath
END:VEVENT
BEGIN:VEVENT
DTSTAMP:20260424T212644
DTSTART;TZID=Europe/Berlin:20260519T104500
DTEND;TZID=Europe/Berlin:20260519T121500
UID:261-40636U-20260519T104500@VHSOVERATH/RÖSRATH
SUMMARY:Englisch B1 Conversation (261-40636U) 
LOCATION:VHS-Studienhaus, Raum 11, Schulstraße 15, 51491 Overath
END:VEVENT
BEGIN:VEVENT
DTSTAMP:20260424T212644
DTSTART;TZID=Europe/Berlin:20260602T104500
DTEND;TZID=Europe/Berlin:20260602T121500
UID:261-40636U-20260602T104500@VHSOVERATH/RÖSRATH
SUMMARY:Englisch B1 Conversation (261-40636U) 
LOCATION:VHS-Studienhaus, Raum 11, Schulstraße 15, 51491 Overath
END:VEVENT
BEGIN:VEVENT
DTSTAMP:20260424T212644
DTSTART;TZID=Europe/Berlin:20260609T104500
DTEND;TZID=Europe/Berlin:20260609T121500
UID:261-40636U-20260609T104500@VHSOVERATH/RÖSRATH
SUMMARY:Englisch B1 Conversation (261-40636U) 
LOCATION:VHS-Studienhaus, Raum 11, Schulstraße 15, 51491 Overath
END:VEVENT
BEGIN:VEVENT
DTSTAMP:20260424T212644
DTSTART;TZID=Europe/Berlin:20260616T104500
DTEND;TZID=Europe/Berlin:20260616T121500
UID:261-40636U-20260616T104500@VHSOVERATH/RÖSRATH
SUMMARY:Englisch B1 Conversation (261-40636U) 
LOCATION:VHS-Studienhaus, Raum 11, Schulstraße 15, 51491 Overath
END:VEVENT
BEGIN:VEVENT
DTSTAMP:20260424T212644
DTSTART;TZID=Europe/Berlin:20260623T104500
DTEND;TZID=Europe/Berlin:20260623T121500
UID:261-40636U-20260623T104500@VHSOVERATH/RÖSRATH
SUMMARY:Englisch B1 Conversation (261-40636U) 
LOCATION:VHS-Studienhaus, Raum 11, Schulstraße 15, 51491 Overath
END:VEVENT
BEGIN:VEVENT
DTSTAMP:20260424T212644
DTSTART;TZID=Europe/Berlin:20260630T104500
DTEND;TZID=Europe/Berlin:20260630T121500
UID:261-40636U-20260630T104500@VHSOVERATH/RÖSRATH
SUMMARY:Englisch B1 Conversation (261-40636U) 
LOCATION:VHS-Studienhaus, Raum 11, Schulstraße 15, 51491 Overath
END:VEVENT
BEGIN:VEVENT
DTSTAMP:20260424T212644
DTSTART;TZID=Europe/Berlin:20260707T104500
DTEND;TZID=Europe/Berlin:20260707T121500
UID:261-40636U-20260707T104500@VHSOVERATH/RÖSRATH
SUMMARY:Englisch B1 Conversation (261-40636U) 
LOCATION:VHS-Studienhaus, Raum 11, Schulstraße 15, 51491 Overath
END:VEVENT
END:VCALENDAR