BEGIN:VCALENDAR
VERSION:2.0
PRODID:https://www.kufer.de/kuferweb / DE
METHOD:PUBLISH
CALSCALE:GREGORIAN
X-WR-TIMEZONE:Europe/Berlin
BEGIN:VTIMEZONE
TZID:Europe/Berlin
X-LIC-LOCATION:Europe/Berlin
BEGIN:DAYLIGHT
TZOFFSETFROM:+0100
TZOFFSETTO:+0200
TZNAME:CEST
DTSTART:19700329T020000
RRULE:FREQ=YEARLY;INTERVAL=1;BYDAY=-1SU;BYMONTH=3
END:DAYLIGHT
BEGIN:STANDARD
TZOFFSETFROM:+0200
TZOFFSETTO:+0100
TZNAME:CET
DTSTART:19701025T030000
RRULE:FREQ=YEARLY;INTERVAL=1;BYDAY=-1SU;BYMONTH=10
END:STANDARD
END:VTIMEZONE
BEGIN:VEVENT
DTSTAMP:20260424T232449
DTSTART;TZID=Europe/Berlin:20260421T090000
DTEND;TZID=Europe/Berlin:20260421T103000
UID:261-40642E-20260421T090000@VHSOVERATH/RÖSRATH
SUMMARY:Englisch B2 Let's read and talk - Kleingruppenkurs (261-40642E) 
LOCATION:Schloss Eulenbroich, Medienwerkstatt, Zum Eulenbroicher Auel 19, 51503 Rösrath
END:VEVENT
BEGIN:VEVENT
DTSTAMP:20260424T232449
DTSTART;TZID=Europe/Berlin:20260428T090000
DTEND;TZID=Europe/Berlin:20260428T103000
UID:261-40642E-20260428T090000@VHSOVERATH/RÖSRATH
SUMMARY:Englisch B2 Let's read and talk - Kleingruppenkurs (261-40642E) 
LOCATION:Schloss Eulenbroich, Medienwerkstatt, Zum Eulenbroicher Auel 19, 51503 Rösrath
END:VEVENT
BEGIN:VEVENT
DTSTAMP:20260424T232449
DTSTART;TZID=Europe/Berlin:20260505T090000
DTEND;TZID=Europe/Berlin:20260505T103000
UID:261-40642E-20260505T090000@VHSOVERATH/RÖSRATH
SUMMARY:Englisch B2 Let's read and talk - Kleingruppenkurs (261-40642E) 
LOCATION:Schloss Eulenbroich, Medienwerkstatt, Zum Eulenbroicher Auel 19, 51503 Rösrath
END:VEVENT
BEGIN:VEVENT
DTSTAMP:20260424T232449
DTSTART;TZID=Europe/Berlin:20260512T090000
DTEND;TZID=Europe/Berlin:20260512T103000
UID:261-40642E-20260512T090000@VHSOVERATH/RÖSRATH
SUMMARY:Englisch B2 Let's read and talk - Kleingruppenkurs (261-40642E) 
LOCATION:Schloss Eulenbroich, Medienwerkstatt, Zum Eulenbroicher Auel 19, 51503 Rösrath
END:VEVENT
BEGIN:VEVENT
DTSTAMP:20260424T232449
DTSTART;TZID=Europe/Berlin:20260519T090000
DTEND;TZID=Europe/Berlin:20260519T103000
UID:261-40642E-20260519T090000@VHSOVERATH/RÖSRATH
SUMMARY:Englisch B2 Let's read and talk - Kleingruppenkurs (261-40642E) 
LOCATION:Schloss Eulenbroich, Medienwerkstatt, Zum Eulenbroicher Auel 19, 51503 Rösrath
END:VEVENT
BEGIN:VEVENT
DTSTAMP:20260424T232449
DTSTART;TZID=Europe/Berlin:20260602T090000
DTEND;TZID=Europe/Berlin:20260602T103000
UID:261-40642E-20260602T090000@VHSOVERATH/RÖSRATH
SUMMARY:Englisch B2 Let's read and talk - Kleingruppenkurs (261-40642E) 
LOCATION:Schloss Eulenbroich, Medienwerkstatt, Zum Eulenbroicher Auel 19, 51503 Rösrath
END:VEVENT
BEGIN:VEVENT
DTSTAMP:20260424T232449
DTSTART;TZID=Europe/Berlin:20260609T090000
DTEND;TZID=Europe/Berlin:20260609T103000
UID:261-40642E-20260609T090000@VHSOVERATH/RÖSRATH
SUMMARY:Englisch B2 Let's read and talk - Kleingruppenkurs (261-40642E) 
LOCATION:Schloss Eulenbroich, Medienwerkstatt, Zum Eulenbroicher Auel 19, 51503 Rösrath
END:VEVENT
BEGIN:VEVENT
DTSTAMP:20260424T232449
DTSTART;TZID=Europe/Berlin:20260616T090000
DTEND;TZID=Europe/Berlin:20260616T103000
UID:261-40642E-20260616T090000@VHSOVERATH/RÖSRATH
SUMMARY:Englisch B2 Let's read and talk - Kleingruppenkurs (261-40642E) 
LOCATION:Schloss Eulenbroich, Medienwerkstatt, Zum Eulenbroicher Auel 19, 51503 Rösrath
END:VEVENT
BEGIN:VEVENT
DTSTAMP:20260424T232449
DTSTART;TZID=Europe/Berlin:20260623T090000
DTEND;TZID=Europe/Berlin:20260623T103000
UID:261-40642E-20260623T090000@VHSOVERATH/RÖSRATH
SUMMARY:Englisch B2 Let's read and talk - Kleingruppenkurs (261-40642E) 
LOCATION:Schloss Eulenbroich, Medienwerkstatt, Zum Eulenbroicher Auel 19, 51503 Rösrath
END:VEVENT
BEGIN:VEVENT
DTSTAMP:20260424T232449
DTSTART;TZID=Europe/Berlin:20260630T090000
DTEND;TZID=Europe/Berlin:20260630T103000
UID:261-40642E-20260630T090000@VHSOVERATH/RÖSRATH
SUMMARY:Englisch B2 Let's read and talk - Kleingruppenkurs (261-40642E) 
LOCATION:Schloss Eulenbroich, Medienwerkstatt, Zum Eulenbroicher Auel 19, 51503 Rösrath
END:VEVENT
BEGIN:VEVENT
DTSTAMP:20260424T232449
DTSTART;TZID=Europe/Berlin:20260707T090000
DTEND;TZID=Europe/Berlin:20260707T103000
UID:261-40642E-20260707T090000@VHSOVERATH/RÖSRATH
SUMMARY:Englisch B2 Let's read and talk - Kleingruppenkurs (261-40642E) 
LOCATION:Schloss Eulenbroich, Medienwerkstatt, Zum Eulenbroicher Auel 19, 51503 Rösrath
END:VEVENT
END:VCALENDAR