BEGIN:VCALENDAR
VERSION:2.0
PRODID:https://www.kufer.de/kuferweb / DE
METHOD:PUBLISH
CALSCALE:GREGORIAN
X-WR-TIMEZONE:Europe/Berlin
BEGIN:VTIMEZONE
TZID:Europe/Berlin
X-LIC-LOCATION:Europe/Berlin
BEGIN:DAYLIGHT
TZOFFSETFROM:+0100
TZOFFSETTO:+0200
TZNAME:CEST
DTSTART:19700329T020000
RRULE:FREQ=YEARLY;INTERVAL=1;BYDAY=-1SU;BYMONTH=3
END:DAYLIGHT
BEGIN:STANDARD
TZOFFSETFROM:+0200
TZOFFSETTO:+0100
TZNAME:CET
DTSTART:19701025T030000
RRULE:FREQ=YEARLY;INTERVAL=1;BYDAY=-1SU;BYMONTH=10
END:STANDARD
END:VTIMEZONE
BEGIN:VEVENT
DTSTAMP:20260424T183103
DTSTART;TZID=Europe/Berlin:20260119T172000
DTEND;TZID=Europe/Berlin:20260119T185000
UID:261-40836U-20260119T172000@VHSOVERATH/RÖSRATH
SUMMARY:Französisch Conversation facile B1 (261-40836U) 
LOCATION:VHS-Studienhaus, Raum 11, Schulstraße 15, 51491 Overath
END:VEVENT
BEGIN:VEVENT
DTSTAMP:20260424T183103
DTSTART;TZID=Europe/Berlin:20260126T172000
DTEND;TZID=Europe/Berlin:20260126T185000
UID:261-40836U-20260126T172000@VHSOVERATH/RÖSRATH
SUMMARY:Französisch Conversation facile B1 (261-40836U) 
LOCATION:VHS-Studienhaus, Raum 11, Schulstraße 15, 51491 Overath
END:VEVENT
BEGIN:VEVENT
DTSTAMP:20260424T183103
DTSTART;TZID=Europe/Berlin:20260202T172000
DTEND;TZID=Europe/Berlin:20260202T185000
UID:261-40836U-20260202T172000@VHSOVERATH/RÖSRATH
SUMMARY:Französisch Conversation facile B1 (261-40836U) 
LOCATION:VHS-Studienhaus, Raum 11, Schulstraße 15, 51491 Overath
END:VEVENT
BEGIN:VEVENT
DTSTAMP:20260424T183103
DTSTART;TZID=Europe/Berlin:20260209T172000
DTEND;TZID=Europe/Berlin:20260209T185000
UID:261-40836U-20260209T172000@VHSOVERATH/RÖSRATH
SUMMARY:Französisch Conversation facile B1 (261-40836U) 
LOCATION:VHS-Studienhaus, Raum 11, Schulstraße 15, 51491 Overath
END:VEVENT
BEGIN:VEVENT
DTSTAMP:20260424T183103
DTSTART;TZID=Europe/Berlin:20260223T172000
DTEND;TZID=Europe/Berlin:20260223T185000
UID:261-40836U-20260223T172000@VHSOVERATH/RÖSRATH
SUMMARY:Französisch Conversation facile B1 (261-40836U) 
LOCATION:VHS-Studienhaus, Raum 11, Schulstraße 15, 51491 Overath
END:VEVENT
BEGIN:VEVENT
DTSTAMP:20260424T183103
DTSTART;TZID=Europe/Berlin:20260316T172000
DTEND;TZID=Europe/Berlin:20260316T185000
UID:261-40836U-20260316T172000@VHSOVERATH/RÖSRATH
SUMMARY:Französisch Conversation facile B1 (261-40836U) 
LOCATION:VHS-Studienhaus, Raum 11, Schulstraße 15, 51491 Overath
END:VEVENT
BEGIN:VEVENT
DTSTAMP:20260424T183103
DTSTART;TZID=Europe/Berlin:20260323T172000
DTEND;TZID=Europe/Berlin:20260323T185000
UID:261-40836U-20260323T172000@VHSOVERATH/RÖSRATH
SUMMARY:Französisch Conversation facile B1 (261-40836U) 
LOCATION:VHS-Studienhaus, Raum 11, Schulstraße 15, 51491 Overath
END:VEVENT
BEGIN:VEVENT
DTSTAMP:20260424T183103
DTSTART;TZID=Europe/Berlin:20260413T172000
DTEND;TZID=Europe/Berlin:20260413T185000
UID:261-40836U-20260413T172000@VHSOVERATH/RÖSRATH
SUMMARY:Französisch Conversation facile B1 (261-40836U) 
LOCATION:VHS-Studienhaus, Raum 11, Schulstraße 15, 51491 Overath
END:VEVENT
BEGIN:VEVENT
DTSTAMP:20260424T183103
DTSTART;TZID=Europe/Berlin:20260420T172000
DTEND;TZID=Europe/Berlin:20260420T185000
UID:261-40836U-20260420T172000@VHSOVERATH/RÖSRATH
SUMMARY:Französisch Conversation facile B1 (261-40836U) 
LOCATION:VHS-Studienhaus, Raum 11, Schulstraße 15, 51491 Overath
END:VEVENT
BEGIN:VEVENT
DTSTAMP:20260424T183103
DTSTART;TZID=Europe/Berlin:20260427T172000
DTEND;TZID=Europe/Berlin:20260427T185000
UID:261-40836U-20260427T172000@VHSOVERATH/RÖSRATH
SUMMARY:Französisch Conversation facile B1 (261-40836U) 
LOCATION:VHS-Studienhaus, Raum 11, Schulstraße 15, 51491 Overath
END:VEVENT
BEGIN:VEVENT
DTSTAMP:20260424T183103
DTSTART;TZID=Europe/Berlin:20260504T172000
DTEND;TZID=Europe/Berlin:20260504T185000
UID:261-40836U-20260504T172000@VHSOVERATH/RÖSRATH
SUMMARY:Französisch Conversation facile B1 (261-40836U) 
LOCATION:VHS-Studienhaus, Raum 11, Schulstraße 15, 51491 Overath
END:VEVENT
BEGIN:VEVENT
DTSTAMP:20260424T183103
DTSTART;TZID=Europe/Berlin:20260511T172000
DTEND;TZID=Europe/Berlin:20260511T185000
UID:261-40836U-20260511T172000@VHSOVERATH/RÖSRATH
SUMMARY:Französisch Conversation facile B1 (261-40836U) 
LOCATION:VHS-Studienhaus, Raum 11, Schulstraße 15, 51491 Overath
END:VEVENT
BEGIN:VEVENT
DTSTAMP:20260424T183103
DTSTART;TZID=Europe/Berlin:20260518T172000
DTEND;TZID=Europe/Berlin:20260518T185000
UID:261-40836U-20260518T172000@VHSOVERATH/RÖSRATH
SUMMARY:Französisch Conversation facile B1 (261-40836U) 
LOCATION:VHS-Studienhaus, Raum 11, Schulstraße 15, 51491 Overath
END:VEVENT
BEGIN:VEVENT
DTSTAMP:20260424T183103
DTSTART;TZID=Europe/Berlin:20260601T172000
DTEND;TZID=Europe/Berlin:20260601T185000
UID:261-40836U-20260601T172000@VHSOVERATH/RÖSRATH
SUMMARY:Französisch Conversation facile B1 (261-40836U) 
LOCATION:VHS-Studienhaus, Raum 11, Schulstraße 15, 51491 Overath
END:VEVENT
BEGIN:VEVENT
DTSTAMP:20260424T183103
DTSTART;TZID=Europe/Berlin:20260608T172000
DTEND;TZID=Europe/Berlin:20260608T185000
UID:261-40836U-20260608T172000@VHSOVERATH/RÖSRATH
SUMMARY:Französisch Conversation facile B1 (261-40836U) 
LOCATION:VHS-Studienhaus, Raum 11, Schulstraße 15, 51491 Overath
END:VEVENT
END:VCALENDAR