BEGIN:VCALENDAR
VERSION:2.0
PRODID:https://www.kufer.de/kuferweb / DE
METHOD:PUBLISH
CALSCALE:GREGORIAN
X-WR-TIMEZONE:Europe/Berlin
BEGIN:VTIMEZONE
TZID:Europe/Berlin
X-LIC-LOCATION:Europe/Berlin
BEGIN:DAYLIGHT
TZOFFSETFROM:+0100
TZOFFSETTO:+0200
TZNAME:CEST
DTSTART:19700329T020000
RRULE:FREQ=YEARLY;INTERVAL=1;BYDAY=-1SU;BYMONTH=3
END:DAYLIGHT
BEGIN:STANDARD
TZOFFSETFROM:+0200
TZOFFSETTO:+0100
TZNAME:CET
DTSTART:19701025T030000
RRULE:FREQ=YEARLY;INTERVAL=1;BYDAY=-1SU;BYMONTH=10
END:STANDARD
END:VTIMEZONE
BEGIN:VEVENT
DTSTAMP:20260424T201759
DTSTART;TZID=Europe/Berlin:20260413T104500
DTEND;TZID=Europe/Berlin:20260413T121500
UID:261-40838E-20260413T104500@VHSOVERATH/RÖSRATH
SUMMARY:Französisch B1 / B2 (261-40838E) 
LOCATION:Schloss Eulenbroich, Medienwerkstatt, Zum Eulenbroicher Auel 19, 51503 Rösrath
END:VEVENT
BEGIN:VEVENT
DTSTAMP:20260424T201759
DTSTART;TZID=Europe/Berlin:20260420T104500
DTEND;TZID=Europe/Berlin:20260420T121500
UID:261-40838E-20260420T104500@VHSOVERATH/RÖSRATH
SUMMARY:Französisch B1 / B2 (261-40838E) 
LOCATION:Schloss Eulenbroich, Medienwerkstatt, Zum Eulenbroicher Auel 19, 51503 Rösrath
END:VEVENT
BEGIN:VEVENT
DTSTAMP:20260424T201759
DTSTART;TZID=Europe/Berlin:20260427T104500
DTEND;TZID=Europe/Berlin:20260427T121500
UID:261-40838E-20260427T104500@VHSOVERATH/RÖSRATH
SUMMARY:Französisch B1 / B2 (261-40838E) 
LOCATION:Schloss Eulenbroich, Medienwerkstatt, Zum Eulenbroicher Auel 19, 51503 Rösrath
END:VEVENT
BEGIN:VEVENT
DTSTAMP:20260424T201759
DTSTART;TZID=Europe/Berlin:20260504T104500
DTEND;TZID=Europe/Berlin:20260504T121500
UID:261-40838E-20260504T104500@VHSOVERATH/RÖSRATH
SUMMARY:Französisch B1 / B2 (261-40838E) 
LOCATION:Schloss Eulenbroich, Medienwerkstatt, Zum Eulenbroicher Auel 19, 51503 Rösrath
END:VEVENT
BEGIN:VEVENT
DTSTAMP:20260424T201759
DTSTART;TZID=Europe/Berlin:20260511T104500
DTEND;TZID=Europe/Berlin:20260511T121500
UID:261-40838E-20260511T104500@VHSOVERATH/RÖSRATH
SUMMARY:Französisch B1 / B2 (261-40838E) 
LOCATION:Schloss Eulenbroich, Medienwerkstatt, Zum Eulenbroicher Auel 19, 51503 Rösrath
END:VEVENT
BEGIN:VEVENT
DTSTAMP:20260424T201759
DTSTART;TZID=Europe/Berlin:20260518T104500
DTEND;TZID=Europe/Berlin:20260518T121500
UID:261-40838E-20260518T104500@VHSOVERATH/RÖSRATH
SUMMARY:Französisch B1 / B2 (261-40838E) 
LOCATION:Schloss Eulenbroich, Medienwerkstatt, Zum Eulenbroicher Auel 19, 51503 Rösrath
END:VEVENT
BEGIN:VEVENT
DTSTAMP:20260424T201759
DTSTART;TZID=Europe/Berlin:20260601T104500
DTEND;TZID=Europe/Berlin:20260601T121500
UID:261-40838E-20260601T104500@VHSOVERATH/RÖSRATH
SUMMARY:Französisch B1 / B2 (261-40838E) 
LOCATION:Schloss Eulenbroich, Medienwerkstatt, Zum Eulenbroicher Auel 19, 51503 Rösrath
END:VEVENT
BEGIN:VEVENT
DTSTAMP:20260424T201759
DTSTART;TZID=Europe/Berlin:20260608T104500
DTEND;TZID=Europe/Berlin:20260608T121500
UID:261-40838E-20260608T104500@VHSOVERATH/RÖSRATH
SUMMARY:Französisch B1 / B2 (261-40838E) 
LOCATION:Schloss Eulenbroich, Medienwerkstatt, Zum Eulenbroicher Auel 19, 51503 Rösrath
END:VEVENT
END:VCALENDAR