BEGIN:VCALENDAR
VERSION:2.0
PRODID:https://www.kufer.de/kuferweb / DE
METHOD:PUBLISH
CALSCALE:GREGORIAN
X-WR-TIMEZONE:Europe/Berlin
BEGIN:VTIMEZONE
TZID:Europe/Berlin
X-LIC-LOCATION:Europe/Berlin
BEGIN:DAYLIGHT
TZOFFSETFROM:+0100
TZOFFSETTO:+0200
TZNAME:CEST
DTSTART:19700329T020000
RRULE:FREQ=YEARLY;INTERVAL=1;BYDAY=-1SU;BYMONTH=3
END:DAYLIGHT
BEGIN:STANDARD
TZOFFSETFROM:+0200
TZOFFSETTO:+0100
TZNAME:CET
DTSTART:19701025T030000
RRULE:FREQ=YEARLY;INTERVAL=1;BYDAY=-1SU;BYMONTH=10
END:STANDARD
END:VTIMEZONE
BEGIN:VEVENT
DTSTAMP:20260424T183102
DTSTART;TZID=Europe/Berlin:20260119T100000
DTEND;TZID=Europe/Berlin:20260119T113000
UID:261-40840U-20260119T100000@VHSOVERATH/RÖSRATH
SUMMARY:Französisch Cours de Conversation B2 (261-40840U) 
LOCATION:VHS-Studienhaus, Raum 11, Schulstraße 15, 51491 Overath
END:VEVENT
BEGIN:VEVENT
DTSTAMP:20260424T183102
DTSTART;TZID=Europe/Berlin:20260126T100000
DTEND;TZID=Europe/Berlin:20260126T113000
UID:261-40840U-20260126T100000@VHSOVERATH/RÖSRATH
SUMMARY:Französisch Cours de Conversation B2 (261-40840U) 
LOCATION:VHS-Studienhaus, Raum 11, Schulstraße 15, 51491 Overath
END:VEVENT
BEGIN:VEVENT
DTSTAMP:20260424T183102
DTSTART;TZID=Europe/Berlin:20260202T100000
DTEND;TZID=Europe/Berlin:20260202T113000
UID:261-40840U-20260202T100000@VHSOVERATH/RÖSRATH
SUMMARY:Französisch Cours de Conversation B2 (261-40840U) 
LOCATION:VHS-Studienhaus, Raum 11, Schulstraße 15, 51491 Overath
END:VEVENT
BEGIN:VEVENT
DTSTAMP:20260424T183102
DTSTART;TZID=Europe/Berlin:20260209T100000
DTEND;TZID=Europe/Berlin:20260209T113000
UID:261-40840U-20260209T100000@VHSOVERATH/RÖSRATH
SUMMARY:Französisch Cours de Conversation B2 (261-40840U) 
LOCATION:VHS-Studienhaus, Raum 11, Schulstraße 15, 51491 Overath
END:VEVENT
BEGIN:VEVENT
DTSTAMP:20260424T183102
DTSTART;TZID=Europe/Berlin:20260223T100000
DTEND;TZID=Europe/Berlin:20260223T113000
UID:261-40840U-20260223T100000@VHSOVERATH/RÖSRATH
SUMMARY:Französisch Cours de Conversation B2 (261-40840U) 
LOCATION:VHS-Studienhaus, Raum 11, Schulstraße 15, 51491 Overath
END:VEVENT
BEGIN:VEVENT
DTSTAMP:20260424T183102
DTSTART;TZID=Europe/Berlin:20260316T100000
DTEND;TZID=Europe/Berlin:20260316T113000
UID:261-40840U-20260316T100000@VHSOVERATH/RÖSRATH
SUMMARY:Französisch Cours de Conversation B2 (261-40840U) 
LOCATION:VHS-Studienhaus, Raum 11, Schulstraße 15, 51491 Overath
END:VEVENT
BEGIN:VEVENT
DTSTAMP:20260424T183102
DTSTART;TZID=Europe/Berlin:20260323T100000
DTEND;TZID=Europe/Berlin:20260323T113000
UID:261-40840U-20260323T100000@VHSOVERATH/RÖSRATH
SUMMARY:Französisch Cours de Conversation B2 (261-40840U) 
LOCATION:VHS-Studienhaus, Raum 10, Schulstraße 15, 51491 Overath
END:VEVENT
BEGIN:VEVENT
DTSTAMP:20260424T183102
DTSTART;TZID=Europe/Berlin:20260413T100000
DTEND;TZID=Europe/Berlin:20260413T113000
UID:261-40840U-20260413T100000@VHSOVERATH/RÖSRATH
SUMMARY:Französisch Cours de Conversation B2 (261-40840U) 
LOCATION:VHS-Studienhaus, Raum 11, Schulstraße 15, 51491 Overath
END:VEVENT
BEGIN:VEVENT
DTSTAMP:20260424T183102
DTSTART;TZID=Europe/Berlin:20260420T100000
DTEND;TZID=Europe/Berlin:20260420T113000
UID:261-40840U-20260420T100000@VHSOVERATH/RÖSRATH
SUMMARY:Französisch Cours de Conversation B2 (261-40840U) 
LOCATION:VHS-Studienhaus, Raum 11, Schulstraße 15, 51491 Overath
END:VEVENT
BEGIN:VEVENT
DTSTAMP:20260424T183102
DTSTART;TZID=Europe/Berlin:20260427T100000
DTEND;TZID=Europe/Berlin:20260427T113000
UID:261-40840U-20260427T100000@VHSOVERATH/RÖSRATH
SUMMARY:Französisch Cours de Conversation B2 (261-40840U) 
LOCATION:VHS-Studienhaus, Raum 11, Schulstraße 15, 51491 Overath
END:VEVENT
BEGIN:VEVENT
DTSTAMP:20260424T183102
DTSTART;TZID=Europe/Berlin:20260504T100000
DTEND;TZID=Europe/Berlin:20260504T113000
UID:261-40840U-20260504T100000@VHSOVERATH/RÖSRATH
SUMMARY:Französisch Cours de Conversation B2 (261-40840U) 
LOCATION:VHS-Studienhaus, Raum 11, Schulstraße 15, 51491 Overath
END:VEVENT
BEGIN:VEVENT
DTSTAMP:20260424T183102
DTSTART;TZID=Europe/Berlin:20260511T100000
DTEND;TZID=Europe/Berlin:20260511T113000
UID:261-40840U-20260511T100000@VHSOVERATH/RÖSRATH
SUMMARY:Französisch Cours de Conversation B2 (261-40840U) 
LOCATION:VHS-Studienhaus, Raum 11, Schulstraße 15, 51491 Overath
END:VEVENT
BEGIN:VEVENT
DTSTAMP:20260424T183102
DTSTART;TZID=Europe/Berlin:20260518T100000
DTEND;TZID=Europe/Berlin:20260518T113000
UID:261-40840U-20260518T100000@VHSOVERATH/RÖSRATH
SUMMARY:Französisch Cours de Conversation B2 (261-40840U) 
LOCATION:VHS-Studienhaus, Raum 11, Schulstraße 15, 51491 Overath
END:VEVENT
BEGIN:VEVENT
DTSTAMP:20260424T183102
DTSTART;TZID=Europe/Berlin:20260601T100000
DTEND;TZID=Europe/Berlin:20260601T113000
UID:261-40840U-20260601T100000@VHSOVERATH/RÖSRATH
SUMMARY:Französisch Cours de Conversation B2 (261-40840U) 
LOCATION:VHS-Studienhaus, Raum 11, Schulstraße 15, 51491 Overath
END:VEVENT
BEGIN:VEVENT
DTSTAMP:20260424T183102
DTSTART;TZID=Europe/Berlin:20260608T100000
DTEND;TZID=Europe/Berlin:20260608T113000
UID:261-40840U-20260608T100000@VHSOVERATH/RÖSRATH
SUMMARY:Französisch Cours de Conversation B2 (261-40840U) 
LOCATION:VHS-Studienhaus, Raum 11, Schulstraße 15, 51491 Overath
END:VEVENT
END:VCALENDAR