BEGIN:VCALENDAR
VERSION:2.0
PRODID:https://www.kufer.de/kuferweb / DE
METHOD:PUBLISH
CALSCALE:GREGORIAN
X-WR-TIMEZONE:Europe/Berlin
BEGIN:VTIMEZONE
TZID:Europe/Berlin
X-LIC-LOCATION:Europe/Berlin
BEGIN:DAYLIGHT
TZOFFSETFROM:+0100
TZOFFSETTO:+0200
TZNAME:CEST
DTSTART:19700329T020000
RRULE:FREQ=YEARLY;INTERVAL=1;BYDAY=-1SU;BYMONTH=3
END:DAYLIGHT
BEGIN:STANDARD
TZOFFSETFROM:+0200
TZOFFSETTO:+0100
TZNAME:CET
DTSTART:19701025T030000
RRULE:FREQ=YEARLY;INTERVAL=1;BYDAY=-1SU;BYMONTH=10
END:STANDARD
END:VTIMEZONE
BEGIN:VEVENT
DTSTAMP:20260424T232448
DTSTART;TZID=Europe/Berlin:20260619T180000
DTEND;TZID=Europe/Berlin:20260619T201500
UID:261-40881U-20260619T180000@VHSOVERATH/RÖSRATH
SUMMARY:Französisch für die Reise - für Teilnehmende ohne Vorkenntnisse (261-40881U) 
LOCATION:VHS-Studienhaus, Raum 11, Schulstraße 15, 51491 Overath
END:VEVENT
BEGIN:VEVENT
DTSTAMP:20260424T232448
DTSTART;TZID=Europe/Berlin:20260620T100000
DTEND;TZID=Europe/Berlin:20260620T121500
UID:261-40881U-20260620T100000@VHSOVERATH/RÖSRATH
SUMMARY:Französisch für die Reise - für Teilnehmende ohne Vorkenntnisse (261-40881U) 
LOCATION:VHS-Studienhaus, Raum 11, Schulstraße 15, 51491 Overath
END:VEVENT
BEGIN:VEVENT
DTSTAMP:20260424T232448
DTSTART;TZID=Europe/Berlin:20260626T180000
DTEND;TZID=Europe/Berlin:20260626T201500
UID:261-40881U-20260626T180000@VHSOVERATH/RÖSRATH
SUMMARY:Französisch für die Reise - für Teilnehmende ohne Vorkenntnisse (261-40881U) 
LOCATION:VHS-Studienhaus, Raum 11, Schulstraße 15, 51491 Overath
END:VEVENT
BEGIN:VEVENT
DTSTAMP:20260424T232448
DTSTART;TZID=Europe/Berlin:20260627T100000
DTEND;TZID=Europe/Berlin:20260627T121500
UID:261-40881U-20260627T100000@VHSOVERATH/RÖSRATH
SUMMARY:Französisch für die Reise - für Teilnehmende ohne Vorkenntnisse (261-40881U) 
LOCATION:VHS-Studienhaus, Raum 11, Schulstraße 15, 51491 Overath
END:VEVENT
END:VCALENDAR