BEGIN:VCALENDAR
VERSION:2.0
PRODID:https://www.kufer.de/kuferweb / DE
METHOD:PUBLISH
CALSCALE:GREGORIAN
X-WR-TIMEZONE:Europe/Berlin
BEGIN:VTIMEZONE
TZID:Europe/Berlin
X-LIC-LOCATION:Europe/Berlin
BEGIN:DAYLIGHT
TZOFFSETFROM:+0100
TZOFFSETTO:+0200
TZNAME:CEST
DTSTART:19700329T020000
RRULE:FREQ=YEARLY;INTERVAL=1;BYDAY=-1SU;BYMONTH=3
END:DAYLIGHT
BEGIN:STANDARD
TZOFFSETFROM:+0200
TZOFFSETTO:+0100
TZNAME:CET
DTSTART:19701025T030000
RRULE:FREQ=YEARLY;INTERVAL=1;BYDAY=-1SU;BYMONTH=10
END:STANDARD
END:VTIMEZONE
BEGIN:VEVENT
DTSTAMP:20260424T183103
DTSTART;TZID=Europe/Berlin:20260114T210000
DTEND;TZID=Europe/Berlin:20260114T220000
UID:261-40924Z-20260114T210000@VHSOVERATH/RÖSRATH
SUMMARY:@Italienisch A2 / 4. Semester - Online (261-40924Z) 
LOCATION:vhs.cloud
END:VEVENT
BEGIN:VEVENT
DTSTAMP:20260424T183103
DTSTART;TZID=Europe/Berlin:20260121T210000
DTEND;TZID=Europe/Berlin:20260121T220000
UID:261-40924Z-20260121T210000@VHSOVERATH/RÖSRATH
SUMMARY:@Italienisch A2 / 4. Semester - Online (261-40924Z) 
LOCATION:vhs.cloud
END:VEVENT
BEGIN:VEVENT
DTSTAMP:20260424T183103
DTSTART;TZID=Europe/Berlin:20260128T210000
DTEND;TZID=Europe/Berlin:20260128T220000
UID:261-40924Z-20260128T210000@VHSOVERATH/RÖSRATH
SUMMARY:@Italienisch A2 / 4. Semester - Online (261-40924Z) 
LOCATION:vhs.cloud
END:VEVENT
BEGIN:VEVENT
DTSTAMP:20260424T183103
DTSTART;TZID=Europe/Berlin:20260204T210000
DTEND;TZID=Europe/Berlin:20260204T220000
UID:261-40924Z-20260204T210000@VHSOVERATH/RÖSRATH
SUMMARY:@Italienisch A2 / 4. Semester - Online (261-40924Z) 
LOCATION:vhs.cloud
END:VEVENT
BEGIN:VEVENT
DTSTAMP:20260424T183103
DTSTART;TZID=Europe/Berlin:20260211T210000
DTEND;TZID=Europe/Berlin:20260211T220000
UID:261-40924Z-20260211T210000@VHSOVERATH/RÖSRATH
SUMMARY:@Italienisch A2 / 4. Semester - Online (261-40924Z) 
LOCATION:vhs.cloud
END:VEVENT
BEGIN:VEVENT
DTSTAMP:20260424T183103
DTSTART;TZID=Europe/Berlin:20260225T210000
DTEND;TZID=Europe/Berlin:20260225T220000
UID:261-40924Z-20260225T210000@VHSOVERATH/RÖSRATH
SUMMARY:@Italienisch A2 / 4. Semester - Online (261-40924Z) 
LOCATION:vhs.cloud
END:VEVENT
BEGIN:VEVENT
DTSTAMP:20260424T183103
DTSTART;TZID=Europe/Berlin:20260304T210000
DTEND;TZID=Europe/Berlin:20260304T220000
UID:261-40924Z-20260304T210000@VHSOVERATH/RÖSRATH
SUMMARY:@Italienisch A2 / 4. Semester - Online (261-40924Z) 
LOCATION:vhs.cloud
END:VEVENT
BEGIN:VEVENT
DTSTAMP:20260424T183103
DTSTART;TZID=Europe/Berlin:20260311T210000
DTEND;TZID=Europe/Berlin:20260311T220000
UID:261-40924Z-20260311T210000@VHSOVERATH/RÖSRATH
SUMMARY:@Italienisch A2 / 4. Semester - Online (261-40924Z) 
LOCATION:vhs.cloud
END:VEVENT
BEGIN:VEVENT
DTSTAMP:20260424T183103
DTSTART;TZID=Europe/Berlin:20260318T210000
DTEND;TZID=Europe/Berlin:20260318T220000
UID:261-40924Z-20260318T210000@VHSOVERATH/RÖSRATH
SUMMARY:@Italienisch A2 / 4. Semester - Online (261-40924Z) 
LOCATION:vhs.cloud
END:VEVENT
BEGIN:VEVENT
DTSTAMP:20260424T183103
DTSTART;TZID=Europe/Berlin:20260325T210000
DTEND;TZID=Europe/Berlin:20260325T220000
UID:261-40924Z-20260325T210000@VHSOVERATH/RÖSRATH
SUMMARY:@Italienisch A2 / 4. Semester - Online (261-40924Z) 
LOCATION:vhs.cloud
END:VEVENT
BEGIN:VEVENT
DTSTAMP:20260424T183103
DTSTART;TZID=Europe/Berlin:20260415T210000
DTEND;TZID=Europe/Berlin:20260415T220000
UID:261-40924Z-20260415T210000@VHSOVERATH/RÖSRATH
SUMMARY:@Italienisch A2 / 4. Semester - Online (261-40924Z) 
LOCATION:vhs.cloud
END:VEVENT
BEGIN:VEVENT
DTSTAMP:20260424T183103
DTSTART;TZID=Europe/Berlin:20260422T210000
DTEND;TZID=Europe/Berlin:20260422T220000
UID:261-40924Z-20260422T210000@VHSOVERATH/RÖSRATH
SUMMARY:@Italienisch A2 / 4. Semester - Online (261-40924Z) 
LOCATION:vhs.cloud
END:VEVENT
BEGIN:VEVENT
DTSTAMP:20260424T183103
DTSTART;TZID=Europe/Berlin:20260429T210000
DTEND;TZID=Europe/Berlin:20260429T220000
UID:261-40924Z-20260429T210000@VHSOVERATH/RÖSRATH
SUMMARY:@Italienisch A2 / 4. Semester - Online (261-40924Z) 
LOCATION:vhs.cloud
END:VEVENT
BEGIN:VEVENT
DTSTAMP:20260424T183103
DTSTART;TZID=Europe/Berlin:20260506T210000
DTEND;TZID=Europe/Berlin:20260506T220000
UID:261-40924Z-20260506T210000@VHSOVERATH/RÖSRATH
SUMMARY:@Italienisch A2 / 4. Semester - Online (261-40924Z) 
LOCATION:vhs.cloud
END:VEVENT
BEGIN:VEVENT
DTSTAMP:20260424T183103
DTSTART;TZID=Europe/Berlin:20260513T210000
DTEND;TZID=Europe/Berlin:20260513T220000
UID:261-40924Z-20260513T210000@VHSOVERATH/RÖSRATH
SUMMARY:@Italienisch A2 / 4. Semester - Online (261-40924Z) 
LOCATION:vhs.cloud
END:VEVENT
END:VCALENDAR