BEGIN:VCALENDAR
VERSION:2.0
PRODID:https://www.kufer.de/kuferweb / DE
METHOD:PUBLISH
CALSCALE:GREGORIAN
X-WR-TIMEZONE:Europe/Berlin
BEGIN:VTIMEZONE
TZID:Europe/Berlin
X-LIC-LOCATION:Europe/Berlin
BEGIN:DAYLIGHT
TZOFFSETFROM:+0100
TZOFFSETTO:+0200
TZNAME:CEST
DTSTART:19700329T020000
RRULE:FREQ=YEARLY;INTERVAL=1;BYDAY=-1SU;BYMONTH=3
END:DAYLIGHT
BEGIN:STANDARD
TZOFFSETFROM:+0200
TZOFFSETTO:+0100
TZNAME:CET
DTSTART:19701025T030000
RRULE:FREQ=YEARLY;INTERVAL=1;BYDAY=-1SU;BYMONTH=10
END:STANDARD
END:VTIMEZONE
BEGIN:VEVENT
DTSTAMP:20260425T033821
DTSTART;TZID=Europe/Berlin:20260508T090000
DTEND;TZID=Europe/Berlin:20260508T103000
UID:261-409810-20260508T090000@VHSOVERATH/RÖSRATH
SUMMARY:@Italienisch intensiv - Zeiten: 
Futuro e Condizionale - Come e qu... (261-409810) 
LOCATION:Online-Kurs, Schulstraße 15, 51491 Overath
END:VEVENT
BEGIN:VEVENT
DTSTAMP:20260425T033821
DTSTART;TZID=Europe/Berlin:20260515T090000
DTEND;TZID=Europe/Berlin:20260515T103000
UID:261-409810-20260515T090000@VHSOVERATH/RÖSRATH
SUMMARY:@Italienisch intensiv - Zeiten: 
Futuro e Condizionale - Come e qu... (261-409810) 
LOCATION:Online-Kurs, Schulstraße 15, 51491 Overath
END:VEVENT
BEGIN:VEVENT
DTSTAMP:20260425T033821
DTSTART;TZID=Europe/Berlin:20260522T090000
DTEND;TZID=Europe/Berlin:20260522T103000
UID:261-409810-20260522T090000@VHSOVERATH/RÖSRATH
SUMMARY:@Italienisch intensiv - Zeiten: 
Futuro e Condizionale - Come e qu... (261-409810) 
LOCATION:Online-Kurs, Schulstraße 15, 51491 Overath
END:VEVENT
END:VCALENDAR