BEGIN:VCALENDAR
VERSION:2.0
PRODID:https://www.kufer.de/kuferweb / DE
METHOD:PUBLISH
CALSCALE:GREGORIAN
X-WR-TIMEZONE:Europe/Berlin
BEGIN:VTIMEZONE
TZID:Europe/Berlin
X-LIC-LOCATION:Europe/Berlin
BEGIN:DAYLIGHT
TZOFFSETFROM:+0100
TZOFFSETTO:+0200
TZNAME:CEST
DTSTART:19700329T020000
RRULE:FREQ=YEARLY;INTERVAL=1;BYDAY=-1SU;BYMONTH=3
END:DAYLIGHT
BEGIN:STANDARD
TZOFFSETFROM:+0200
TZOFFSETTO:+0100
TZNAME:CET
DTSTART:19701025T030000
RRULE:FREQ=YEARLY;INTERVAL=1;BYDAY=-1SU;BYMONTH=10
END:STANDARD
END:VTIMEZONE
BEGIN:VEVENT
DTSTAMP:20260424T212643
DTSTART;TZID=Europe/Berlin:20260430T194500
DTEND;TZID=Europe/Berlin:20260430T211500
UID:261-41405U-20260430T194500@VHSOVERATH/RÖSRATH
SUMMARY:Niederländisch A1 / Kurs 5 (261-41405U) 
LOCATION:VHS-Studienhaus, Raum 10, Schulstraße 15, 51491 Overath
END:VEVENT
BEGIN:VEVENT
DTSTAMP:20260424T212643
DTSTART;TZID=Europe/Berlin:20260507T194500
DTEND;TZID=Europe/Berlin:20260507T211500
UID:261-41405U-20260507T194500@VHSOVERATH/RÖSRATH
SUMMARY:Niederländisch A1 / Kurs 5 (261-41405U) 
LOCATION:VHS-Studienhaus, Raum 10, Schulstraße 15, 51491 Overath
END:VEVENT
BEGIN:VEVENT
DTSTAMP:20260424T212643
DTSTART;TZID=Europe/Berlin:20260521T194500
DTEND;TZID=Europe/Berlin:20260521T211500
UID:261-41405U-20260521T194500@VHSOVERATH/RÖSRATH
SUMMARY:Niederländisch A1 / Kurs 5 (261-41405U) 
LOCATION:VHS-Studienhaus, Raum 10, Schulstraße 15, 51491 Overath
END:VEVENT
BEGIN:VEVENT
DTSTAMP:20260424T212643
DTSTART;TZID=Europe/Berlin:20260528T194500
DTEND;TZID=Europe/Berlin:20260528T211500
UID:261-41405U-20260528T194500@VHSOVERATH/RÖSRATH
SUMMARY:Niederländisch A1 / Kurs 5 (261-41405U) 
LOCATION:VHS-Studienhaus, Raum 10, Schulstraße 15, 51491 Overath
END:VEVENT
BEGIN:VEVENT
DTSTAMP:20260424T212643
DTSTART;TZID=Europe/Berlin:20260611T194500
DTEND;TZID=Europe/Berlin:20260611T211500
UID:261-41405U-20260611T194500@VHSOVERATH/RÖSRATH
SUMMARY:Niederländisch A1 / Kurs 5 (261-41405U) 
LOCATION:VHS-Studienhaus, Raum 10, Schulstraße 15, 51491 Overath
END:VEVENT
BEGIN:VEVENT
DTSTAMP:20260424T212643
DTSTART;TZID=Europe/Berlin:20260618T194500
DTEND;TZID=Europe/Berlin:20260618T211500
UID:261-41405U-20260618T194500@VHSOVERATH/RÖSRATH
SUMMARY:Niederländisch A1 / Kurs 5 (261-41405U) 
LOCATION:VHS-Studienhaus, Raum 10, Schulstraße 15, 51491 Overath
END:VEVENT
BEGIN:VEVENT
DTSTAMP:20260424T212643
DTSTART;TZID=Europe/Berlin:20260625T194500
DTEND;TZID=Europe/Berlin:20260625T211500
UID:261-41405U-20260625T194500@VHSOVERATH/RÖSRATH
SUMMARY:Niederländisch A1 / Kurs 5 (261-41405U) 
LOCATION:VHS-Studienhaus, Raum 10, Schulstraße 15, 51491 Overath
END:VEVENT
BEGIN:VEVENT
DTSTAMP:20260424T212643
DTSTART;TZID=Europe/Berlin:20260702T194500
DTEND;TZID=Europe/Berlin:20260702T211500
UID:261-41405U-20260702T194500@VHSOVERATH/RÖSRATH
SUMMARY:Niederländisch A1 / Kurs 5 (261-41405U) 
LOCATION:VHS-Studienhaus, Raum 10, Schulstraße 15, 51491 Overath
END:VEVENT
BEGIN:VEVENT
DTSTAMP:20260424T212643
DTSTART;TZID=Europe/Berlin:20260709T194500
DTEND;TZID=Europe/Berlin:20260709T211500
UID:261-41405U-20260709T194500@VHSOVERATH/RÖSRATH
SUMMARY:Niederländisch A1 / Kurs 5 (261-41405U) 
LOCATION:VHS-Studienhaus, Raum 10, Schulstraße 15, 51491 Overath
END:VEVENT
END:VCALENDAR