BEGIN:VCALENDAR
VERSION:2.0
PRODID:https://www.kufer.de/kuferweb / DE
METHOD:PUBLISH
CALSCALE:GREGORIAN
X-WR-TIMEZONE:Europe/Berlin
BEGIN:VTIMEZONE
TZID:Europe/Berlin
X-LIC-LOCATION:Europe/Berlin
BEGIN:DAYLIGHT
TZOFFSETFROM:+0100
TZOFFSETTO:+0200
TZNAME:CEST
DTSTART:19700329T020000
RRULE:FREQ=YEARLY;INTERVAL=1;BYDAY=-1SU;BYMONTH=3
END:DAYLIGHT
BEGIN:STANDARD
TZOFFSETFROM:+0200
TZOFFSETTO:+0100
TZNAME:CET
DTSTART:19701025T030000
RRULE:FREQ=YEARLY;INTERVAL=1;BYDAY=-1SU;BYMONTH=10
END:STANDARD
END:VTIMEZONE
BEGIN:VEVENT
DTSTAMP:20260424T195320
DTSTART;TZID=Europe/Berlin:20260420T194500
DTEND;TZID=Europe/Berlin:20260420T211500
UID:261-42202X-20260420T194500@VHSOVERATH/RÖSRATH
SUMMARY:Spanisch für Anfänger*innen A1 / Kurs 2 (261-42202X) 
LOCATION:VHS-Studienhaus, Raum 11, Schulstraße 15, 51491 Overath
END:VEVENT
BEGIN:VEVENT
DTSTAMP:20260424T195320
DTSTART;TZID=Europe/Berlin:20260427T194500
DTEND;TZID=Europe/Berlin:20260427T211500
UID:261-42202X-20260427T194500@VHSOVERATH/RÖSRATH
SUMMARY:Spanisch für Anfänger*innen A1 / Kurs 2 (261-42202X) 
LOCATION:VHS-Studienhaus, Raum 11, Schulstraße 15, 51491 Overath
END:VEVENT
BEGIN:VEVENT
DTSTAMP:20260424T195320
DTSTART;TZID=Europe/Berlin:20260601T194500
DTEND;TZID=Europe/Berlin:20260601T211500
UID:261-42202X-20260601T194500@VHSOVERATH/RÖSRATH
SUMMARY:Spanisch für Anfänger*innen A1 / Kurs 2 (261-42202X) 
LOCATION:VHS-Studienhaus, Raum 11, Schulstraße 15, 51491 Overath
END:VEVENT
BEGIN:VEVENT
DTSTAMP:20260424T195320
DTSTART;TZID=Europe/Berlin:20260608T194500
DTEND;TZID=Europe/Berlin:20260608T211500
UID:261-42202X-20260608T194500@VHSOVERATH/RÖSRATH
SUMMARY:Spanisch für Anfänger*innen A1 / Kurs 2 (261-42202X) 
LOCATION:VHS-Studienhaus, Raum 11, Schulstraße 15, 51491 Overath
END:VEVENT
BEGIN:VEVENT
DTSTAMP:20260424T195320
DTSTART;TZID=Europe/Berlin:20260615T194500
DTEND;TZID=Europe/Berlin:20260615T211500
UID:261-42202X-20260615T194500@VHSOVERATH/RÖSRATH
SUMMARY:Spanisch für Anfänger*innen A1 / Kurs 2 (261-42202X) 
LOCATION:VHS-Studienhaus, Raum 11, Schulstraße 15, 51491 Overath
END:VEVENT
BEGIN:VEVENT
DTSTAMP:20260424T195320
DTSTART;TZID=Europe/Berlin:20260622T194500
DTEND;TZID=Europe/Berlin:20260622T211500
UID:261-42202X-20260622T194500@VHSOVERATH/RÖSRATH
SUMMARY:Spanisch für Anfänger*innen A1 / Kurs 2 (261-42202X) 
LOCATION:VHS-Studienhaus, Raum 11, Schulstraße 15, 51491 Overath
END:VEVENT
BEGIN:VEVENT
DTSTAMP:20260424T195320
DTSTART;TZID=Europe/Berlin:20260629T194500
DTEND;TZID=Europe/Berlin:20260629T211500
UID:261-42202X-20260629T194500@VHSOVERATH/RÖSRATH
SUMMARY:Spanisch für Anfänger*innen A1 / Kurs 2 (261-42202X) 
LOCATION:VHS-Studienhaus, Raum 11, Schulstraße 15, 51491 Overath
END:VEVENT
BEGIN:VEVENT
DTSTAMP:20260424T195320
DTSTART;TZID=Europe/Berlin:20260706T194500
DTEND;TZID=Europe/Berlin:20260706T211500
UID:261-42202X-20260706T194500@VHSOVERATH/RÖSRATH
SUMMARY:Spanisch für Anfänger*innen A1 / Kurs 2 (261-42202X) 
LOCATION:VHS-Studienhaus, Raum 11, Schulstraße 15, 51491 Overath
END:VEVENT
BEGIN:VEVENT
DTSTAMP:20260424T195320
DTSTART;TZID=Europe/Berlin:20260713T194500
DTEND;TZID=Europe/Berlin:20260713T211500
UID:261-42202X-20260713T194500@VHSOVERATH/RÖSRATH
DESCRIPTION:Ersatz für Ausfall am 04.05.2026
SUMMARY:Spanisch für Anfänger*innen A1 / Kurs 2 (261-42202X) 
LOCATION:VHS-Studienhaus, Raum 11, Schulstraße 15, 51491 Overath
END:VEVENT
END:VCALENDAR