BEGIN:VCALENDAR
VERSION:2.0
PRODID:https://www.kufer.de/kuferweb / DE
METHOD:PUBLISH
CALSCALE:GREGORIAN
X-WR-TIMEZONE:Europe/Berlin
BEGIN:VTIMEZONE
TZID:Europe/Berlin
X-LIC-LOCATION:Europe/Berlin
BEGIN:DAYLIGHT
TZOFFSETFROM:+0100
TZOFFSETTO:+0200
TZNAME:CEST
DTSTART:19700329T020000
RRULE:FREQ=YEARLY;INTERVAL=1;BYDAY=-1SU;BYMONTH=3
END:DAYLIGHT
BEGIN:STANDARD
TZOFFSETFROM:+0200
TZOFFSETTO:+0100
TZNAME:CET
DTSTART:19701025T030000
RRULE:FREQ=YEARLY;INTERVAL=1;BYDAY=-1SU;BYMONTH=10
END:STANDARD
END:VTIMEZONE
BEGIN:VEVENT
DTSTAMP:20260424T201754
DTSTART;TZID=Europe/Berlin:20260423T180000
DTEND;TZID=Europe/Berlin:20260423T193000
UID:261-42204H-20260423T180000@VHSOVERATH/RÖSRATH
SUMMARY:Spanisch A1 - Kurs 4 - Blended Learning (261-42204H) 
LOCATION:vhs.cloud
END:VEVENT
BEGIN:VEVENT
DTSTAMP:20260424T201754
DTSTART;TZID=Europe/Berlin:20260430T180000
DTEND;TZID=Europe/Berlin:20260430T193000
UID:261-42204H-20260430T180000@VHSOVERATH/RÖSRATH
SUMMARY:Spanisch A1 - Kurs 4 - Blended Learning (261-42204H) 
LOCATION:VHS-Studienhaus, Raum 8, Schulstraße 15, 51491 Overath
END:VEVENT
BEGIN:VEVENT
DTSTAMP:20260424T201754
DTSTART;TZID=Europe/Berlin:20260611T180000
DTEND;TZID=Europe/Berlin:20260611T193000
UID:261-42204H-20260611T180000@VHSOVERATH/RÖSRATH
SUMMARY:Spanisch A1 - Kurs 4 - Blended Learning (261-42204H) 
LOCATION:vhs.cloud
END:VEVENT
BEGIN:VEVENT
DTSTAMP:20260424T201754
DTSTART;TZID=Europe/Berlin:20260618T180000
DTEND;TZID=Europe/Berlin:20260618T193000
UID:261-42204H-20260618T180000@VHSOVERATH/RÖSRATH
SUMMARY:Spanisch A1 - Kurs 4 - Blended Learning (261-42204H) 
LOCATION:VHS-Studienhaus, Raum 8, Schulstraße 15, 51491 Overath
END:VEVENT
BEGIN:VEVENT
DTSTAMP:20260424T201754
DTSTART;TZID=Europe/Berlin:20260625T180000
DTEND;TZID=Europe/Berlin:20260625T193000
UID:261-42204H-20260625T180000@VHSOVERATH/RÖSRATH
SUMMARY:Spanisch A1 - Kurs 4 - Blended Learning (261-42204H) 
LOCATION:vhs.cloud
END:VEVENT
BEGIN:VEVENT
DTSTAMP:20260424T201754
DTSTART;TZID=Europe/Berlin:20260702T180000
DTEND;TZID=Europe/Berlin:20260702T193000
UID:261-42204H-20260702T180000@VHSOVERATH/RÖSRATH
SUMMARY:Spanisch A1 - Kurs 4 - Blended Learning (261-42204H) 
LOCATION:vhs.cloud
END:VEVENT
BEGIN:VEVENT
DTSTAMP:20260424T201754
DTSTART;TZID=Europe/Berlin:20260709T180000
DTEND;TZID=Europe/Berlin:20260709T193000
UID:261-42204H-20260709T180000@VHSOVERATH/RÖSRATH
SUMMARY:Spanisch A1 - Kurs 4 - Blended Learning (261-42204H) 
LOCATION:VHS-Studienhaus, Raum 8, Schulstraße 15, 51491 Overath
END:VEVENT
BEGIN:VEVENT
DTSTAMP:20260424T201754
DTSTART;TZID=Europe/Berlin:20260716T180000
DTEND;TZID=Europe/Berlin:20260716T193000
UID:261-42204H-20260716T180000@VHSOVERATH/RÖSRATH
DESCRIPTION:Ersatz für Ausfall am 07.05.2026
SUMMARY:Spanisch A1 - Kurs 4 - Blended Learning (261-42204H) 
LOCATION:vhs.cloud
END:VEVENT
END:VCALENDAR