BEGIN:VCALENDAR
VERSION:2.0
PRODID:https://www.kufer.de/kuferweb / DE
METHOD:PUBLISH
CALSCALE:GREGORIAN
X-WR-TIMEZONE:Europe/Berlin
BEGIN:VTIMEZONE
TZID:Europe/Berlin
X-LIC-LOCATION:Europe/Berlin
BEGIN:DAYLIGHT
TZOFFSETFROM:+0100
TZOFFSETTO:+0200
TZNAME:CEST
DTSTART:19700329T020000
RRULE:FREQ=YEARLY;INTERVAL=1;BYDAY=-1SU;BYMONTH=3
END:DAYLIGHT
BEGIN:STANDARD
TZOFFSETFROM:+0200
TZOFFSETTO:+0100
TZNAME:CET
DTSTART:19701025T030000
RRULE:FREQ=YEARLY;INTERVAL=1;BYDAY=-1SU;BYMONTH=10
END:STANDARD
END:VTIMEZONE
BEGIN:VEVENT
DTSTAMP:20260424T201739
DTSTART;TZID=Europe/Berlin:20260422T181500
DTEND;TZID=Europe/Berlin:20260422T194500
UID:261-42219E-20260422T181500@VHSOVERATH/RÖSRATH
DESCRIPTION:Ersatz für Ausfall am 29.04.2026
SUMMARY:Spanisch A1 / Kurs 9 - Kleingruppenkurs (261-42219E) 
LOCATION:Schloss Eulenbroich, Medienwerkstatt, Zum Eulenbroicher Auel 19, 51503 Rösrath
END:VEVENT
BEGIN:VEVENT
DTSTAMP:20260424T201739
DTSTART;TZID=Europe/Berlin:20260603T181500
DTEND;TZID=Europe/Berlin:20260603T194500
UID:261-42219E-20260603T181500@VHSOVERATH/RÖSRATH
SUMMARY:Spanisch A1 / Kurs 9 - Kleingruppenkurs (261-42219E) 
LOCATION:Schloss Eulenbroich, Medienwerkstatt, Zum Eulenbroicher Auel 19, 51503 Rösrath
END:VEVENT
BEGIN:VEVENT
DTSTAMP:20260424T201739
DTSTART;TZID=Europe/Berlin:20260610T181500
DTEND;TZID=Europe/Berlin:20260610T194500
UID:261-42219E-20260610T181500@VHSOVERATH/RÖSRATH
SUMMARY:Spanisch A1 / Kurs 9 - Kleingruppenkurs (261-42219E) 
LOCATION:Schloss Eulenbroich, Medienwerkstatt, Zum Eulenbroicher Auel 19, 51503 Rösrath
END:VEVENT
BEGIN:VEVENT
DTSTAMP:20260424T201739
DTSTART;TZID=Europe/Berlin:20260617T181500
DTEND;TZID=Europe/Berlin:20260617T194500
UID:261-42219E-20260617T181500@VHSOVERATH/RÖSRATH
SUMMARY:Spanisch A1 / Kurs 9 - Kleingruppenkurs (261-42219E) 
LOCATION:Schloss Eulenbroich, Medienwerkstatt, Zum Eulenbroicher Auel 19, 51503 Rösrath
END:VEVENT
BEGIN:VEVENT
DTSTAMP:20260424T201739
DTSTART;TZID=Europe/Berlin:20260624T181500
DTEND;TZID=Europe/Berlin:20260624T194500
UID:261-42219E-20260624T181500@VHSOVERATH/RÖSRATH
DESCRIPTION:Ersatz für Ausfall am 06.05.2026
SUMMARY:Spanisch A1 / Kurs 9 - Kleingruppenkurs (261-42219E) 
LOCATION:Schloss Eulenbroich, Medienwerkstatt, Zum Eulenbroicher Auel 19, 51503 Rösrath
END:VEVENT
BEGIN:VEVENT
DTSTAMP:20260424T201739
DTSTART;TZID=Europe/Berlin:20260701T181500
DTEND;TZID=Europe/Berlin:20260701T194500
UID:261-42219E-20260701T181500@VHSOVERATH/RÖSRATH
DESCRIPTION:Ersatz für Ausfall am 13.05.2026
SUMMARY:Spanisch A1 / Kurs 9 - Kleingruppenkurs (261-42219E) 
LOCATION:Schloss Eulenbroich, Medienwerkstatt, Zum Eulenbroicher Auel 19, 51503 Rösrath
END:VEVENT
BEGIN:VEVENT
DTSTAMP:20260424T201739
DTSTART;TZID=Europe/Berlin:20260708T181500
DTEND;TZID=Europe/Berlin:20260708T194500
UID:261-42219E-20260708T181500@VHSOVERATH/RÖSRATH
DESCRIPTION:Ersatz für Ausfall am 20.05.2026
SUMMARY:Spanisch A1 / Kurs 9 - Kleingruppenkurs (261-42219E) 
LOCATION:Schloss Eulenbroich, Medienwerkstatt, Zum Eulenbroicher Auel 19, 51503 Rösrath
END:VEVENT
BEGIN:VEVENT
DTSTAMP:20260424T201739
DTSTART;TZID=Europe/Berlin:20260715T181500
DTEND;TZID=Europe/Berlin:20260715T194500
UID:261-42219E-20260715T181500@VHSOVERATH/RÖSRATH
DESCRIPTION:Ersatz für Ausfall am 27.05.2026
SUMMARY:Spanisch A1 / Kurs 9 - Kleingruppenkurs (261-42219E) 
LOCATION:Schloss Eulenbroich, Medienwerkstatt, Zum Eulenbroicher Auel 19, 51503 Rösrath
END:VEVENT
END:VCALENDAR