BEGIN:VCALENDAR
VERSION:2.0
PRODID:https://www.kufer.de/kuferweb / DE
METHOD:PUBLISH
CALSCALE:GREGORIAN
X-WR-TIMEZONE:Europe/Berlin
BEGIN:VTIMEZONE
TZID:Europe/Berlin
X-LIC-LOCATION:Europe/Berlin
BEGIN:DAYLIGHT
TZOFFSETFROM:+0100
TZOFFSETTO:+0200
TZNAME:CEST
DTSTART:19700329T020000
RRULE:FREQ=YEARLY;INTERVAL=1;BYDAY=-1SU;BYMONTH=3
END:DAYLIGHT
BEGIN:STANDARD
TZOFFSETFROM:+0200
TZOFFSETTO:+0100
TZNAME:CET
DTSTART:19701025T030000
RRULE:FREQ=YEARLY;INTERVAL=1;BYDAY=-1SU;BYMONTH=10
END:STANDARD
END:VTIMEZONE
BEGIN:VEVENT
DTSTAMP:20260424T230540
DTSTART;TZID=Europe/Berlin:20260424T111500
DTEND;TZID=Europe/Berlin:20260424T124500
UID:261-42221V-20260424T111500@VHSOVERATH/RÖSRATH
SUMMARY:Spanisch A2 / Kurs 2 - Kleingruppenkurs (261-42221V) 
LOCATION:VHS-Studienhaus, Raum 9, Schulstraße 15, 51491 Overath
END:VEVENT
BEGIN:VEVENT
DTSTAMP:20260424T230540
DTSTART;TZID=Europe/Berlin:20260508T111500
DTEND;TZID=Europe/Berlin:20260508T124500
UID:261-42221V-20260508T111500@VHSOVERATH/RÖSRATH
SUMMARY:Spanisch A2 / Kurs 2 - Kleingruppenkurs (261-42221V) 
LOCATION:VHS-Studienhaus, Raum 9, Schulstraße 15, 51491 Overath
END:VEVENT
BEGIN:VEVENT
DTSTAMP:20260424T230540
DTSTART;TZID=Europe/Berlin:20260522T111500
DTEND;TZID=Europe/Berlin:20260522T124500
UID:261-42221V-20260522T111500@VHSOVERATH/RÖSRATH
SUMMARY:Spanisch A2 / Kurs 2 - Kleingruppenkurs (261-42221V) 
LOCATION:VHS-Studienhaus, Raum 9, Schulstraße 15, 51491 Overath
END:VEVENT
BEGIN:VEVENT
DTSTAMP:20260424T230540
DTSTART;TZID=Europe/Berlin:20260529T111500
DTEND;TZID=Europe/Berlin:20260529T124500
UID:261-42221V-20260529T111500@VHSOVERATH/RÖSRATH
SUMMARY:Spanisch A2 / Kurs 2 - Kleingruppenkurs (261-42221V) 
LOCATION:VHS-Studienhaus, Raum 9, Schulstraße 15, 51491 Overath
END:VEVENT
BEGIN:VEVENT
DTSTAMP:20260424T230540
DTSTART;TZID=Europe/Berlin:20260612T111500
DTEND;TZID=Europe/Berlin:20260612T124500
UID:261-42221V-20260612T111500@VHSOVERATH/RÖSRATH
SUMMARY:Spanisch A2 / Kurs 2 - Kleingruppenkurs (261-42221V) 
LOCATION:VHS-Studienhaus, Raum 9, Schulstraße 15, 51491 Overath
END:VEVENT
BEGIN:VEVENT
DTSTAMP:20260424T230540
DTSTART;TZID=Europe/Berlin:20260619T111500
DTEND;TZID=Europe/Berlin:20260619T124500
UID:261-42221V-20260619T111500@VHSOVERATH/RÖSRATH
SUMMARY:Spanisch A2 / Kurs 2 - Kleingruppenkurs (261-42221V) 
LOCATION:VHS-Studienhaus, Raum 9, Schulstraße 15, 51491 Overath
END:VEVENT
BEGIN:VEVENT
DTSTAMP:20260424T230540
DTSTART;TZID=Europe/Berlin:20260626T111500
DTEND;TZID=Europe/Berlin:20260626T124500
UID:261-42221V-20260626T111500@VHSOVERATH/RÖSRATH
SUMMARY:Spanisch A2 / Kurs 2 - Kleingruppenkurs (261-42221V) 
LOCATION:VHS-Studienhaus, Raum 9, Schulstraße 15, 51491 Overath
END:VEVENT
BEGIN:VEVENT
DTSTAMP:20260424T230540
DTSTART;TZID=Europe/Berlin:20260703T111500
DTEND;TZID=Europe/Berlin:20260703T124500
UID:261-42221V-20260703T111500@VHSOVERATH/RÖSRATH
SUMMARY:Spanisch A2 / Kurs 2 - Kleingruppenkurs (261-42221V) 
LOCATION:VHS-Studienhaus, Raum 9, Schulstraße 15, 51491 Overath
END:VEVENT
BEGIN:VEVENT
DTSTAMP:20260424T230540
DTSTART;TZID=Europe/Berlin:20260710T111500
DTEND;TZID=Europe/Berlin:20260710T124500
UID:261-42221V-20260710T111500@VHSOVERATH/RÖSRATH
SUMMARY:Spanisch A2 / Kurs 2 - Kleingruppenkurs (261-42221V) 
LOCATION:VHS-Studienhaus, Raum 9, Schulstraße 15, 51491 Overath
END:VEVENT
END:VCALENDAR