BEGIN:VCALENDAR
VERSION:2.0
PRODID:https://www.kufer.de/kuferweb / DE
METHOD:PUBLISH
CALSCALE:GREGORIAN
X-WR-TIMEZONE:Europe/Berlin
BEGIN:VTIMEZONE
TZID:Europe/Berlin
X-LIC-LOCATION:Europe/Berlin
BEGIN:DAYLIGHT
TZOFFSETFROM:+0100
TZOFFSETTO:+0200
TZNAME:CEST
DTSTART:19700329T020000
RRULE:FREQ=YEARLY;INTERVAL=1;BYDAY=-1SU;BYMONTH=3
END:DAYLIGHT
BEGIN:STANDARD
TZOFFSETFROM:+0200
TZOFFSETTO:+0100
TZNAME:CET
DTSTART:19701025T030000
RRULE:FREQ=YEARLY;INTERVAL=1;BYDAY=-1SU;BYMONTH=10
END:STANDARD
END:VTIMEZONE
BEGIN:VEVENT
DTSTAMP:20260424T232352
DTSTART;TZID=Europe/Berlin:20260423T093000
DTEND;TZID=Europe/Berlin:20260423T110000
UID:261-42223U-20260423T093000@VHSOVERATH/RÖSRATH
SUMMARY:Spanisch A2 - Kleingruppenkurs (261-42223U) 
LOCATION:VHS-Studienhaus, Raum 9, Schulstraße 15, 51491 Overath
END:VEVENT
BEGIN:VEVENT
DTSTAMP:20260424T232352
DTSTART;TZID=Europe/Berlin:20260611T093000
DTEND;TZID=Europe/Berlin:20260611T110000
UID:261-42223U-20260611T093000@VHSOVERATH/RÖSRATH
SUMMARY:Spanisch A2 - Kleingruppenkurs (261-42223U) 
LOCATION:VHS-Studienhaus, Raum 9, Schulstraße 15, 51491 Overath
END:VEVENT
BEGIN:VEVENT
DTSTAMP:20260424T232352
DTSTART;TZID=Europe/Berlin:20260618T093000
DTEND;TZID=Europe/Berlin:20260618T110000
UID:261-42223U-20260618T093000@VHSOVERATH/RÖSRATH
SUMMARY:Spanisch A2 - Kleingruppenkurs (261-42223U) 
LOCATION:VHS-Studienhaus, Raum 9, Schulstraße 15, 51491 Overath
END:VEVENT
BEGIN:VEVENT
DTSTAMP:20260424T232352
DTSTART;TZID=Europe/Berlin:20260625T093000
DTEND;TZID=Europe/Berlin:20260625T110000
UID:261-42223U-20260625T093000@VHSOVERATH/RÖSRATH
SUMMARY:Spanisch A2 - Kleingruppenkurs (261-42223U) 
LOCATION:VHS-Studienhaus, Raum 9, Schulstraße 15, 51491 Overath
END:VEVENT
BEGIN:VEVENT
DTSTAMP:20260424T232352
DTSTART;TZID=Europe/Berlin:20260702T093000
DTEND;TZID=Europe/Berlin:20260702T110000
UID:261-42223U-20260702T093000@VHSOVERATH/RÖSRATH
SUMMARY:Spanisch A2 - Kleingruppenkurs (261-42223U) 
LOCATION:VHS-Studienhaus, Raum 9, Schulstraße 15, 51491 Overath
END:VEVENT
BEGIN:VEVENT
DTSTAMP:20260424T232352
DTSTART;TZID=Europe/Berlin:20260709T093000
DTEND;TZID=Europe/Berlin:20260709T110000
UID:261-42223U-20260709T093000@VHSOVERATH/RÖSRATH
SUMMARY:Spanisch A2 - Kleingruppenkurs (261-42223U) 
LOCATION:VHS-Studienhaus, Raum 9, Schulstraße 15, 51491 Overath
END:VEVENT
BEGIN:VEVENT
DTSTAMP:20260424T232352
DTSTART;TZID=Europe/Berlin:20260716T093000
DTEND;TZID=Europe/Berlin:20260716T110000
UID:261-42223U-20260716T093000@VHSOVERATH/RÖSRATH
DESCRIPTION:Ersatz für Ausfall am 28.05.2026
SUMMARY:Spanisch A2 - Kleingruppenkurs (261-42223U) 
LOCATION:VHS-Studienhaus, Raum 9, Schulstraße 15, 51491 Overath
END:VEVENT
END:VCALENDAR