BEGIN:VCALENDAR
VERSION:2.0
PRODID:https://www.kufer.de/kuferweb / DE
METHOD:PUBLISH
CALSCALE:GREGORIAN
X-WR-TIMEZONE:Europe/Berlin
BEGIN:VTIMEZONE
TZID:Europe/Berlin
X-LIC-LOCATION:Europe/Berlin
BEGIN:DAYLIGHT
TZOFFSETFROM:+0100
TZOFFSETTO:+0200
TZNAME:CEST
DTSTART:19700329T020000
RRULE:FREQ=YEARLY;INTERVAL=1;BYDAY=-1SU;BYMONTH=3
END:DAYLIGHT
BEGIN:STANDARD
TZOFFSETFROM:+0200
TZOFFSETTO:+0100
TZNAME:CET
DTSTART:19701025T030000
RRULE:FREQ=YEARLY;INTERVAL=1;BYDAY=-1SU;BYMONTH=10
END:STANDARD
END:VTIMEZONE
BEGIN:VEVENT
DTSTAMP:20260424T232351
DTSTART;TZID=Europe/Berlin:20260520T103000
DTEND;TZID=Europe/Berlin:20260520T120000
UID:261-42246U-20260520T103000@VHSOVERATH/RÖSRATH
SUMMARY:Spanisch B2 Vamos a leer y conversar (261-42246U) 
LOCATION:VHS-Studienhaus, Raum 9, Schulstraße 15, 51491 Overath
END:VEVENT
BEGIN:VEVENT
DTSTAMP:20260424T232351
DTSTART;TZID=Europe/Berlin:20260527T103000
DTEND;TZID=Europe/Berlin:20260527T120000
UID:261-42246U-20260527T103000@VHSOVERATH/RÖSRATH
SUMMARY:Spanisch B2 Vamos a leer y conversar (261-42246U) 
LOCATION:VHS-Studienhaus, Raum 9, Schulstraße 15, 51491 Overath
END:VEVENT
BEGIN:VEVENT
DTSTAMP:20260424T232351
DTSTART;TZID=Europe/Berlin:20260603T103000
DTEND;TZID=Europe/Berlin:20260603T120000
UID:261-42246U-20260603T103000@VHSOVERATH/RÖSRATH
SUMMARY:Spanisch B2 Vamos a leer y conversar (261-42246U) 
LOCATION:VHS-Studienhaus, Raum 9, Schulstraße 15, 51491 Overath
END:VEVENT
BEGIN:VEVENT
DTSTAMP:20260424T232351
DTSTART;TZID=Europe/Berlin:20260610T103000
DTEND;TZID=Europe/Berlin:20260610T120000
UID:261-42246U-20260610T103000@VHSOVERATH/RÖSRATH
SUMMARY:Spanisch B2 Vamos a leer y conversar (261-42246U) 
LOCATION:VHS-Studienhaus, Raum 9, Schulstraße 15, 51491 Overath
END:VEVENT
BEGIN:VEVENT
DTSTAMP:20260424T232351
DTSTART;TZID=Europe/Berlin:20260617T103000
DTEND;TZID=Europe/Berlin:20260617T120000
UID:261-42246U-20260617T103000@VHSOVERATH/RÖSRATH
SUMMARY:Spanisch B2 Vamos a leer y conversar (261-42246U) 
LOCATION:VHS-Studienhaus, Raum 9, Schulstraße 15, 51491 Overath
END:VEVENT
BEGIN:VEVENT
DTSTAMP:20260424T232351
DTSTART;TZID=Europe/Berlin:20260624T103000
DTEND;TZID=Europe/Berlin:20260624T120000
UID:261-42246U-20260624T103000@VHSOVERATH/RÖSRATH
SUMMARY:Spanisch B2 Vamos a leer y conversar (261-42246U) 
LOCATION:VHS-Studienhaus, Raum 9, Schulstraße 15, 51491 Overath
END:VEVENT
BEGIN:VEVENT
DTSTAMP:20260424T232351
DTSTART;TZID=Europe/Berlin:20260701T103000
DTEND;TZID=Europe/Berlin:20260701T120000
UID:261-42246U-20260701T103000@VHSOVERATH/RÖSRATH
SUMMARY:Spanisch B2 Vamos a leer y conversar (261-42246U) 
LOCATION:VHS-Studienhaus, Raum 9, Schulstraße 15, 51491 Overath
END:VEVENT
END:VCALENDAR