BEGIN:VCALENDAR
VERSION:2.0
PRODID:https://www.kufer.de/kuferweb / DE
METHOD:PUBLISH
CALSCALE:GREGORIAN
X-WR-TIMEZONE:Europe/Berlin
BEGIN:VTIMEZONE
TZID:Europe/Berlin
X-LIC-LOCATION:Europe/Berlin
BEGIN:DAYLIGHT
TZOFFSETFROM:+0100
TZOFFSETTO:+0200
TZNAME:CEST
DTSTART:19700329T020000
RRULE:FREQ=YEARLY;INTERVAL=1;BYDAY=-1SU;BYMONTH=3
END:DAYLIGHT
BEGIN:STANDARD
TZOFFSETFROM:+0200
TZOFFSETTO:+0100
TZNAME:CET
DTSTART:19701025T030000
RRULE:FREQ=YEARLY;INTERVAL=1;BYDAY=-1SU;BYMONTH=10
END:STANDARD
END:VTIMEZONE
BEGIN:VEVENT
DTSTAMP:20260424T195714
DTSTART;TZID=Europe/Berlin:20260507T150000
DTEND;TZID=Europe/Berlin:20260507T154500
UID:261-7MF101-20260507T150000@VHSOVERATH/RÖSRATH
SUMMARY:MF - Musiknest Rösrath (261-7MF101) 
LOCATION:Freiherr-vom-Stein-Schulzentrum, MZR Musikschule, Freiherr-vom-Stein-Str.15, 51503 Rösrath
END:VEVENT
BEGIN:VEVENT
DTSTAMP:20260424T195714
DTSTART;TZID=Europe/Berlin:20260521T150000
DTEND;TZID=Europe/Berlin:20260521T154500
UID:261-7MF101-20260521T150000@VHSOVERATH/RÖSRATH
SUMMARY:MF - Musiknest Rösrath (261-7MF101) 
LOCATION:Freiherr-vom-Stein-Schulzentrum, MZR Musikschule, Freiherr-vom-Stein-Str.15, 51503 Rösrath
END:VEVENT
BEGIN:VEVENT
DTSTAMP:20260424T195714
DTSTART;TZID=Europe/Berlin:20260528T150000
DTEND;TZID=Europe/Berlin:20260528T154500
UID:261-7MF101-20260528T150000@VHSOVERATH/RÖSRATH
SUMMARY:MF - Musiknest Rösrath (261-7MF101) 
LOCATION:Freiherr-vom-Stein-Schulzentrum, MZR Musikschule, Freiherr-vom-Stein-Str.15, 51503 Rösrath
END:VEVENT
BEGIN:VEVENT
DTSTAMP:20260424T195714
DTSTART;TZID=Europe/Berlin:20260611T150000
DTEND;TZID=Europe/Berlin:20260611T154500
UID:261-7MF101-20260611T150000@VHSOVERATH/RÖSRATH
SUMMARY:MF - Musiknest Rösrath (261-7MF101) 
LOCATION:Freiherr-vom-Stein-Schulzentrum, MZR Musikschule, Freiherr-vom-Stein-Str.15, 51503 Rösrath
END:VEVENT
BEGIN:VEVENT
DTSTAMP:20260424T195714
DTSTART;TZID=Europe/Berlin:20260618T150000
DTEND;TZID=Europe/Berlin:20260618T154500
UID:261-7MF101-20260618T150000@VHSOVERATH/RÖSRATH
SUMMARY:MF - Musiknest Rösrath (261-7MF101) 
LOCATION:Freiherr-vom-Stein-Schulzentrum, MZR Musikschule, Freiherr-vom-Stein-Str.15, 51503 Rösrath
END:VEVENT
BEGIN:VEVENT
DTSTAMP:20260424T195714
DTSTART;TZID=Europe/Berlin:20260625T150000
DTEND;TZID=Europe/Berlin:20260625T154500
UID:261-7MF101-20260625T150000@VHSOVERATH/RÖSRATH
SUMMARY:MF - Musiknest Rösrath (261-7MF101) 
LOCATION:Freiherr-vom-Stein-Schulzentrum, MZR Musikschule, Freiherr-vom-Stein-Str.15, 51503 Rösrath
END:VEVENT
BEGIN:VEVENT
DTSTAMP:20260424T195714
DTSTART;TZID=Europe/Berlin:20260702T150000
DTEND;TZID=Europe/Berlin:20260702T154500
UID:261-7MF101-20260702T150000@VHSOVERATH/RÖSRATH
SUMMARY:MF - Musiknest Rösrath (261-7MF101) 
LOCATION:Freiherr-vom-Stein-Schulzentrum, MZR Musikschule, Freiherr-vom-Stein-Str.15, 51503 Rösrath
END:VEVENT
BEGIN:VEVENT
DTSTAMP:20260424T195714
DTSTART;TZID=Europe/Berlin:20260709T150000
DTEND;TZID=Europe/Berlin:20260709T154500
UID:261-7MF101-20260709T150000@VHSOVERATH/RÖSRATH
SUMMARY:MF - Musiknest Rösrath (261-7MF101) 
LOCATION:Freiherr-vom-Stein-Schulzentrum, MZR Musikschule, Freiherr-vom-Stein-Str.15, 51503 Rösrath
END:VEVENT
BEGIN:VEVENT
DTSTAMP:20260424T195714
DTSTART;TZID=Europe/Berlin:20260716T150000
DTEND;TZID=Europe/Berlin:20260716T154500
UID:261-7MF101-20260716T150000@VHSOVERATH/RÖSRATH
SUMMARY:MF - Musiknest Rösrath (261-7MF101) 
LOCATION:Freiherr-vom-Stein-Schulzentrum, MZR Musikschule, Freiherr-vom-Stein-Str.15, 51503 Rösrath
END:VEVENT
BEGIN:VEVENT
DTSTAMP:20260424T195714
DTSTART;TZID=Europe/Berlin:20260903T150000
DTEND;TZID=Europe/Berlin:20260903T154500
UID:261-7MF101-20260903T150000@VHSOVERATH/RÖSRATH
SUMMARY:MF - Musiknest Rösrath (261-7MF101) 
LOCATION:Freiherr-vom-Stein-Schulzentrum, MZR Musikschule, Freiherr-vom-Stein-Str.15, 51503 Rösrath
END:VEVENT
BEGIN:VEVENT
DTSTAMP:20260424T195714
DTSTART;TZID=Europe/Berlin:20260910T150000
DTEND;TZID=Europe/Berlin:20260910T154500
UID:261-7MF101-20260910T150000@VHSOVERATH/RÖSRATH
SUMMARY:MF - Musiknest Rösrath (261-7MF101) 
LOCATION:Freiherr-vom-Stein-Schulzentrum, MZR Musikschule, Freiherr-vom-Stein-Str.15, 51503 Rösrath
END:VEVENT
BEGIN:VEVENT
DTSTAMP:20260424T195714
DTSTART;TZID=Europe/Berlin:20260917T150000
DTEND;TZID=Europe/Berlin:20260917T154500
UID:261-7MF101-20260917T150000@VHSOVERATH/RÖSRATH
SUMMARY:MF - Musiknest Rösrath (261-7MF101) 
LOCATION:Freiherr-vom-Stein-Schulzentrum, MZR Musikschule, Freiherr-vom-Stein-Str.15, 51503 Rösrath
END:VEVENT
BEGIN:VEVENT
DTSTAMP:20260424T195714
DTSTART;TZID=Europe/Berlin:20260924T150000
DTEND;TZID=Europe/Berlin:20260924T154500
UID:261-7MF101-20260924T150000@VHSOVERATH/RÖSRATH
SUMMARY:MF - Musiknest Rösrath (261-7MF101) 
LOCATION:Freiherr-vom-Stein-Schulzentrum, MZR Musikschule, Freiherr-vom-Stein-Str.15, 51503 Rösrath
END:VEVENT
BEGIN:VEVENT
DTSTAMP:20260424T195714
DTSTART;TZID=Europe/Berlin:20261001T150000
DTEND;TZID=Europe/Berlin:20261001T154500
UID:261-7MF101-20261001T150000@VHSOVERATH/RÖSRATH
SUMMARY:MF - Musiknest Rösrath (261-7MF101) 
LOCATION:Freiherr-vom-Stein-Schulzentrum, MZR Musikschule, Freiherr-vom-Stein-Str.15, 51503 Rösrath
END:VEVENT
BEGIN:VEVENT
DTSTAMP:20260424T195714
DTSTART;TZID=Europe/Berlin:20261008T150000
DTEND;TZID=Europe/Berlin:20261008T154500
UID:261-7MF101-20261008T150000@VHSOVERATH/RÖSRATH
SUMMARY:MF - Musiknest Rösrath (261-7MF101) 
LOCATION:Freiherr-vom-Stein-Schulzentrum, MZR Musikschule, Freiherr-vom-Stein-Str.15, 51503 Rösrath
END:VEVENT
BEGIN:VEVENT
DTSTAMP:20260424T195714
DTSTART;TZID=Europe/Berlin:20261015T150000
DTEND;TZID=Europe/Berlin:20261015T154500
UID:261-7MF101-20261015T150000@VHSOVERATH/RÖSRATH
SUMMARY:MF - Musiknest Rösrath (261-7MF101) 
LOCATION:Freiherr-vom-Stein-Schulzentrum, MZR Musikschule, Freiherr-vom-Stein-Str.15, 51503 Rösrath
END:VEVENT
END:VCALENDAR