BEGIN:VCALENDAR
VERSION:2.0
PRODID:https://www.kufer.de/kuferweb / DE
METHOD:PUBLISH
CALSCALE:GREGORIAN
X-WR-TIMEZONE:Europe/Berlin
BEGIN:VTIMEZONE
TZID:Europe/Berlin
X-LIC-LOCATION:Europe/Berlin
BEGIN:DAYLIGHT
TZOFFSETFROM:+0100
TZOFFSETTO:+0200
TZNAME:CEST
DTSTART:19700329T020000
RRULE:FREQ=YEARLY;INTERVAL=1;BYDAY=-1SU;BYMONTH=3
END:DAYLIGHT
BEGIN:STANDARD
TZOFFSETFROM:+0200
TZOFFSETTO:+0100
TZNAME:CET
DTSTART:19701025T030000
RRULE:FREQ=YEARLY;INTERVAL=1;BYDAY=-1SU;BYMONTH=10
END:STANDARD
END:VTIMEZONE
BEGIN:VEVENT
DTSTAMP:20260424T232229
DTSTART;TZID=Europe/Berlin:20260414T151500
DTEND;TZID=Europe/Berlin:20260414T160000
UID:261-7MF102-20260414T151500@VHSOVERATH/RÖSRATH
SUMMARY:MF - Musiknest Overath (261-7MF102) 
LOCATION:VHS-Studienhaus, Raum 7, Schulstraße 15, 51491 Overath
END:VEVENT
BEGIN:VEVENT
DTSTAMP:20260424T232229
DTSTART;TZID=Europe/Berlin:20260421T151500
DTEND;TZID=Europe/Berlin:20260421T160000
UID:261-7MF102-20260421T151500@VHSOVERATH/RÖSRATH
SUMMARY:MF - Musiknest Overath (261-7MF102) 
LOCATION:VHS-Studienhaus, Raum 7, Schulstraße 15, 51491 Overath
END:VEVENT
BEGIN:VEVENT
DTSTAMP:20260424T232229
DTSTART;TZID=Europe/Berlin:20260428T151500
DTEND;TZID=Europe/Berlin:20260428T160000
UID:261-7MF102-20260428T151500@VHSOVERATH/RÖSRATH
SUMMARY:MF - Musiknest Overath (261-7MF102) 
LOCATION:VHS-Studienhaus, Raum 7, Schulstraße 15, 51491 Overath
END:VEVENT
BEGIN:VEVENT
DTSTAMP:20260424T232229
DTSTART;TZID=Europe/Berlin:20260505T151500
DTEND;TZID=Europe/Berlin:20260505T160000
UID:261-7MF102-20260505T151500@VHSOVERATH/RÖSRATH
SUMMARY:MF - Musiknest Overath (261-7MF102) 
LOCATION:VHS-Studienhaus, Raum 7, Schulstraße 15, 51491 Overath
END:VEVENT
BEGIN:VEVENT
DTSTAMP:20260424T232229
DTSTART;TZID=Europe/Berlin:20260512T151500
DTEND;TZID=Europe/Berlin:20260512T160000
UID:261-7MF102-20260512T151500@VHSOVERATH/RÖSRATH
SUMMARY:MF - Musiknest Overath (261-7MF102) 
LOCATION:VHS-Studienhaus, Raum 7, Schulstraße 15, 51491 Overath
END:VEVENT
BEGIN:VEVENT
DTSTAMP:20260424T232229
DTSTART;TZID=Europe/Berlin:20260519T151500
DTEND;TZID=Europe/Berlin:20260519T160000
UID:261-7MF102-20260519T151500@VHSOVERATH/RÖSRATH
SUMMARY:MF - Musiknest Overath (261-7MF102) 
LOCATION:VHS-Studienhaus, Raum 7, Schulstraße 15, 51491 Overath
END:VEVENT
BEGIN:VEVENT
DTSTAMP:20260424T232229
DTSTART;TZID=Europe/Berlin:20260602T151500
DTEND;TZID=Europe/Berlin:20260602T160000
UID:261-7MF102-20260602T151500@VHSOVERATH/RÖSRATH
SUMMARY:MF - Musiknest Overath (261-7MF102) 
LOCATION:VHS-Studienhaus, Raum 7, Schulstraße 15, 51491 Overath
END:VEVENT
BEGIN:VEVENT
DTSTAMP:20260424T232229
DTSTART;TZID=Europe/Berlin:20260609T151500
DTEND;TZID=Europe/Berlin:20260609T160000
UID:261-7MF102-20260609T151500@VHSOVERATH/RÖSRATH
SUMMARY:MF - Musiknest Overath (261-7MF102) 
LOCATION:VHS-Studienhaus, Raum 7, Schulstraße 15, 51491 Overath
END:VEVENT
BEGIN:VEVENT
DTSTAMP:20260424T232229
DTSTART;TZID=Europe/Berlin:20260616T151500
DTEND;TZID=Europe/Berlin:20260616T160000
UID:261-7MF102-20260616T151500@VHSOVERATH/RÖSRATH
SUMMARY:MF - Musiknest Overath (261-7MF102) 
LOCATION:VHS-Studienhaus, Raum 7, Schulstraße 15, 51491 Overath
END:VEVENT
BEGIN:VEVENT
DTSTAMP:20260424T232229
DTSTART;TZID=Europe/Berlin:20260623T151500
DTEND;TZID=Europe/Berlin:20260623T160000
UID:261-7MF102-20260623T151500@VHSOVERATH/RÖSRATH
SUMMARY:MF - Musiknest Overath (261-7MF102) 
LOCATION:VHS-Studienhaus, Raum 7, Schulstraße 15, 51491 Overath
END:VEVENT
BEGIN:VEVENT
DTSTAMP:20260424T232229
DTSTART;TZID=Europe/Berlin:20260630T151500
DTEND;TZID=Europe/Berlin:20260630T160000
UID:261-7MF102-20260630T151500@VHSOVERATH/RÖSRATH
SUMMARY:MF - Musiknest Overath (261-7MF102) 
LOCATION:VHS-Studienhaus, Raum 7, Schulstraße 15, 51491 Overath
END:VEVENT
BEGIN:VEVENT
DTSTAMP:20260424T232229
DTSTART;TZID=Europe/Berlin:20260707T151500
DTEND;TZID=Europe/Berlin:20260707T160000
UID:261-7MF102-20260707T151500@VHSOVERATH/RÖSRATH
SUMMARY:MF - Musiknest Overath (261-7MF102) 
LOCATION:VHS-Studienhaus, Raum 7, Schulstraße 15, 51491 Overath
END:VEVENT
BEGIN:VEVENT
DTSTAMP:20260424T232229
DTSTART;TZID=Europe/Berlin:20260714T151500
DTEND;TZID=Europe/Berlin:20260714T160000
UID:261-7MF102-20260714T151500@VHSOVERATH/RÖSRATH
SUMMARY:MF - Musiknest Overath (261-7MF102) 
LOCATION:VHS-Studienhaus, Raum 7, Schulstraße 15, 51491 Overath
END:VEVENT
BEGIN:VEVENT
DTSTAMP:20260424T232229
DTSTART;TZID=Europe/Berlin:20260908T151500
DTEND;TZID=Europe/Berlin:20260908T160000
UID:261-7MF102-20260908T151500@VHSOVERATH/RÖSRATH
SUMMARY:MF - Musiknest Overath (261-7MF102) 
LOCATION:VHS-Studienhaus, Raum 7, Schulstraße 15, 51491 Overath
END:VEVENT
BEGIN:VEVENT
DTSTAMP:20260424T232229
DTSTART;TZID=Europe/Berlin:20260915T151500
DTEND;TZID=Europe/Berlin:20260915T160000
UID:261-7MF102-20260915T151500@VHSOVERATH/RÖSRATH
SUMMARY:MF - Musiknest Overath (261-7MF102) 
LOCATION:VHS-Studienhaus, Raum 7, Schulstraße 15, 51491 Overath
END:VEVENT
BEGIN:VEVENT
DTSTAMP:20260424T232229
DTSTART;TZID=Europe/Berlin:20260922T151500
DTEND;TZID=Europe/Berlin:20260922T160000
UID:261-7MF102-20260922T151500@VHSOVERATH/RÖSRATH
SUMMARY:MF - Musiknest Overath (261-7MF102) 
LOCATION:VHS-Studienhaus, Raum 7, Schulstraße 15, 51491 Overath
END:VEVENT
BEGIN:VEVENT
DTSTAMP:20260424T232229
DTSTART;TZID=Europe/Berlin:20260929T151500
DTEND;TZID=Europe/Berlin:20260929T160000
UID:261-7MF102-20260929T151500@VHSOVERATH/RÖSRATH
SUMMARY:MF - Musiknest Overath (261-7MF102) 
LOCATION:VHS-Studienhaus, Raum 7, Schulstraße 15, 51491 Overath
END:VEVENT
BEGIN:VEVENT
DTSTAMP:20260424T232229
DTSTART;TZID=Europe/Berlin:20261006T151500
DTEND;TZID=Europe/Berlin:20261006T160000
UID:261-7MF102-20261006T151500@VHSOVERATH/RÖSRATH
SUMMARY:MF - Musiknest Overath (261-7MF102) 
LOCATION:VHS-Studienhaus, Raum 7, Schulstraße 15, 51491 Overath
END:VEVENT
BEGIN:VEVENT
DTSTAMP:20260424T232229
DTSTART;TZID=Europe/Berlin:20261013T151500
DTEND;TZID=Europe/Berlin:20261013T160000
UID:261-7MF102-20261013T151500@VHSOVERATH/RÖSRATH
SUMMARY:MF - Musiknest Overath (261-7MF102) 
LOCATION:VHS-Studienhaus, Raum 7, Schulstraße 15, 51491 Overath
END:VEVENT
END:VCALENDAR